BEGIN:VCALENDAR
VERSION:2.0
PRODID:-//Sugar-Free Mom Courses - ECPv6.15.20//NONSGML v1.0//EN
CALSCALE:GREGORIAN
METHOD:PUBLISH
X-ORIGINAL-URL:https://sugarfreemomtribe.com
X-WR-CALDESC:Events for Sugar-Free Mom Courses
REFRESH-INTERVAL;VALUE=DURATION:PT1H
X-Robots-Tag:noindex
X-PUBLISHED-TTL:PT1H
BEGIN:VTIMEZONE
TZID:America/New_York
BEGIN:DAYLIGHT
TZOFFSETFROM:-0500
TZOFFSETTO:-0400
TZNAME:EDT
DTSTART:20240310T070000
END:DAYLIGHT
BEGIN:STANDARD
TZOFFSETFROM:-0400
TZOFFSETTO:-0500
TZNAME:EST
DTSTART:20241103T060000
END:STANDARD
BEGIN:DAYLIGHT
TZOFFSETFROM:-0500
TZOFFSETTO:-0400
TZNAME:EDT
DTSTART:20250309T070000
END:DAYLIGHT
BEGIN:STANDARD
TZOFFSETFROM:-0400
TZOFFSETTO:-0500
TZNAME:EST
DTSTART:20251102T060000
END:STANDARD
BEGIN:DAYLIGHT
TZOFFSETFROM:-0500
TZOFFSETTO:-0400
TZNAME:EDT
DTSTART:20260308T070000
END:DAYLIGHT
BEGIN:STANDARD
TZOFFSETFROM:-0400
TZOFFSETTO:-0500
TZNAME:EST
DTSTART:20261101T060000
END:STANDARD
END:VTIMEZONE
BEGIN:VEVENT
DTSTART;TZID=America/New_York:20251210T190000
DTEND;TZID=America/New_York:20251210T200000
DTSTAMP:20260419T150304
CREATED:20240404T165658Z
LAST-MODIFIED:20251206T133232Z
UID:10000380-1765393200-1765396800@sugarfreemomtribe.com
SUMMARY:Weekly Coaching with Brenda
DESCRIPTION:https://zoom.us/j/97447023403?pwd=T1dxQ0VJNGlBSVBUTUM1VFppNzFHUT09
URL:https://sugarfreemomtribe.com/event/weekly-coaching-with-brenda-2-2/2025-12-10/
LOCATION:Zoom
END:VEVENT
END:VCALENDAR