BEGIN:VCALENDAR
VERSION:2.0
PRODID:-//Sugar-Free Mom Courses - ECPv6.15.20//NONSGML v1.0//EN
CALSCALE:GREGORIAN
METHOD:PUBLISH
X-ORIGINAL-URL:https://sugarfreemomtribe.com
X-WR-CALDESC:Events for Sugar-Free Mom Courses
REFRESH-INTERVAL;VALUE=DURATION:PT1H
X-Robots-Tag:noindex
X-PUBLISHED-TTL:PT1H
BEGIN:VTIMEZONE
TZID:America/New_York
BEGIN:DAYLIGHT
TZOFFSETFROM:-0500
TZOFFSETTO:-0400
TZNAME:EDT
DTSTART:20250309T070000
END:DAYLIGHT
BEGIN:STANDARD
TZOFFSETFROM:-0400
TZOFFSETTO:-0500
TZNAME:EST
DTSTART:20251102T060000
END:STANDARD
BEGIN:DAYLIGHT
TZOFFSETFROM:-0500
TZOFFSETTO:-0400
TZNAME:EDT
DTSTART:20260308T070000
END:DAYLIGHT
BEGIN:STANDARD
TZOFFSETFROM:-0400
TZOFFSETTO:-0500
TZNAME:EST
DTSTART:20261101T060000
END:STANDARD
BEGIN:DAYLIGHT
TZOFFSETFROM:-0500
TZOFFSETTO:-0400
TZNAME:EDT
DTSTART:20270314T070000
END:DAYLIGHT
BEGIN:STANDARD
TZOFFSETFROM:-0400
TZOFFSETTO:-0500
TZNAME:EST
DTSTART:20271107T060000
END:STANDARD
END:VTIMEZONE
BEGIN:VEVENT
DTSTART;TZID=America/New_York:20260509T100000
DTEND;TZID=America/New_York:20260509T110000
DTSTAMP:20260419T100631
CREATED:20260408T082601Z
LAST-MODIFIED:20260410T154122Z
UID:10002760-1778320800-1778324400@sugarfreemomtribe.com
SUMMARY:Skills Application Hour
DESCRIPTION:Description: Join this monthly hour to take the skills we’ve learned in the SFM programs and explore how to apply them in real-life. Expect a relaxed hour of fun\, interaction and community support. \nJoin Zoom Meeting\nhttps://us06web.zoom.us/j/86391601448?pwd=RfuXtvfzPa3DsBitedCgkIJbIxnSTg.1 \nMeeting ID: 863 9160 1448\nPasscode: 287520 \n— \nOne tap mobile\n+16469313860\,\,86391601448#\,\,\,\,*287520# US\n+19292056099\,\,86391601448#\,\,\,\,*287520# US (New York) \nJoin instructions\nhttps://us06web.zoom.us/meetings/86391601448/invitations?signature=3I0UlgG4jLx1yNKLj_GshRn0J-lyAj7gk1r9WzdeNRs \n 
URL:https://sugarfreemomtribe.com/event/skills-application-hour-may-2026/
LOCATION:Zoom
END:VEVENT
BEGIN:VEVENT
DTSTART;TZID=America/New_York:20260509T120000
DTEND;TZID=America/New_York:20260509T123000
DTSTAMP:20260419T100631
CREATED:20260317T090324Z
LAST-MODIFIED:20260410T154358Z
UID:10002498-1778328000-1778329800@sugarfreemomtribe.com
SUMMARY:New Member Q & A
DESCRIPTION:Description: New to the SFM Tribe membership? You’ve come to the right place. Stop by for some or all of this 30 min Zoom every second Saturday of the month to get your questions answered.* \nCan’t make it? You can always:\n– email coursesupport@sugarfreemom.com\n– attend one of the other live member Zoom meetings\n– post in the private FB Tribe group.\n*subject to change during holidays and vacations \nJoin Zoom Meeting\nhttps://us06web.zoom.us/j/89829283596?pwd=TG0xV0UwR2pGTUMrWTMvMWxjanpwdz09 \nMeeting ID: 898 2928 3596\nPasscode: 543602 \n— \nOne tap mobile\n+13017158592\,\,89829283596#\,\,\,\,*543602# US (Washington DC)\n+13052241968\,\,89829283596#\,\,\,\,*543602# US \n— \nDial by your location\n• +1 301 715 8592 US (Washington DC)\n• +1 305 224 1968 US\n• +1 309 205 3325 US\n• +1 312 626 6799 US (Chicago)\n• +1 646 931 3860 US\n• +1 929 205 6099 US (New York)\n• +1 360 209 5623 US\n• +1 386 347 5053 US\n• +1 507 473 4847 US\n• +1 564 217 2000 US\n• +1 669 444 9171 US\n• +1 669 900 6833 US (San Jose)\n• +1 689 278 1000 US\n• +1 719 359 4580 US\n• +1 253 205 0468 US\n• +1 253 215 8782 US (Tacoma)\n• +1 346 248 7799 US (Houston) \nMeeting ID: 898 2928 3596\nPasscode: 543602 \nFind your local number: https://us06web.zoom.us/u/kcHBCaLFuj \nJoin instructions\nhttps://us06web.zoom.us/meetings/89829283596/invitations?signature=hWapOeBtLqDoMZjpptN8D0Cl53kFaq1aOyoORf8r0jQ
URL:https://sugarfreemomtribe.com/event/new-member-meeting-may-2026/
LOCATION:Zoom
END:VEVENT
END:VCALENDAR