BEGIN:VCALENDAR
VERSION:2.0
PRODID:-//Sugar-Free Mom Courses - ECPv6.15.20//NONSGML v1.0//EN
CALSCALE:GREGORIAN
METHOD:PUBLISH
X-WR-CALNAME:Sugar-Free Mom Courses
X-ORIGINAL-URL:https://sugarfreemomtribe.com
X-WR-CALDESC:Events for Sugar-Free Mom Courses
REFRESH-INTERVAL;VALUE=DURATION:PT1H
X-Robots-Tag:noindex
X-PUBLISHED-TTL:PT1H
BEGIN:VTIMEZONE
TZID:America/New_York
BEGIN:DAYLIGHT
TZOFFSETFROM:-0500
TZOFFSETTO:-0400
TZNAME:EDT
DTSTART:20230312T070000
END:DAYLIGHT
BEGIN:STANDARD
TZOFFSETFROM:-0400
TZOFFSETTO:-0500
TZNAME:EST
DTSTART:20231105T060000
END:STANDARD
BEGIN:DAYLIGHT
TZOFFSETFROM:-0500
TZOFFSETTO:-0400
TZNAME:EDT
DTSTART:20240310T070000
END:DAYLIGHT
BEGIN:STANDARD
TZOFFSETFROM:-0400
TZOFFSETTO:-0500
TZNAME:EST
DTSTART:20241103T060000
END:STANDARD
BEGIN:DAYLIGHT
TZOFFSETFROM:-0500
TZOFFSETTO:-0400
TZNAME:EDT
DTSTART:20250309T070000
END:DAYLIGHT
BEGIN:STANDARD
TZOFFSETFROM:-0400
TZOFFSETTO:-0500
TZNAME:EST
DTSTART:20251102T060000
END:STANDARD
END:VTIMEZONE
BEGIN:VEVENT
DTSTART;TZID=America/New_York:20240401T210000
DTEND;TZID=America/New_York:20240401T213000
DTSTAMP:20260420T221242
CREATED:20240321T093956Z
LAST-MODIFIED:20240515T075240Z
UID:10000032-1712005200-1712007000@sugarfreemomtribe.com
SUMMARY:Accountability Meeting with Angie
DESCRIPTION:https://us06web.zoom.us/j/85391532928?pwd=bHZsak9uSWJhK0ZkdkhlTTc2cy9sZz09
URL:https://sugarfreemomtribe.com/event/accountability-meeting-with-angie-2/2024-04-01/
LOCATION:Zoom
END:VEVENT
BEGIN:VEVENT
DTSTART;TZID=America/New_York:20240403T190000
DTEND;TZID=America/New_York:20240403T200000
DTSTAMP:20260420T221242
CREATED:20240321T094208Z
LAST-MODIFIED:20240321T094208Z
UID:10000292-1712170800-1712174400@sugarfreemomtribe.com
SUMMARY:Weekly Coaching with Brenda
DESCRIPTION:https://zoom.us/j/97447023403?pwd=T1dxQ0VJNGlBSVBUTUM1VFppNzFHUT09
URL:https://sugarfreemomtribe.com/event/weekly-coaching-with-brenda-2/
LOCATION:Zoom
END:VEVENT
BEGIN:VEVENT
DTSTART;TZID=America/New_York:20240404T113000
DTEND;TZID=America/New_York:20240404T120000
DTSTAMP:20260420T221242
CREATED:20240321T094400Z
LAST-MODIFIED:20240611T152100Z
UID:10000552-1712230200-1712232000@sugarfreemomtribe.com
SUMMARY:Weekly Midday Check-in
DESCRIPTION:https://us06web.zoom.us/j/87450490256?pwd=F6S73gtFtF9nBtPDinqGjf5I3MhN5c.1
URL:https://sugarfreemomtribe.com/event/weekly-midday-check-in-2/2024-04-04/
LOCATION:Zoom
END:VEVENT
BEGIN:VEVENT
DTSTART;TZID=America/New_York:20240404T190000
DTEND;TZID=America/New_York:20240404T200000
DTSTAMP:20260420T221242
CREATED:20240321T093436Z
LAST-MODIFIED:20240321T093635Z
UID:10000030-1712257200-1712260800@sugarfreemomtribe.com
SUMMARY:Monthly Maintenance Meeting
DESCRIPTION:https://us06web.zoom.us/j/83833319167?pwd=teWDbxvH1qAlws5WKfGYq4GgtFQdrh.1
URL:https://sugarfreemomtribe.com/event/monthly-maintenance-meeting-apr-24/
LOCATION:Zoom
END:VEVENT
BEGIN:VEVENT
DTSTART;TZID=America/New_York:20240405T100000
DTEND;TZID=America/New_York:20240405T103000
DTSTAMP:20260420T221242
CREATED:20240321T094553Z
LAST-MODIFIED:20240321T094553Z
UID:10000811-1712311200-1712313000@sugarfreemomtribe.com
SUMMARY:Goal Setting with Angie
DESCRIPTION:https://us06web.zoom.us/j/89067200243?pwd=ZUdQUmxYVTVQc2VHREZNUmgvclJZdz09
URL:https://sugarfreemomtribe.com/event/goal-setting-with-angie-2/2024-04-05/
LOCATION:Zoom
END:VEVENT
BEGIN:VEVENT
DTSTART;TZID=America/New_York:20240408T210000
DTEND;TZID=America/New_York:20240408T213000
DTSTAMP:20260420T221242
CREATED:20240321T093956Z
LAST-MODIFIED:20240515T075240Z
UID:10000033-1712610000-1712611800@sugarfreemomtribe.com
SUMMARY:Accountability Meeting with Angie
DESCRIPTION:https://us06web.zoom.us/j/85391532928?pwd=bHZsak9uSWJhK0ZkdkhlTTc2cy9sZz09
URL:https://sugarfreemomtribe.com/event/accountability-meeting-with-angie-2/2024-04-08/
LOCATION:Zoom
END:VEVENT
BEGIN:VEVENT
DTSTART;TZID=America/New_York:20240410T190000
DTEND;TZID=America/New_York:20240410T200000
DTSTAMP:20260420T221242
CREATED:20240404T165658Z
LAST-MODIFIED:20251206T133232Z
UID:10000293-1712775600-1712779200@sugarfreemomtribe.com
SUMMARY:Weekly Coaching with Brenda
DESCRIPTION:https://zoom.us/j/97447023403?pwd=T1dxQ0VJNGlBSVBUTUM1VFppNzFHUT09
URL:https://sugarfreemomtribe.com/event/weekly-coaching-with-brenda-2-2/2024-04-10/
LOCATION:Zoom
END:VEVENT
BEGIN:VEVENT
DTSTART;TZID=America/New_York:20240411T113000
DTEND;TZID=America/New_York:20240411T120000
DTSTAMP:20260420T221242
CREATED:20240321T094400Z
LAST-MODIFIED:20240611T152100Z
UID:10000553-1712835000-1712836800@sugarfreemomtribe.com
SUMMARY:Weekly Midday Check-in
DESCRIPTION:https://us06web.zoom.us/j/87450490256?pwd=F6S73gtFtF9nBtPDinqGjf5I3MhN5c.1
URL:https://sugarfreemomtribe.com/event/weekly-midday-check-in-2/2024-04-11/
LOCATION:Zoom
END:VEVENT
BEGIN:VEVENT
DTSTART;TZID=America/New_York:20240412T100000
DTEND;TZID=America/New_York:20240412T103000
DTSTAMP:20260420T221242
CREATED:20240321T094553Z
LAST-MODIFIED:20240321T094553Z
UID:10000812-1712916000-1712917800@sugarfreemomtribe.com
SUMMARY:Goal Setting with Angie
DESCRIPTION:https://us06web.zoom.us/j/89067200243?pwd=ZUdQUmxYVTVQc2VHREZNUmgvclJZdz09
URL:https://sugarfreemomtribe.com/event/goal-setting-with-angie-2/2024-04-12/
LOCATION:Zoom
END:VEVENT
BEGIN:VEVENT
DTSTART;TZID=America/New_York:20240415T210000
DTEND;TZID=America/New_York:20240415T213000
DTSTAMP:20260420T221242
CREATED:20240321T093956Z
LAST-MODIFIED:20240515T075240Z
UID:10000034-1713214800-1713216600@sugarfreemomtribe.com
SUMMARY:Accountability Meeting with Angie
DESCRIPTION:https://us06web.zoom.us/j/85391532928?pwd=bHZsak9uSWJhK0ZkdkhlTTc2cy9sZz09
URL:https://sugarfreemomtribe.com/event/accountability-meeting-with-angie-2/2024-04-15/
LOCATION:Zoom
END:VEVENT
BEGIN:VEVENT
DTSTART;TZID=America/New_York:20240417T190000
DTEND;TZID=America/New_York:20240417T200000
DTSTAMP:20260420T221242
CREATED:20240404T165658Z
LAST-MODIFIED:20251206T133232Z
UID:10000294-1713380400-1713384000@sugarfreemomtribe.com
SUMMARY:Weekly Coaching with Brenda
DESCRIPTION:https://zoom.us/j/97447023403?pwd=T1dxQ0VJNGlBSVBUTUM1VFppNzFHUT09
URL:https://sugarfreemomtribe.com/event/weekly-coaching-with-brenda-2-2/2024-04-17/
LOCATION:Zoom
END:VEVENT
BEGIN:VEVENT
DTSTART;TZID=America/New_York:20240418T113000
DTEND;TZID=America/New_York:20240418T120000
DTSTAMP:20260420T221242
CREATED:20240321T094400Z
LAST-MODIFIED:20240611T152100Z
UID:10000554-1713439800-1713441600@sugarfreemomtribe.com
SUMMARY:Weekly Midday Check-in
DESCRIPTION:https://us06web.zoom.us/j/87450490256?pwd=F6S73gtFtF9nBtPDinqGjf5I3MhN5c.1
URL:https://sugarfreemomtribe.com/event/weekly-midday-check-in-2/2024-04-18/
LOCATION:Zoom
END:VEVENT
BEGIN:VEVENT
DTSTART;TZID=America/New_York:20240419T100000
DTEND;TZID=America/New_York:20240419T103000
DTSTAMP:20260420T221242
CREATED:20240321T094553Z
LAST-MODIFIED:20240321T094553Z
UID:10000813-1713520800-1713522600@sugarfreemomtribe.com
SUMMARY:Goal Setting with Angie
DESCRIPTION:https://us06web.zoom.us/j/89067200243?pwd=ZUdQUmxYVTVQc2VHREZNUmgvclJZdz09
URL:https://sugarfreemomtribe.com/event/goal-setting-with-angie-2/2024-04-19/
LOCATION:Zoom
END:VEVENT
BEGIN:VEVENT
DTSTART;TZID=America/New_York:20240422T200000
DTEND;TZID=America/New_York:20240422T210000
DTSTAMP:20260420T221242
CREATED:20240321T093541Z
LAST-MODIFIED:20240321T093541Z
UID:10000031-1713816000-1713819600@sugarfreemomtribe.com
SUMMARY:New Member Meeting
DESCRIPTION:https://us06web.zoom.us/j/89829283596?pwd=TG0xV0UwR2pGTUMrWTMvMWxjanpwdz09
URL:https://sugarfreemomtribe.com/event/new-member-meeting-apr-24/
LOCATION:Zoom
END:VEVENT
BEGIN:VEVENT
DTSTART;TZID=America/New_York:20240422T210000
DTEND;TZID=America/New_York:20240422T213000
DTSTAMP:20260420T221242
CREATED:20240321T093956Z
LAST-MODIFIED:20240515T075240Z
UID:10000035-1713819600-1713821400@sugarfreemomtribe.com
SUMMARY:Accountability Meeting with Angie
DESCRIPTION:https://us06web.zoom.us/j/85391532928?pwd=bHZsak9uSWJhK0ZkdkhlTTc2cy9sZz09
URL:https://sugarfreemomtribe.com/event/accountability-meeting-with-angie-2/2024-04-22/
LOCATION:Zoom
END:VEVENT
BEGIN:VEVENT
DTSTART;TZID=America/New_York:20240424T190000
DTEND;TZID=America/New_York:20240424T200000
DTSTAMP:20260420T221242
CREATED:20240404T165658Z
LAST-MODIFIED:20251206T133232Z
UID:10000295-1713985200-1713988800@sugarfreemomtribe.com
SUMMARY:Weekly Coaching with Brenda
DESCRIPTION:https://zoom.us/j/97447023403?pwd=T1dxQ0VJNGlBSVBUTUM1VFppNzFHUT09
URL:https://sugarfreemomtribe.com/event/weekly-coaching-with-brenda-2-2/2024-04-24/
LOCATION:Zoom
END:VEVENT
BEGIN:VEVENT
DTSTART;TZID=America/New_York:20240425T113000
DTEND;TZID=America/New_York:20240425T120000
DTSTAMP:20260420T221242
CREATED:20240321T094400Z
LAST-MODIFIED:20240611T152100Z
UID:10000555-1714044600-1714046400@sugarfreemomtribe.com
SUMMARY:Weekly Midday Check-in
DESCRIPTION:https://us06web.zoom.us/j/87450490256?pwd=F6S73gtFtF9nBtPDinqGjf5I3MhN5c.1
URL:https://sugarfreemomtribe.com/event/weekly-midday-check-in-2/2024-04-25/
LOCATION:Zoom
END:VEVENT
BEGIN:VEVENT
DTSTART;TZID=America/New_York:20240426T100000
DTEND;TZID=America/New_York:20240426T103000
DTSTAMP:20260420T221242
CREATED:20240321T094553Z
LAST-MODIFIED:20240321T094553Z
UID:10000814-1714125600-1714127400@sugarfreemomtribe.com
SUMMARY:Goal Setting with Angie
DESCRIPTION:https://us06web.zoom.us/j/89067200243?pwd=ZUdQUmxYVTVQc2VHREZNUmgvclJZdz09
URL:https://sugarfreemomtribe.com/event/goal-setting-with-angie-2/2024-04-26/
LOCATION:Zoom
END:VEVENT
BEGIN:VEVENT
DTSTART;TZID=America/New_York:20240429T210000
DTEND;TZID=America/New_York:20240429T213000
DTSTAMP:20260420T221242
CREATED:20240321T093956Z
LAST-MODIFIED:20240515T075240Z
UID:10000036-1714424400-1714426200@sugarfreemomtribe.com
SUMMARY:Accountability Meeting with Angie
DESCRIPTION:https://us06web.zoom.us/j/85391532928?pwd=bHZsak9uSWJhK0ZkdkhlTTc2cy9sZz09
URL:https://sugarfreemomtribe.com/event/accountability-meeting-with-angie-2/2024-04-29/
LOCATION:Zoom
END:VEVENT
END:VCALENDAR