BEGIN:VCALENDAR
VERSION:2.0
PRODID:-//Sugar-Free Mom Courses - ECPv6.15.20//NONSGML v1.0//EN
CALSCALE:GREGORIAN
METHOD:PUBLISH
X-WR-CALNAME:Sugar-Free Mom Courses
X-ORIGINAL-URL:https://sugarfreemomtribe.com
X-WR-CALDESC:Events for Sugar-Free Mom Courses
REFRESH-INTERVAL;VALUE=DURATION:PT1H
X-Robots-Tag:noindex
X-PUBLISHED-TTL:PT1H
BEGIN:VTIMEZONE
TZID:America/New_York
BEGIN:DAYLIGHT
TZOFFSETFROM:-0500
TZOFFSETTO:-0400
TZNAME:EDT
DTSTART:20230312T070000
END:DAYLIGHT
BEGIN:STANDARD
TZOFFSETFROM:-0400
TZOFFSETTO:-0500
TZNAME:EST
DTSTART:20231105T060000
END:STANDARD
BEGIN:DAYLIGHT
TZOFFSETFROM:-0500
TZOFFSETTO:-0400
TZNAME:EDT
DTSTART:20240310T070000
END:DAYLIGHT
BEGIN:STANDARD
TZOFFSETFROM:-0400
TZOFFSETTO:-0500
TZNAME:EST
DTSTART:20241103T060000
END:STANDARD
BEGIN:DAYLIGHT
TZOFFSETFROM:-0500
TZOFFSETTO:-0400
TZNAME:EDT
DTSTART:20250309T070000
END:DAYLIGHT
BEGIN:STANDARD
TZOFFSETFROM:-0400
TZOFFSETTO:-0500
TZNAME:EST
DTSTART:20251102T060000
END:STANDARD
END:VTIMEZONE
BEGIN:VEVENT
DTSTART;TZID=America/New_York:20240501T190000
DTEND;TZID=America/New_York:20240501T200000
DTSTAMP:20260420T204020
CREATED:20240404T165658Z
LAST-MODIFIED:20251206T133232Z
UID:10000296-1714590000-1714593600@sugarfreemomtribe.com
SUMMARY:Weekly Coaching with Brenda
DESCRIPTION:https://zoom.us/j/97447023403?pwd=T1dxQ0VJNGlBSVBUTUM1VFppNzFHUT09
URL:https://sugarfreemomtribe.com/event/weekly-coaching-with-brenda-2-2/2024-05-01/
LOCATION:Zoom
END:VEVENT
BEGIN:VEVENT
DTSTART;TZID=America/New_York:20240502T113000
DTEND;TZID=America/New_York:20240502T120000
DTSTAMP:20260420T204020
CREATED:20240321T094400Z
LAST-MODIFIED:20240611T152100Z
UID:10000556-1714649400-1714651200@sugarfreemomtribe.com
SUMMARY:Weekly Midday Check-in
DESCRIPTION:https://us06web.zoom.us/j/87450490256?pwd=F6S73gtFtF9nBtPDinqGjf5I3MhN5c.1
URL:https://sugarfreemomtribe.com/event/weekly-midday-check-in-2/2024-05-02/
LOCATION:Zoom
END:VEVENT
BEGIN:VEVENT
DTSTART;TZID=America/New_York:20240503T100000
DTEND;TZID=America/New_York:20240503T103000
DTSTAMP:20260420T204020
CREATED:20240321T094553Z
LAST-MODIFIED:20240321T094553Z
UID:10000815-1714730400-1714732200@sugarfreemomtribe.com
SUMMARY:Goal Setting with Angie
DESCRIPTION:https://us06web.zoom.us/j/89067200243?pwd=ZUdQUmxYVTVQc2VHREZNUmgvclJZdz09
URL:https://sugarfreemomtribe.com/event/goal-setting-with-angie-2/2024-05-03/
LOCATION:Zoom
END:VEVENT
BEGIN:VEVENT
DTSTART;TZID=America/New_York:20240506T210000
DTEND;TZID=America/New_York:20240506T213000
DTSTAMP:20260420T204020
CREATED:20240321T093956Z
LAST-MODIFIED:20240515T075240Z
UID:10000037-1715029200-1715031000@sugarfreemomtribe.com
SUMMARY:Accountability Meeting with Angie
DESCRIPTION:https://us06web.zoom.us/j/85391532928?pwd=bHZsak9uSWJhK0ZkdkhlTTc2cy9sZz09
URL:https://sugarfreemomtribe.com/event/accountability-meeting-with-angie-2/2024-05-06/
LOCATION:Zoom
END:VEVENT
BEGIN:VEVENT
DTSTART;TZID=America/New_York:20240508T190000
DTEND;TZID=America/New_York:20240508T200000
DTSTAMP:20260420T204020
CREATED:20240404T165658Z
LAST-MODIFIED:20251206T133232Z
UID:10000297-1715194800-1715198400@sugarfreemomtribe.com
SUMMARY:Weekly Coaching with Brenda
DESCRIPTION:https://zoom.us/j/97447023403?pwd=T1dxQ0VJNGlBSVBUTUM1VFppNzFHUT09
URL:https://sugarfreemomtribe.com/event/weekly-coaching-with-brenda-2-2/2024-05-08/
LOCATION:Zoom
END:VEVENT
BEGIN:VEVENT
DTSTART;TZID=America/New_York:20240509T113000
DTEND;TZID=America/New_York:20240509T120000
DTSTAMP:20260420T204020
CREATED:20240321T094400Z
LAST-MODIFIED:20240611T152100Z
UID:10000557-1715254200-1715256000@sugarfreemomtribe.com
SUMMARY:Weekly Midday Check-in
DESCRIPTION:https://us06web.zoom.us/j/87450490256?pwd=F6S73gtFtF9nBtPDinqGjf5I3MhN5c.1
URL:https://sugarfreemomtribe.com/event/weekly-midday-check-in-2/2024-05-09/
LOCATION:Zoom
END:VEVENT
BEGIN:VEVENT
DTSTART;TZID=America/New_York:20240509T190000
DTEND;TZID=America/New_York:20240509T200000
DTSTAMP:20260420T204020
CREATED:20240415T081229Z
LAST-MODIFIED:20240415T081229Z
UID:10001072-1715281200-1715284800@sugarfreemomtribe.com
SUMMARY:Monthly Maintenance Meeting
DESCRIPTION:https://us06web.zoom.us/j/83833319167?pwd=teWDbxvH1qAlws5WKfGYq4GgtFQdrh.1
URL:https://sugarfreemomtribe.com/event/monthly-maintenance-meeting-may-2024/
LOCATION:Zoom
END:VEVENT
BEGIN:VEVENT
DTSTART;TZID=America/New_York:20240510T100000
DTEND;TZID=America/New_York:20240510T103000
DTSTAMP:20260420T204020
CREATED:20240321T094553Z
LAST-MODIFIED:20240321T094553Z
UID:10000816-1715335200-1715337000@sugarfreemomtribe.com
SUMMARY:Goal Setting with Angie
DESCRIPTION:https://us06web.zoom.us/j/89067200243?pwd=ZUdQUmxYVTVQc2VHREZNUmgvclJZdz09
URL:https://sugarfreemomtribe.com/event/goal-setting-with-angie-2/2024-05-10/
LOCATION:Zoom
END:VEVENT
BEGIN:VEVENT
DTSTART;TZID=America/New_York:20240513T210000
DTEND;TZID=America/New_York:20240513T213000
DTSTAMP:20260420T204020
CREATED:20240321T093956Z
LAST-MODIFIED:20240515T075240Z
UID:10000038-1715634000-1715635800@sugarfreemomtribe.com
SUMMARY:Accountability Meeting with Angie
DESCRIPTION:https://us06web.zoom.us/j/85391532928?pwd=bHZsak9uSWJhK0ZkdkhlTTc2cy9sZz09
URL:https://sugarfreemomtribe.com/event/accountability-meeting-with-angie-2/2024-05-13/
LOCATION:Zoom
END:VEVENT
BEGIN:VEVENT
DTSTART;TZID=America/New_York:20240515T190000
DTEND;TZID=America/New_York:20240515T200000
DTSTAMP:20260420T204020
CREATED:20240404T165658Z
LAST-MODIFIED:20251206T133232Z
UID:10000298-1715799600-1715803200@sugarfreemomtribe.com
SUMMARY:Weekly Coaching with Brenda
DESCRIPTION:https://zoom.us/j/97447023403?pwd=T1dxQ0VJNGlBSVBUTUM1VFppNzFHUT09
URL:https://sugarfreemomtribe.com/event/weekly-coaching-with-brenda-2-2/2024-05-15/
LOCATION:Zoom
END:VEVENT
BEGIN:VEVENT
DTSTART;TZID=America/New_York:20240516T113000
DTEND;TZID=America/New_York:20240516T120000
DTSTAMP:20260420T204020
CREATED:20240321T094400Z
LAST-MODIFIED:20240611T152100Z
UID:10000558-1715859000-1715860800@sugarfreemomtribe.com
SUMMARY:Weekly Midday Check-in
DESCRIPTION:https://us06web.zoom.us/j/87450490256?pwd=F6S73gtFtF9nBtPDinqGjf5I3MhN5c.1
URL:https://sugarfreemomtribe.com/event/weekly-midday-check-in-2/2024-05-16/
LOCATION:Zoom
END:VEVENT
BEGIN:VEVENT
DTSTART;TZID=America/New_York:20240517T100000
DTEND;TZID=America/New_York:20240517T103000
DTSTAMP:20260420T204020
CREATED:20240321T094553Z
LAST-MODIFIED:20240321T094553Z
UID:10000817-1715940000-1715941800@sugarfreemomtribe.com
SUMMARY:Goal Setting with Angie
DESCRIPTION:https://us06web.zoom.us/j/89067200243?pwd=ZUdQUmxYVTVQc2VHREZNUmgvclJZdz09
URL:https://sugarfreemomtribe.com/event/goal-setting-with-angie-2/2024-05-17/
LOCATION:Zoom
END:VEVENT
BEGIN:VEVENT
DTSTART;TZID=America/New_York:20240520T210000
DTEND;TZID=America/New_York:20240520T213000
DTSTAMP:20260420T204020
CREATED:20240516T050810Z
LAST-MODIFIED:20240722T080227Z
UID:10000039-1716238800-1716240600@sugarfreemomtribe.com
SUMMARY:Accountability Meeting with Angie
DESCRIPTION:https://us06web.zoom.us/j/83335715890?pwd=0vXdy517DUdrn6BHsn6Ebe1kJdaixM.1
URL:https://sugarfreemomtribe.com/event/accountability-meeting-with-angie-2-2/2024-05-20/
LOCATION:Zoom
END:VEVENT
BEGIN:VEVENT
DTSTART;TZID=America/New_York:20240522T190000
DTEND;TZID=America/New_York:20240522T200000
DTSTAMP:20260420T204020
CREATED:20240404T165658Z
LAST-MODIFIED:20251206T133232Z
UID:10000299-1716404400-1716408000@sugarfreemomtribe.com
SUMMARY:Weekly Coaching with Brenda
DESCRIPTION:https://zoom.us/j/97447023403?pwd=T1dxQ0VJNGlBSVBUTUM1VFppNzFHUT09
URL:https://sugarfreemomtribe.com/event/weekly-coaching-with-brenda-2-2/2024-05-22/
LOCATION:Zoom
END:VEVENT
BEGIN:VEVENT
DTSTART;TZID=America/New_York:20240523T113000
DTEND;TZID=America/New_York:20240523T120000
DTSTAMP:20260420T204020
CREATED:20240321T094400Z
LAST-MODIFIED:20240611T152100Z
UID:10000559-1716463800-1716465600@sugarfreemomtribe.com
SUMMARY:Weekly Midday Check-in
DESCRIPTION:https://us06web.zoom.us/j/87450490256?pwd=F6S73gtFtF9nBtPDinqGjf5I3MhN5c.1
URL:https://sugarfreemomtribe.com/event/weekly-midday-check-in-2/2024-05-23/
LOCATION:Zoom
END:VEVENT
BEGIN:VEVENT
DTSTART;TZID=America/New_York:20240524T100000
DTEND;TZID=America/New_York:20240524T103000
DTSTAMP:20260420T204020
CREATED:20240321T094553Z
LAST-MODIFIED:20240321T094553Z
UID:10000818-1716544800-1716546600@sugarfreemomtribe.com
SUMMARY:Goal Setting with Angie
DESCRIPTION:https://us06web.zoom.us/j/89067200243?pwd=ZUdQUmxYVTVQc2VHREZNUmgvclJZdz09
URL:https://sugarfreemomtribe.com/event/goal-setting-with-angie-2/2024-05-24/
LOCATION:Zoom
END:VEVENT
BEGIN:VEVENT
DTSTART;TZID=America/New_York:20240527T200000
DTEND;TZID=America/New_York:20240527T210000
DTSTAMP:20260420T204020
CREATED:20240415T081313Z
LAST-MODIFIED:20240515T074404Z
UID:10001073-1716840000-1716843600@sugarfreemomtribe.com
SUMMARY:New Member Meeting
DESCRIPTION:https://us06web.zoom.us/j/89829283596?pwd=TG0xV0UwR2pGTUMrWTMvMWxjanpwdz09
URL:https://sugarfreemomtribe.com/event/new-member-meeting-may-2024/
LOCATION:Zoom
END:VEVENT
BEGIN:VEVENT
DTSTART;TZID=America/New_York:20240527T210000
DTEND;TZID=America/New_York:20240527T213000
DTSTAMP:20260420T204020
CREATED:20240516T050810Z
LAST-MODIFIED:20240722T080227Z
UID:10001112-1716843600-1716845400@sugarfreemomtribe.com
SUMMARY:Accountability Meeting with Angie
DESCRIPTION:https://us06web.zoom.us/j/83335715890?pwd=0vXdy517DUdrn6BHsn6Ebe1kJdaixM.1
URL:https://sugarfreemomtribe.com/event/accountability-meeting-with-angie-2-2/2024-05-27/
LOCATION:Zoom
END:VEVENT
BEGIN:VEVENT
DTSTART;TZID=America/New_York:20240528T210000
DTEND;TZID=America/New_York:20240528T213000
DTSTAMP:20260420T204020
CREATED:20240515T074901Z
LAST-MODIFIED:20240516T050644Z
UID:10001076-1716930000-1716931800@sugarfreemomtribe.com
SUMMARY:Accountability Meeting with Angie
DESCRIPTION:https://us06web.zoom.us/j/83335715890?pwd=0vXdy517DUdrn6BHsn6Ebe1kJdaixM.1 \n 
URL:https://sugarfreemomtribe.com/event/accountability-meeting-with-angie-3/
LOCATION:Zoom
END:VEVENT
BEGIN:VEVENT
DTSTART;TZID=America/New_York:20240529T190000
DTEND;TZID=America/New_York:20240529T200000
DTSTAMP:20260420T204020
CREATED:20240404T165658Z
LAST-MODIFIED:20251206T133232Z
UID:10000300-1717009200-1717012800@sugarfreemomtribe.com
SUMMARY:Weekly Coaching with Brenda
DESCRIPTION:https://zoom.us/j/97447023403?pwd=T1dxQ0VJNGlBSVBUTUM1VFppNzFHUT09
URL:https://sugarfreemomtribe.com/event/weekly-coaching-with-brenda-2-2/2024-05-29/
LOCATION:Zoom
END:VEVENT
BEGIN:VEVENT
DTSTART;TZID=America/New_York:20240530T113000
DTEND;TZID=America/New_York:20240530T120000
DTSTAMP:20260420T204020
CREATED:20240321T094400Z
LAST-MODIFIED:20240611T152100Z
UID:10000560-1717068600-1717070400@sugarfreemomtribe.com
SUMMARY:Weekly Midday Check-in
DESCRIPTION:https://us06web.zoom.us/j/87450490256?pwd=F6S73gtFtF9nBtPDinqGjf5I3MhN5c.1
URL:https://sugarfreemomtribe.com/event/weekly-midday-check-in-2/2024-05-30/
LOCATION:Zoom
END:VEVENT
BEGIN:VEVENT
DTSTART;TZID=America/New_York:20240531T100000
DTEND;TZID=America/New_York:20240531T103000
DTSTAMP:20260420T204020
CREATED:20240321T094553Z
LAST-MODIFIED:20240321T094553Z
UID:10000819-1717149600-1717151400@sugarfreemomtribe.com
SUMMARY:Goal Setting with Angie
DESCRIPTION:https://us06web.zoom.us/j/89067200243?pwd=ZUdQUmxYVTVQc2VHREZNUmgvclJZdz09
URL:https://sugarfreemomtribe.com/event/goal-setting-with-angie-2/2024-05-31/
LOCATION:Zoom
END:VEVENT
END:VCALENDAR