BEGIN:VCALENDAR
VERSION:2.0
PRODID:-//Sugar-Free Mom Courses - ECPv6.15.20//NONSGML v1.0//EN
CALSCALE:GREGORIAN
METHOD:PUBLISH
X-ORIGINAL-URL:https://sugarfreemomtribe.com
X-WR-CALDESC:Events for Sugar-Free Mom Courses
REFRESH-INTERVAL;VALUE=DURATION:PT1H
X-Robots-Tag:noindex
X-PUBLISHED-TTL:PT1H
BEGIN:VTIMEZONE
TZID:America/New_York
BEGIN:DAYLIGHT
TZOFFSETFROM:-0500
TZOFFSETTO:-0400
TZNAME:EDT
DTSTART:20230312T070000
END:DAYLIGHT
BEGIN:STANDARD
TZOFFSETFROM:-0400
TZOFFSETTO:-0500
TZNAME:EST
DTSTART:20231105T060000
END:STANDARD
BEGIN:DAYLIGHT
TZOFFSETFROM:-0500
TZOFFSETTO:-0400
TZNAME:EDT
DTSTART:20240310T070000
END:DAYLIGHT
BEGIN:STANDARD
TZOFFSETFROM:-0400
TZOFFSETTO:-0500
TZNAME:EST
DTSTART:20241103T060000
END:STANDARD
BEGIN:DAYLIGHT
TZOFFSETFROM:-0500
TZOFFSETTO:-0400
TZNAME:EDT
DTSTART:20250309T070000
END:DAYLIGHT
BEGIN:STANDARD
TZOFFSETFROM:-0400
TZOFFSETTO:-0500
TZNAME:EST
DTSTART:20251102T060000
END:STANDARD
END:VTIMEZONE
BEGIN:VEVENT
DTSTART;TZID=America/New_York:20240603T210000
DTEND;TZID=America/New_York:20240603T213000
DTSTAMP:20260420T191425
CREATED:20240516T050810Z
LAST-MODIFIED:20240722T080227Z
UID:10000041-1717448400-1717450200@sugarfreemomtribe.com
SUMMARY:Accountability Meeting with Angie
DESCRIPTION:https://us06web.zoom.us/j/83335715890?pwd=0vXdy517DUdrn6BHsn6Ebe1kJdaixM.1
URL:https://sugarfreemomtribe.com/event/accountability-meeting-with-angie-2-2/2024-06-03/
LOCATION:Zoom
END:VEVENT
BEGIN:VEVENT
DTSTART;TZID=America/New_York:20240605T190000
DTEND;TZID=America/New_York:20240605T200000
DTSTAMP:20260420T191425
CREATED:20240404T165658Z
LAST-MODIFIED:20251206T133232Z
UID:10000301-1717614000-1717617600@sugarfreemomtribe.com
SUMMARY:Weekly Coaching with Brenda
DESCRIPTION:https://zoom.us/j/97447023403?pwd=T1dxQ0VJNGlBSVBUTUM1VFppNzFHUT09
URL:https://sugarfreemomtribe.com/event/weekly-coaching-with-brenda-2-2/2024-06-05/
LOCATION:Zoom
END:VEVENT
BEGIN:VEVENT
DTSTART;TZID=America/New_York:20240606T113000
DTEND;TZID=America/New_York:20240606T120000
DTSTAMP:20260420T191425
CREATED:20240321T094400Z
LAST-MODIFIED:20240611T152100Z
UID:10000561-1717673400-1717675200@sugarfreemomtribe.com
SUMMARY:Weekly Midday Check-in
DESCRIPTION:https://us06web.zoom.us/j/87450490256?pwd=F6S73gtFtF9nBtPDinqGjf5I3MhN5c.1
URL:https://sugarfreemomtribe.com/event/weekly-midday-check-in-2/2024-06-06/
LOCATION:Zoom
END:VEVENT
BEGIN:VEVENT
DTSTART;TZID=America/New_York:20240606T190000
DTEND;TZID=America/New_York:20240606T200000
DTSTAMP:20260420T191425
CREATED:20240519T132824Z
LAST-MODIFIED:20240519T132836Z
UID:10001085-1717700400-1717704000@sugarfreemomtribe.com
SUMMARY:Monthly Maintenance Meeting
DESCRIPTION:https://us06web.zoom.us/j/83833319167?pwd=teWDbxvH1qAlws5WKfGYq4GgtFQdrh.1
URL:https://sugarfreemomtribe.com/event/monthly-maintenance-meeting-jun-24/
LOCATION:Zoom
END:VEVENT
BEGIN:VEVENT
DTSTART;TZID=America/New_York:20240607T100000
DTEND;TZID=America/New_York:20240607T103000
DTSTAMP:20260420T191425
CREATED:20240321T094553Z
LAST-MODIFIED:20240321T094553Z
UID:10000820-1717754400-1717756200@sugarfreemomtribe.com
SUMMARY:Goal Setting with Angie
DESCRIPTION:https://us06web.zoom.us/j/89067200243?pwd=ZUdQUmxYVTVQc2VHREZNUmgvclJZdz09
URL:https://sugarfreemomtribe.com/event/goal-setting-with-angie-2/2024-06-07/
LOCATION:Zoom
END:VEVENT
BEGIN:VEVENT
DTSTART;TZID=America/New_York:20240610T210000
DTEND;TZID=America/New_York:20240610T213000
DTSTAMP:20260420T191425
CREATED:20240516T050810Z
LAST-MODIFIED:20240722T080227Z
UID:10000042-1718053200-1718055000@sugarfreemomtribe.com
SUMMARY:Accountability Meeting with Angie
DESCRIPTION:https://us06web.zoom.us/j/83335715890?pwd=0vXdy517DUdrn6BHsn6Ebe1kJdaixM.1
URL:https://sugarfreemomtribe.com/event/accountability-meeting-with-angie-2-2/2024-06-10/
LOCATION:Zoom
END:VEVENT
BEGIN:VEVENT
DTSTART;TZID=America/New_York:20240612T190000
DTEND;TZID=America/New_York:20240612T200000
DTSTAMP:20260420T191425
CREATED:20240404T165658Z
LAST-MODIFIED:20251206T133232Z
UID:10000302-1718218800-1718222400@sugarfreemomtribe.com
SUMMARY:Weekly Coaching with Brenda
DESCRIPTION:https://zoom.us/j/97447023403?pwd=T1dxQ0VJNGlBSVBUTUM1VFppNzFHUT09
URL:https://sugarfreemomtribe.com/event/weekly-coaching-with-brenda-2-2/2024-06-12/
LOCATION:Zoom
END:VEVENT
BEGIN:VEVENT
DTSTART;TZID=America/New_York:20240613T113000
DTEND;TZID=America/New_York:20240613T120000
DTSTAMP:20260420T191425
CREATED:20240321T094400Z
LAST-MODIFIED:20240611T152100Z
UID:10000562-1718278200-1718280000@sugarfreemomtribe.com
SUMMARY:Weekly Midday Check-in
DESCRIPTION:https://us06web.zoom.us/j/87450490256?pwd=F6S73gtFtF9nBtPDinqGjf5I3MhN5c.1
URL:https://sugarfreemomtribe.com/event/weekly-midday-check-in-2/2024-06-13/
LOCATION:Zoom
END:VEVENT
BEGIN:VEVENT
DTSTART;TZID=America/New_York:20240614T100000
DTEND;TZID=America/New_York:20240614T103000
DTSTAMP:20260420T191425
CREATED:20240321T094553Z
LAST-MODIFIED:20240321T094553Z
UID:10000821-1718359200-1718361000@sugarfreemomtribe.com
SUMMARY:Goal Setting with Angie
DESCRIPTION:https://us06web.zoom.us/j/89067200243?pwd=ZUdQUmxYVTVQc2VHREZNUmgvclJZdz09
URL:https://sugarfreemomtribe.com/event/goal-setting-with-angie-2/2024-06-14/
LOCATION:Zoom
END:VEVENT
BEGIN:VEVENT
DTSTART;TZID=America/New_York:20240617T210000
DTEND;TZID=America/New_York:20240617T213000
DTSTAMP:20260420T191425
CREATED:20240516T050810Z
LAST-MODIFIED:20240722T080227Z
UID:10000043-1718658000-1718659800@sugarfreemomtribe.com
SUMMARY:Accountability Meeting with Angie
DESCRIPTION:https://us06web.zoom.us/j/83335715890?pwd=0vXdy517DUdrn6BHsn6Ebe1kJdaixM.1
URL:https://sugarfreemomtribe.com/event/accountability-meeting-with-angie-2-2/2024-06-17/
LOCATION:Zoom
END:VEVENT
BEGIN:VEVENT
DTSTART;TZID=America/New_York:20240619T190000
DTEND;TZID=America/New_York:20240619T200000
DTSTAMP:20260420T191425
CREATED:20240404T165658Z
LAST-MODIFIED:20251206T133232Z
UID:10000303-1718823600-1718827200@sugarfreemomtribe.com
SUMMARY:Weekly Coaching with Brenda
DESCRIPTION:https://zoom.us/j/97447023403?pwd=T1dxQ0VJNGlBSVBUTUM1VFppNzFHUT09
URL:https://sugarfreemomtribe.com/event/weekly-coaching-with-brenda-2-2/2024-06-19/
LOCATION:Zoom
END:VEVENT
BEGIN:VEVENT
DTSTART;TZID=America/New_York:20240620T113000
DTEND;TZID=America/New_York:20240620T120000
DTSTAMP:20260420T191425
CREATED:20240321T094400Z
LAST-MODIFIED:20240611T152100Z
UID:10000563-1718883000-1718884800@sugarfreemomtribe.com
SUMMARY:Weekly Midday Check-in
DESCRIPTION:https://us06web.zoom.us/j/87450490256?pwd=F6S73gtFtF9nBtPDinqGjf5I3MhN5c.1
URL:https://sugarfreemomtribe.com/event/weekly-midday-check-in-2/2024-06-20/
LOCATION:Zoom
END:VEVENT
BEGIN:VEVENT
DTSTART;TZID=America/New_York:20240621T100000
DTEND;TZID=America/New_York:20240621T103000
DTSTAMP:20260420T191425
CREATED:20240321T094553Z
LAST-MODIFIED:20240321T094553Z
UID:10000822-1718964000-1718965800@sugarfreemomtribe.com
SUMMARY:Goal Setting with Angie
DESCRIPTION:https://us06web.zoom.us/j/89067200243?pwd=ZUdQUmxYVTVQc2VHREZNUmgvclJZdz09
URL:https://sugarfreemomtribe.com/event/goal-setting-with-angie-2/2024-06-21/
LOCATION:Zoom
END:VEVENT
BEGIN:VEVENT
DTSTART;TZID=America/New_York:20240624T200000
DTEND;TZID=America/New_York:20240624T200000
DTSTAMP:20260420T191425
CREATED:20240519T132940Z
LAST-MODIFIED:20240519T132940Z
UID:10001086-1719259200-1719259200@sugarfreemomtribe.com
SUMMARY:New Member Meeting
DESCRIPTION:https://us06web.zoom.us/j/89829283596?pwd=TG0xV0UwR2pGTUMrWTMvMWxjanpwdz09
URL:https://sugarfreemomtribe.com/event/new-member-meeting-jun-2024/
LOCATION:Zoom
END:VEVENT
BEGIN:VEVENT
DTSTART;TZID=America/New_York:20240624T210000
DTEND;TZID=America/New_York:20240624T213000
DTSTAMP:20260420T191425
CREATED:20240516T050810Z
LAST-MODIFIED:20240722T080227Z
UID:10000044-1719262800-1719264600@sugarfreemomtribe.com
SUMMARY:Accountability Meeting with Angie
DESCRIPTION:https://us06web.zoom.us/j/83335715890?pwd=0vXdy517DUdrn6BHsn6Ebe1kJdaixM.1
URL:https://sugarfreemomtribe.com/event/accountability-meeting-with-angie-2-2/2024-06-24/
LOCATION:Zoom
END:VEVENT
BEGIN:VEVENT
DTSTART;TZID=America/New_York:20240626T190000
DTEND;TZID=America/New_York:20240626T200000
DTSTAMP:20260420T191425
CREATED:20240404T165658Z
LAST-MODIFIED:20251206T133232Z
UID:10000304-1719428400-1719432000@sugarfreemomtribe.com
SUMMARY:Weekly Coaching with Brenda
DESCRIPTION:https://zoom.us/j/97447023403?pwd=T1dxQ0VJNGlBSVBUTUM1VFppNzFHUT09
URL:https://sugarfreemomtribe.com/event/weekly-coaching-with-brenda-2-2/2024-06-26/
LOCATION:Zoom
END:VEVENT
BEGIN:VEVENT
DTSTART;TZID=America/New_York:20240627T113000
DTEND;TZID=America/New_York:20240627T120000
DTSTAMP:20260420T191425
CREATED:20240321T094400Z
LAST-MODIFIED:20240611T152100Z
UID:10000564-1719487800-1719489600@sugarfreemomtribe.com
SUMMARY:Weekly Midday Check-in
DESCRIPTION:https://us06web.zoom.us/j/87450490256?pwd=F6S73gtFtF9nBtPDinqGjf5I3MhN5c.1
URL:https://sugarfreemomtribe.com/event/weekly-midday-check-in-2/2024-06-27/
LOCATION:Zoom
END:VEVENT
BEGIN:VEVENT
DTSTART;TZID=America/New_York:20240628T100000
DTEND;TZID=America/New_York:20240628T103000
DTSTAMP:20260420T191425
CREATED:20240321T094553Z
LAST-MODIFIED:20240321T094553Z
UID:10000823-1719568800-1719570600@sugarfreemomtribe.com
SUMMARY:Goal Setting with Angie
DESCRIPTION:https://us06web.zoom.us/j/89067200243?pwd=ZUdQUmxYVTVQc2VHREZNUmgvclJZdz09
URL:https://sugarfreemomtribe.com/event/goal-setting-with-angie-2/2024-06-28/
LOCATION:Zoom
END:VEVENT
END:VCALENDAR