BEGIN:VCALENDAR
VERSION:2.0
PRODID:-//Sugar-Free Mom Courses - ECPv6.15.20//NONSGML v1.0//EN
CALSCALE:GREGORIAN
METHOD:PUBLISH
X-WR-CALNAME:Sugar-Free Mom Courses
X-ORIGINAL-URL:https://sugarfreemomtribe.com
X-WR-CALDESC:Events for Sugar-Free Mom Courses
REFRESH-INTERVAL;VALUE=DURATION:PT1H
X-Robots-Tag:noindex
X-PUBLISHED-TTL:PT1H
BEGIN:VTIMEZONE
TZID:America/New_York
BEGIN:DAYLIGHT
TZOFFSETFROM:-0500
TZOFFSETTO:-0400
TZNAME:EDT
DTSTART:20230312T070000
END:DAYLIGHT
BEGIN:STANDARD
TZOFFSETFROM:-0400
TZOFFSETTO:-0500
TZNAME:EST
DTSTART:20231105T060000
END:STANDARD
BEGIN:DAYLIGHT
TZOFFSETFROM:-0500
TZOFFSETTO:-0400
TZNAME:EDT
DTSTART:20240310T070000
END:DAYLIGHT
BEGIN:STANDARD
TZOFFSETFROM:-0400
TZOFFSETTO:-0500
TZNAME:EST
DTSTART:20241103T060000
END:STANDARD
BEGIN:DAYLIGHT
TZOFFSETFROM:-0500
TZOFFSETTO:-0400
TZNAME:EDT
DTSTART:20250309T070000
END:DAYLIGHT
BEGIN:STANDARD
TZOFFSETFROM:-0400
TZOFFSETTO:-0500
TZNAME:EST
DTSTART:20251102T060000
END:STANDARD
END:VTIMEZONE
BEGIN:VEVENT
DTSTART;TZID=America/New_York:20240701T210000
DTEND;TZID=America/New_York:20240701T213000
DTSTAMP:20260420T173259
CREATED:20240516T050810Z
LAST-MODIFIED:20240722T080227Z
UID:10000045-1719867600-1719869400@sugarfreemomtribe.com
SUMMARY:Accountability Meeting with Angie
DESCRIPTION:https://us06web.zoom.us/j/83335715890?pwd=0vXdy517DUdrn6BHsn6Ebe1kJdaixM.1
URL:https://sugarfreemomtribe.com/event/accountability-meeting-with-angie-2-2/2024-07-01/
LOCATION:Zoom
END:VEVENT
BEGIN:VEVENT
DTSTART;TZID=America/New_York:20240705T100000
DTEND;TZID=America/New_York:20240705T103000
DTSTAMP:20260420T173259
CREATED:20240321T094553Z
LAST-MODIFIED:20240321T094553Z
UID:10000824-1720173600-1720175400@sugarfreemomtribe.com
SUMMARY:Goal Setting with Angie
DESCRIPTION:https://us06web.zoom.us/j/89067200243?pwd=ZUdQUmxYVTVQc2VHREZNUmgvclJZdz09
URL:https://sugarfreemomtribe.com/event/goal-setting-with-angie-2/2024-07-05/
LOCATION:Zoom
END:VEVENT
BEGIN:VEVENT
DTSTART;TZID=America/New_York:20240708T210000
DTEND;TZID=America/New_York:20240708T213000
DTSTAMP:20260420T173259
CREATED:20240516T050810Z
LAST-MODIFIED:20240722T080227Z
UID:10000046-1720472400-1720474200@sugarfreemomtribe.com
SUMMARY:Accountability Meeting with Angie
DESCRIPTION:https://us06web.zoom.us/j/83335715890?pwd=0vXdy517DUdrn6BHsn6Ebe1kJdaixM.1
URL:https://sugarfreemomtribe.com/event/accountability-meeting-with-angie-2-2/2024-07-08/
LOCATION:Zoom
END:VEVENT
BEGIN:VEVENT
DTSTART;TZID=America/New_York:20240710T190000
DTEND;TZID=America/New_York:20240710T200000
DTSTAMP:20260420T173259
CREATED:20240404T165658Z
LAST-MODIFIED:20251206T133232Z
UID:10000306-1720638000-1720641600@sugarfreemomtribe.com
SUMMARY:Weekly Coaching with Brenda
DESCRIPTION:https://zoom.us/j/97447023403?pwd=T1dxQ0VJNGlBSVBUTUM1VFppNzFHUT09
URL:https://sugarfreemomtribe.com/event/weekly-coaching-with-brenda-2-2/2024-07-10/
LOCATION:Zoom
END:VEVENT
BEGIN:VEVENT
DTSTART;TZID=America/New_York:20240711T113000
DTEND;TZID=America/New_York:20240711T120000
DTSTAMP:20260420T173259
CREATED:20240321T094400Z
LAST-MODIFIED:20240611T152100Z
UID:10000566-1720697400-1720699200@sugarfreemomtribe.com
SUMMARY:Weekly Midday Check-in
DESCRIPTION:https://us06web.zoom.us/j/87450490256?pwd=F6S73gtFtF9nBtPDinqGjf5I3MhN5c.1
URL:https://sugarfreemomtribe.com/event/weekly-midday-check-in-2/2024-07-11/
LOCATION:Zoom
END:VEVENT
BEGIN:VEVENT
DTSTART;TZID=America/New_York:20240711T190000
DTEND;TZID=America/New_York:20240711T200000
DTSTAMP:20260420T173259
CREATED:20240611T152252Z
LAST-MODIFIED:20240611T152252Z
UID:10001108-1720724400-1720728000@sugarfreemomtribe.com
SUMMARY:Monthly Maintenance Meeting
DESCRIPTION:https://us06web.zoom.us/j/83833319167?pwd=teWDbxvH1qAlws5WKfGYq4GgtFQdrh.1
URL:https://sugarfreemomtribe.com/event/monthly-maintenance-meeting-july-2024/
LOCATION:Zoom
END:VEVENT
BEGIN:VEVENT
DTSTART;TZID=America/New_York:20240712T100000
DTEND;TZID=America/New_York:20240712T103000
DTSTAMP:20260420T173259
CREATED:20240321T094553Z
LAST-MODIFIED:20240321T094553Z
UID:10000825-1720778400-1720780200@sugarfreemomtribe.com
SUMMARY:Goal Setting with Angie
DESCRIPTION:https://us06web.zoom.us/j/89067200243?pwd=ZUdQUmxYVTVQc2VHREZNUmgvclJZdz09
URL:https://sugarfreemomtribe.com/event/goal-setting-with-angie-2/2024-07-12/
LOCATION:Zoom
END:VEVENT
BEGIN:VEVENT
DTSTART;TZID=America/New_York:20240715T210000
DTEND;TZID=America/New_York:20240715T213000
DTSTAMP:20260420T173259
CREATED:20240516T050810Z
LAST-MODIFIED:20240722T080227Z
UID:10000047-1721077200-1721079000@sugarfreemomtribe.com
SUMMARY:Accountability Meeting with Angie
DESCRIPTION:https://us06web.zoom.us/j/83335715890?pwd=0vXdy517DUdrn6BHsn6Ebe1kJdaixM.1
URL:https://sugarfreemomtribe.com/event/accountability-meeting-with-angie-2-2/2024-07-15/
LOCATION:Zoom
END:VEVENT
BEGIN:VEVENT
DTSTART;TZID=America/New_York:20240717T190000
DTEND;TZID=America/New_York:20240717T200000
DTSTAMP:20260420T173259
CREATED:20240404T165658Z
LAST-MODIFIED:20251206T133232Z
UID:10000307-1721242800-1721246400@sugarfreemomtribe.com
SUMMARY:Weekly Coaching with Brenda
DESCRIPTION:https://zoom.us/j/97447023403?pwd=T1dxQ0VJNGlBSVBUTUM1VFppNzFHUT09
URL:https://sugarfreemomtribe.com/event/weekly-coaching-with-brenda-2-2/2024-07-17/
LOCATION:Zoom
END:VEVENT
BEGIN:VEVENT
DTSTART;TZID=America/New_York:20240718T113000
DTEND;TZID=America/New_York:20240718T120000
DTSTAMP:20260420T173259
CREATED:20240321T094400Z
LAST-MODIFIED:20240611T152100Z
UID:10000567-1721302200-1721304000@sugarfreemomtribe.com
SUMMARY:Weekly Midday Check-in
DESCRIPTION:https://us06web.zoom.us/j/87450490256?pwd=F6S73gtFtF9nBtPDinqGjf5I3MhN5c.1
URL:https://sugarfreemomtribe.com/event/weekly-midday-check-in-2/2024-07-18/
LOCATION:Zoom
END:VEVENT
BEGIN:VEVENT
DTSTART;TZID=America/New_York:20240719T100000
DTEND;TZID=America/New_York:20240719T103000
DTSTAMP:20260420T173259
CREATED:20240321T094553Z
LAST-MODIFIED:20240321T094553Z
UID:10000826-1721383200-1721385000@sugarfreemomtribe.com
SUMMARY:Goal Setting with Angie
DESCRIPTION:https://us06web.zoom.us/j/89067200243?pwd=ZUdQUmxYVTVQc2VHREZNUmgvclJZdz09
URL:https://sugarfreemomtribe.com/event/goal-setting-with-angie-2/2024-07-19/
LOCATION:Zoom
END:VEVENT
BEGIN:VEVENT
DTSTART;TZID=America/New_York:20240722T200000
DTEND;TZID=America/New_York:20240722T200000
DTSTAMP:20260420T173259
CREATED:20240611T152345Z
LAST-MODIFIED:20240611T152345Z
UID:10001109-1721678400-1721678400@sugarfreemomtribe.com
SUMMARY:New Member Meeting
DESCRIPTION:https://us06web.zoom.us/j/89829283596?pwd=TG0xV0UwR2pGTUMrWTMvMWxjanpwdz09
URL:https://sugarfreemomtribe.com/event/new-member-meeting-july-2024/
LOCATION:Zoom
END:VEVENT
BEGIN:VEVENT
DTSTART;TZID=America/New_York:20240722T210000
DTEND;TZID=America/New_York:20240722T213000
DTSTAMP:20260420T173259
CREATED:20240516T050810Z
LAST-MODIFIED:20240722T080227Z
UID:10000048-1721682000-1721683800@sugarfreemomtribe.com
SUMMARY:Accountability Meeting with Angie
DESCRIPTION:https://us06web.zoom.us/j/83335715890?pwd=0vXdy517DUdrn6BHsn6Ebe1kJdaixM.1
URL:https://sugarfreemomtribe.com/event/accountability-meeting-with-angie-2-2/2024-07-22/
LOCATION:Zoom
END:VEVENT
BEGIN:VEVENT
DTSTART;TZID=America/New_York:20240724T190000
DTEND;TZID=America/New_York:20240724T200000
DTSTAMP:20260420T173259
CREATED:20240404T165658Z
LAST-MODIFIED:20251206T133232Z
UID:10000308-1721847600-1721851200@sugarfreemomtribe.com
SUMMARY:Weekly Coaching with Brenda
DESCRIPTION:https://zoom.us/j/97447023403?pwd=T1dxQ0VJNGlBSVBUTUM1VFppNzFHUT09
URL:https://sugarfreemomtribe.com/event/weekly-coaching-with-brenda-2-2/2024-07-24/
LOCATION:Zoom
END:VEVENT
BEGIN:VEVENT
DTSTART;TZID=America/New_York:20240725T113000
DTEND;TZID=America/New_York:20240725T120000
DTSTAMP:20260420T173259
CREATED:20240321T094400Z
LAST-MODIFIED:20240611T152100Z
UID:10000568-1721907000-1721908800@sugarfreemomtribe.com
SUMMARY:Weekly Midday Check-in
DESCRIPTION:https://us06web.zoom.us/j/87450490256?pwd=F6S73gtFtF9nBtPDinqGjf5I3MhN5c.1
URL:https://sugarfreemomtribe.com/event/weekly-midday-check-in-2/2024-07-25/
LOCATION:Zoom
END:VEVENT
BEGIN:VEVENT
DTSTART;TZID=America/New_York:20240726T100000
DTEND;TZID=America/New_York:20240726T103000
DTSTAMP:20260420T173259
CREATED:20240321T094553Z
LAST-MODIFIED:20240321T094553Z
UID:10000827-1721988000-1721989800@sugarfreemomtribe.com
SUMMARY:Goal Setting with Angie
DESCRIPTION:https://us06web.zoom.us/j/89067200243?pwd=ZUdQUmxYVTVQc2VHREZNUmgvclJZdz09
URL:https://sugarfreemomtribe.com/event/goal-setting-with-angie-2/2024-07-26/
LOCATION:Zoom
END:VEVENT
BEGIN:VEVENT
DTSTART;TZID=America/New_York:20240729T210000
DTEND;TZID=America/New_York:20240729T213000
DTSTAMP:20260420T173259
CREATED:20240516T050810Z
LAST-MODIFIED:20240722T080227Z
UID:10000049-1722286800-1722288600@sugarfreemomtribe.com
SUMMARY:Accountability Meeting with Angie
DESCRIPTION:https://us06web.zoom.us/j/83335715890?pwd=0vXdy517DUdrn6BHsn6Ebe1kJdaixM.1
URL:https://sugarfreemomtribe.com/event/accountability-meeting-with-angie-2-2/2024-07-29/
LOCATION:Zoom
END:VEVENT
BEGIN:VEVENT
DTSTART;TZID=America/New_York:20240731T190000
DTEND;TZID=America/New_York:20240731T200000
DTSTAMP:20260420T173259
CREATED:20240404T165658Z
LAST-MODIFIED:20251206T133232Z
UID:10000309-1722452400-1722456000@sugarfreemomtribe.com
SUMMARY:Weekly Coaching with Brenda
DESCRIPTION:https://zoom.us/j/97447023403?pwd=T1dxQ0VJNGlBSVBUTUM1VFppNzFHUT09
URL:https://sugarfreemomtribe.com/event/weekly-coaching-with-brenda-2-2/2024-07-31/
LOCATION:Zoom
END:VEVENT
END:VCALENDAR