BEGIN:VCALENDAR
VERSION:2.0
PRODID:-//Sugar-Free Mom Courses - ECPv6.15.20//NONSGML v1.0//EN
CALSCALE:GREGORIAN
METHOD:PUBLISH
X-ORIGINAL-URL:https://sugarfreemomtribe.com
X-WR-CALDESC:Events for Sugar-Free Mom Courses
REFRESH-INTERVAL;VALUE=DURATION:PT1H
X-Robots-Tag:noindex
X-PUBLISHED-TTL:PT1H
BEGIN:VTIMEZONE
TZID:America/New_York
BEGIN:DAYLIGHT
TZOFFSETFROM:-0500
TZOFFSETTO:-0400
TZNAME:EDT
DTSTART:20230312T070000
END:DAYLIGHT
BEGIN:STANDARD
TZOFFSETFROM:-0400
TZOFFSETTO:-0500
TZNAME:EST
DTSTART:20231105T060000
END:STANDARD
BEGIN:DAYLIGHT
TZOFFSETFROM:-0500
TZOFFSETTO:-0400
TZNAME:EDT
DTSTART:20240310T070000
END:DAYLIGHT
BEGIN:STANDARD
TZOFFSETFROM:-0400
TZOFFSETTO:-0500
TZNAME:EST
DTSTART:20241103T060000
END:STANDARD
BEGIN:DAYLIGHT
TZOFFSETFROM:-0500
TZOFFSETTO:-0400
TZNAME:EDT
DTSTART:20250309T070000
END:DAYLIGHT
BEGIN:STANDARD
TZOFFSETFROM:-0400
TZOFFSETTO:-0500
TZNAME:EST
DTSTART:20251102T060000
END:STANDARD
END:VTIMEZONE
BEGIN:VEVENT
DTSTART;TZID=America/New_York:20240903T210000
DTEND;TZID=America/New_York:20240903T213000
DTSTAMP:20260420T143021
CREATED:20240722T080406Z
LAST-MODIFIED:20240722T080429Z
UID:10001122-1725397200-1725399000@sugarfreemomtribe.com
SUMMARY:Accountability Meeting with Angie
DESCRIPTION:https://us06web.zoom.us/j/83335715890?pwd=0vXdy517DUdrn6BHsn6Ebe1kJdaixM.1 \n  \n 
URL:https://sugarfreemomtribe.com/event/accountability-meeting-with-angie-4/
LOCATION:Zoom
END:VEVENT
BEGIN:VEVENT
DTSTART;TZID=America/New_York:20240904T190000
DTEND;TZID=America/New_York:20240904T200000
DTSTAMP:20260420T143021
CREATED:20240404T165658Z
LAST-MODIFIED:20251206T133232Z
UID:10000314-1725476400-1725480000@sugarfreemomtribe.com
SUMMARY:Weekly Coaching with Brenda
DESCRIPTION:https://zoom.us/j/97447023403?pwd=T1dxQ0VJNGlBSVBUTUM1VFppNzFHUT09
URL:https://sugarfreemomtribe.com/event/weekly-coaching-with-brenda-2-2/2024-09-04/
LOCATION:Zoom
END:VEVENT
BEGIN:VEVENT
DTSTART;TZID=America/New_York:20240905T113000
DTEND;TZID=America/New_York:20240905T120000
DTSTAMP:20260420T143021
CREATED:20240321T094400Z
LAST-MODIFIED:20240611T152100Z
UID:10000574-1725535800-1725537600@sugarfreemomtribe.com
SUMMARY:Weekly Midday Check-in
DESCRIPTION:https://us06web.zoom.us/j/87450490256?pwd=F6S73gtFtF9nBtPDinqGjf5I3MhN5c.1
URL:https://sugarfreemomtribe.com/event/weekly-midday-check-in-2/2024-09-05/
LOCATION:Zoom
END:VEVENT
BEGIN:VEVENT
DTSTART;TZID=America/New_York:20240905T190000
DTEND;TZID=America/New_York:20240905T200000
DTSTAMP:20260420T143021
CREATED:20240815T151454Z
LAST-MODIFIED:20240815T151454Z
UID:10001124-1725562800-1725566400@sugarfreemomtribe.com
SUMMARY:Monthly Maintenance Meeting
DESCRIPTION:https://us06web.zoom.us/j/83833319167?pwd=teWDbxvH1qAlws5WKfGYq4GgtFQdrh.1
URL:https://sugarfreemomtribe.com/event/monthly-maintenance-meeting-sept-24/
LOCATION:Zoom
END:VEVENT
BEGIN:VEVENT
DTSTART;TZID=America/New_York:20240906T100000
DTEND;TZID=America/New_York:20240906T103000
DTSTAMP:20260420T143021
CREATED:20240321T094553Z
LAST-MODIFIED:20240321T094553Z
UID:10000833-1725616800-1725618600@sugarfreemomtribe.com
SUMMARY:Goal Setting with Angie
DESCRIPTION:https://us06web.zoom.us/j/89067200243?pwd=ZUdQUmxYVTVQc2VHREZNUmgvclJZdz09
URL:https://sugarfreemomtribe.com/event/goal-setting-with-angie-2/2024-09-06/
LOCATION:Zoom
END:VEVENT
BEGIN:VEVENT
DTSTART;VALUE=DATE:20240909
DTEND;VALUE=DATE:20240914
DTSTAMP:20260420T143021
CREATED:20240415T081429Z
LAST-MODIFIED:20240415T081429Z
UID:10001074-1725840000-1726271999@sugarfreemomtribe.com
SUMMARY:LIVE 5 DAY SUGAR DETOX
DESCRIPTION:
URL:https://sugarfreemomtribe.com/event/live-5-day-sugar-detox-sept-2024/
LOCATION:Zoom
END:VEVENT
BEGIN:VEVENT
DTSTART;TZID=America/New_York:20240909T210000
DTEND;TZID=America/New_York:20240909T213000
DTSTAMP:20260420T143021
CREATED:20240516T050810Z
LAST-MODIFIED:20240722T080227Z
UID:10000055-1725915600-1725917400@sugarfreemomtribe.com
SUMMARY:Accountability Meeting with Angie
DESCRIPTION:https://us06web.zoom.us/j/83335715890?pwd=0vXdy517DUdrn6BHsn6Ebe1kJdaixM.1
URL:https://sugarfreemomtribe.com/event/accountability-meeting-with-angie-2-2/2024-09-09/
LOCATION:Zoom
END:VEVENT
BEGIN:VEVENT
DTSTART;TZID=America/New_York:20240911T190000
DTEND;TZID=America/New_York:20240911T200000
DTSTAMP:20260420T143021
CREATED:20240404T165658Z
LAST-MODIFIED:20251206T133232Z
UID:10000315-1726081200-1726084800@sugarfreemomtribe.com
SUMMARY:Weekly Coaching with Brenda
DESCRIPTION:https://zoom.us/j/97447023403?pwd=T1dxQ0VJNGlBSVBUTUM1VFppNzFHUT09
URL:https://sugarfreemomtribe.com/event/weekly-coaching-with-brenda-2-2/2024-09-11/
LOCATION:Zoom
END:VEVENT
BEGIN:VEVENT
DTSTART;TZID=America/New_York:20240912T113000
DTEND;TZID=America/New_York:20240912T120000
DTSTAMP:20260420T143021
CREATED:20240321T094400Z
LAST-MODIFIED:20240611T152100Z
UID:10000575-1726140600-1726142400@sugarfreemomtribe.com
SUMMARY:Weekly Midday Check-in
DESCRIPTION:https://us06web.zoom.us/j/87450490256?pwd=F6S73gtFtF9nBtPDinqGjf5I3MhN5c.1
URL:https://sugarfreemomtribe.com/event/weekly-midday-check-in-2/2024-09-12/
LOCATION:Zoom
END:VEVENT
BEGIN:VEVENT
DTSTART;TZID=America/New_York:20240913T100000
DTEND;TZID=America/New_York:20240913T103000
DTSTAMP:20260420T143021
CREATED:20240321T094553Z
LAST-MODIFIED:20240321T094553Z
UID:10000834-1726221600-1726223400@sugarfreemomtribe.com
SUMMARY:Goal Setting with Angie
DESCRIPTION:https://us06web.zoom.us/j/89067200243?pwd=ZUdQUmxYVTVQc2VHREZNUmgvclJZdz09
URL:https://sugarfreemomtribe.com/event/goal-setting-with-angie-2/2024-09-13/
LOCATION:Zoom
END:VEVENT
BEGIN:VEVENT
DTSTART;TZID=America/New_York:20240916T210000
DTEND;TZID=America/New_York:20240916T213000
DTSTAMP:20260420T143021
CREATED:20240516T050810Z
LAST-MODIFIED:20240722T080227Z
UID:10000056-1726520400-1726522200@sugarfreemomtribe.com
SUMMARY:Accountability Meeting with Angie
DESCRIPTION:https://us06web.zoom.us/j/83335715890?pwd=0vXdy517DUdrn6BHsn6Ebe1kJdaixM.1
URL:https://sugarfreemomtribe.com/event/accountability-meeting-with-angie-2-2/2024-09-16/
LOCATION:Zoom
END:VEVENT
BEGIN:VEVENT
DTSTART;TZID=America/New_York:20240918T190000
DTEND;TZID=America/New_York:20240918T200000
DTSTAMP:20260420T143021
CREATED:20240404T165658Z
LAST-MODIFIED:20251206T133232Z
UID:10000316-1726686000-1726689600@sugarfreemomtribe.com
SUMMARY:Weekly Coaching with Brenda
DESCRIPTION:https://zoom.us/j/97447023403?pwd=T1dxQ0VJNGlBSVBUTUM1VFppNzFHUT09
URL:https://sugarfreemomtribe.com/event/weekly-coaching-with-brenda-2-2/2024-09-18/
LOCATION:Zoom
END:VEVENT
BEGIN:VEVENT
DTSTART;TZID=America/New_York:20240919T113000
DTEND;TZID=America/New_York:20240919T120000
DTSTAMP:20260420T143021
CREATED:20240321T094400Z
LAST-MODIFIED:20240611T152100Z
UID:10000576-1726745400-1726747200@sugarfreemomtribe.com
SUMMARY:Weekly Midday Check-in
DESCRIPTION:https://us06web.zoom.us/j/87450490256?pwd=F6S73gtFtF9nBtPDinqGjf5I3MhN5c.1
URL:https://sugarfreemomtribe.com/event/weekly-midday-check-in-2/2024-09-19/
LOCATION:Zoom
END:VEVENT
BEGIN:VEVENT
DTSTART;TZID=America/New_York:20240920T100000
DTEND;TZID=America/New_York:20240920T103000
DTSTAMP:20260420T143021
CREATED:20240321T094553Z
LAST-MODIFIED:20240321T094553Z
UID:10000835-1726826400-1726828200@sugarfreemomtribe.com
SUMMARY:Goal Setting with Angie
DESCRIPTION:https://us06web.zoom.us/j/89067200243?pwd=ZUdQUmxYVTVQc2VHREZNUmgvclJZdz09
URL:https://sugarfreemomtribe.com/event/goal-setting-with-angie-2/2024-09-20/
LOCATION:Zoom
END:VEVENT
BEGIN:VEVENT
DTSTART;TZID=America/New_York:20240923T200000
DTEND;TZID=America/New_York:20240923T210000
DTSTAMP:20260420T143021
CREATED:20240815T151401Z
LAST-MODIFIED:20240815T151401Z
UID:10001123-1727121600-1727125200@sugarfreemomtribe.com
SUMMARY:New Member Meeting
DESCRIPTION:https://us06web.zoom.us/j/89829283596?pwd=TG0xV0UwR2pGTUMrWTMvMWxjanpwdz09
URL:https://sugarfreemomtribe.com/event/new-member-meeting-sept-24/
LOCATION:Zoom
END:VEVENT
BEGIN:VEVENT
DTSTART;TZID=America/New_York:20240923T210000
DTEND;TZID=America/New_York:20240923T213000
DTSTAMP:20260420T143021
CREATED:20240516T050810Z
LAST-MODIFIED:20240722T080227Z
UID:10000057-1727125200-1727127000@sugarfreemomtribe.com
SUMMARY:Accountability Meeting with Angie
DESCRIPTION:https://us06web.zoom.us/j/83335715890?pwd=0vXdy517DUdrn6BHsn6Ebe1kJdaixM.1
URL:https://sugarfreemomtribe.com/event/accountability-meeting-with-angie-2-2/2024-09-23/
LOCATION:Zoom
END:VEVENT
BEGIN:VEVENT
DTSTART;TZID=America/New_York:20240925T190000
DTEND;TZID=America/New_York:20240925T200000
DTSTAMP:20260420T143021
CREATED:20240404T165658Z
LAST-MODIFIED:20251206T133232Z
UID:10000317-1727290800-1727294400@sugarfreemomtribe.com
SUMMARY:Weekly Coaching with Brenda
DESCRIPTION:https://zoom.us/j/97447023403?pwd=T1dxQ0VJNGlBSVBUTUM1VFppNzFHUT09
URL:https://sugarfreemomtribe.com/event/weekly-coaching-with-brenda-2-2/2024-09-25/
LOCATION:Zoom
END:VEVENT
BEGIN:VEVENT
DTSTART;TZID=America/New_York:20240926T113000
DTEND;TZID=America/New_York:20240926T120000
DTSTAMP:20260420T143021
CREATED:20240321T094400Z
LAST-MODIFIED:20240611T152100Z
UID:10000577-1727350200-1727352000@sugarfreemomtribe.com
SUMMARY:Weekly Midday Check-in
DESCRIPTION:https://us06web.zoom.us/j/87450490256?pwd=F6S73gtFtF9nBtPDinqGjf5I3MhN5c.1
URL:https://sugarfreemomtribe.com/event/weekly-midday-check-in-2/2024-09-26/
LOCATION:Zoom
END:VEVENT
BEGIN:VEVENT
DTSTART;TZID=America/New_York:20240927T100000
DTEND;TZID=America/New_York:20240927T103000
DTSTAMP:20260420T143021
CREATED:20240321T094553Z
LAST-MODIFIED:20240321T094553Z
UID:10000836-1727431200-1727433000@sugarfreemomtribe.com
SUMMARY:Goal Setting with Angie
DESCRIPTION:https://us06web.zoom.us/j/89067200243?pwd=ZUdQUmxYVTVQc2VHREZNUmgvclJZdz09
URL:https://sugarfreemomtribe.com/event/goal-setting-with-angie-2/2024-09-27/
LOCATION:Zoom
END:VEVENT
BEGIN:VEVENT
DTSTART;TZID=America/New_York:20240930T210000
DTEND;TZID=America/New_York:20240930T213000
DTSTAMP:20260420T143021
CREATED:20240930T202357Z
LAST-MODIFIED:20241002T075718Z
UID:10000058-1727730000-1727731800@sugarfreemomtribe.com
SUMMARY:Accountability Meeting with Angie
DESCRIPTION:Join Zoom Meeting\nhttps://us06web.zoom.us/j/83335715890?pwd=0vXdy517DUdrn6BHsn6Ebe1kJdaixM.1 \nMeeting ID: 833 3571 5890\nPasscode: 554575 \n— \nOne tap mobile\n+13092053325\,\,83335715890#\,\,\,\,*554575# US\n+13126266799\,\,83335715890#\,\,\,\,*554575# US (Chicago) \n— \nDial by your location\n• +1 309 205 3325 US\n• +1 312 626 6799 US (Chicago)\n• +1 646 931 3860 US\n• +1 929 205 6099 US (New York)\n• +1 301 715 8592 US (Washington DC)\n• +1 305 224 1968 US\n• +1 346 248 7799 US (Houston)\n• +1 360 209 5623 US\n• +1 386 347 5053 US\n• +1 507 473 4847 US\n• +1 564 217 2000 US\n• +1 669 444 9171 US\n• +1 669 900 6833 US (San Jose)\n• +1 689 278 1000 US\n• +1 719 359 4580 US\n• +1 253 205 0468 US\n• +1 253 215 8782 US (Tacoma) \nMeeting ID: 833 3571 5890\nPasscode: 554575 \nFind your local number: https://us06web.zoom.us/u/kbtIDhXjf
URL:https://sugarfreemomtribe.com/event/accountability-meeting-with-angie-2-2-2-2/
LOCATION:Zoom
END:VEVENT
END:VCALENDAR