BEGIN:VCALENDAR
VERSION:2.0
PRODID:-//Sugar-Free Mom Courses - ECPv6.15.20//NONSGML v1.0//EN
CALSCALE:GREGORIAN
METHOD:PUBLISH
X-WR-CALNAME:Sugar-Free Mom Courses
X-ORIGINAL-URL:https://sugarfreemomtribe.com
X-WR-CALDESC:Events for Sugar-Free Mom Courses
REFRESH-INTERVAL;VALUE=DURATION:PT1H
X-Robots-Tag:noindex
X-PUBLISHED-TTL:PT1H
BEGIN:VTIMEZONE
TZID:America/New_York
BEGIN:DAYLIGHT
TZOFFSETFROM:-0500
TZOFFSETTO:-0400
TZNAME:EDT
DTSTART:20230312T070000
END:DAYLIGHT
BEGIN:STANDARD
TZOFFSETFROM:-0400
TZOFFSETTO:-0500
TZNAME:EST
DTSTART:20231105T060000
END:STANDARD
BEGIN:DAYLIGHT
TZOFFSETFROM:-0500
TZOFFSETTO:-0400
TZNAME:EDT
DTSTART:20240310T070000
END:DAYLIGHT
BEGIN:STANDARD
TZOFFSETFROM:-0400
TZOFFSETTO:-0500
TZNAME:EST
DTSTART:20241103T060000
END:STANDARD
BEGIN:DAYLIGHT
TZOFFSETFROM:-0500
TZOFFSETTO:-0400
TZNAME:EDT
DTSTART:20250309T070000
END:DAYLIGHT
BEGIN:STANDARD
TZOFFSETFROM:-0400
TZOFFSETTO:-0500
TZNAME:EST
DTSTART:20251102T060000
END:STANDARD
END:VTIMEZONE
BEGIN:VEVENT
DTSTART;VALUE=DATE:20241002
DTEND;VALUE=DATE:20241003
DTSTAMP:20260420T142425
CREATED:20240415T081721Z
LAST-MODIFIED:20240415T081721Z
UID:10001075-1727827200-1727913599@sugarfreemomtribe.com
SUMMARY:LIVE SUGAR FREE FRESH START COURSE BEGINS
DESCRIPTION:
URL:https://sugarfreemomtribe.com/event/live-sugar-free-fresh-start-course-begins/
LOCATION:Zoom
END:VEVENT
BEGIN:VEVENT
DTSTART;TZID=America/New_York:20241002T190000
DTEND;TZID=America/New_York:20241002T200000
DTSTAMP:20260420T142425
CREATED:20240930T202759Z
LAST-MODIFIED:20240930T202759Z
UID:10000318-1727895600-1727899200@sugarfreemomtribe.com
SUMMARY:Weekly Coaching with Brenda
DESCRIPTION:https://zoom.us/j/97447023403?pwd=T1dxQ0VJNGlBSVBUTUM1VFppNzFHUT09
URL:https://sugarfreemomtribe.com/event/weekly-coaching-with-brenda-2-2-2/
LOCATION:Zoom
END:VEVENT
BEGIN:VEVENT
DTSTART;TZID=America/New_York:20241003T113000
DTEND;TZID=America/New_York:20241003T120000
DTSTAMP:20260420T142425
CREATED:20241002T080050Z
LAST-MODIFIED:20250425T071652Z
UID:10000578-1727955000-1727956800@sugarfreemomtribe.com
SUMMARY:Weekly Midday Check-in
DESCRIPTION:Join Zoom Meeting\nhttps://us06web.zoom.us/j/87450490256?pwd=F6S73gtFtF9nBtPDinqGjf5I3MhN5c.1 \nMeeting ID: 874 5049 0256\nPasscode: 901494 \n— \nOne tap mobile\n+16469313860\,\,87450490256#\,\,\,\,*901494# US\n+19292056099\,\,87450490256#\,\,\,\,*901494# US (New York) \n— \nDial by your location\n• +1 646 931 3860 US\n• +1 929 205 6099 US (New York)\n• +1 301 715 8592 US (Washington DC)\n• +1 305 224 1968 US\n• +1 309 205 3325 US\n• +1 312 626 6799 US (Chicago)\n• +1 360 209 5623 US\n• +1 386 347 5053 US\n• +1 507 473 4847 US\n• +1 564 217 2000 US\n• +1 669 444 9171 US\n• +1 669 900 6833 US (San Jose)\n• +1 689 278 1000 US\n• +1 719 359 4580 US\n• +1 253 205 0468 US\n• +1 253 215 8782 US (Tacoma)\n• +1 346 248 7799 US (Houston) \nMeeting ID: 874 5049 0256\nPasscode: 901494 \nFind your local number: https://us06web.zoom.us/u/kbSt94FJ1i
URL:https://sugarfreemomtribe.com/event/weekly-midday-check-in-2-2/2024-10-03/
LOCATION:Zoom
END:VEVENT
BEGIN:VEVENT
DTSTART;TZID=America/New_York:20241003T190000
DTEND;TZID=America/New_York:20241003T200000
DTSTAMP:20260420T142425
CREATED:20240912T075933Z
LAST-MODIFIED:20240912T075933Z
UID:10001125-1727982000-1727985600@sugarfreemomtribe.com
SUMMARY:Monthly Maintenance Meeting
DESCRIPTION:https://us06web.zoom.us/j/83833319167?pwd=teWDbxvH1qAlws5WKfGYq4GgtFQdrh.1
URL:https://sugarfreemomtribe.com/event/monthly-maintenance-meeting-oct-24/
LOCATION:Zoom
END:VEVENT
BEGIN:VEVENT
DTSTART;TZID=America/New_York:20241004T100000
DTEND;TZID=America/New_York:20241004T103000
DTSTAMP:20260420T142425
CREATED:20241002T080336Z
LAST-MODIFIED:20250611T060955Z
UID:10000837-1728036000-1728037800@sugarfreemomtribe.com
SUMMARY:Goal Setting with Angie
DESCRIPTION:Join Zoom Meeting\nhttps://us06web.zoom.us/j/89067200243?pwd=ZUdQUmxYVTVQc2VHREZNUmgvclJZdz09 \nMeeting ID: 890 6720 0243\nPasscode: 872061 \n— \nOne tap mobile\n+13052241968\,\,89067200243#\,\,\,\,*872061# US\n+13092053325\,\,89067200243#\,\,\,\,*872061# US \n— \nDial by your location\n• +1 305 224 1968 US\n• +1 309 205 3325 US\n• +1 312 626 6799 US (Chicago)\n• +1 646 931 3860 US\n• +1 929 205 6099 US (New York)\n• +1 301 715 8592 US (Washington DC)\n• +1 253 215 8782 US (Tacoma)\n• +1 346 248 7799 US (Houston)\n• +1 360 209 5623 US\n• +1 386 347 5053 US\n• +1 507 473 4847 US\n• +1 564 217 2000 US\n• +1 669 444 9171 US\n• +1 669 900 6833 US (San Jose)\n• +1 689 278 1000 US\n• +1 719 359 4580 US\n• +1 253 205 0468 US \nMeeting ID: 890 6720 0243\nPasscode: 872061 \nFind your local number: https://us06web.zoom.us/u/keIHP2n0OC
URL:https://sugarfreemomtribe.com/event/goal-setting-with-angie-2-2/2024-10-04/
LOCATION:Zoom
END:VEVENT
BEGIN:VEVENT
DTSTART;TZID=America/New_York:20241007T210000
DTEND;TZID=America/New_York:20241007T213000
DTSTAMP:20260420T142425
CREATED:20240930T201630Z
LAST-MODIFIED:20240930T202027Z
UID:10000059-1728334800-1728336600@sugarfreemomtribe.com
SUMMARY:Accountability Meeting with Angie
DESCRIPTION:Join Zoom Meeting\nhttps://us06web.zoom.us/j/83335715890?pwd=0vXdy517DUdrn6BHsn6Ebe1kJdaixM.1 \nMeeting ID: 833 3571 5890\nPasscode: 554575 \n— \nOne tap mobile\n+13092053325\,\,83335715890#\,\,\,\,*554575# US\n+13126266799\,\,83335715890#\,\,\,\,*554575# US (Chicago) \n— \nDial by your location\n• +1 309 205 3325 US\n• +1 312 626 6799 US (Chicago)\n• +1 646 931 3860 US\n• +1 929 205 6099 US (New York)\n• +1 301 715 8592 US (Washington DC)\n• +1 305 224 1968 US\n• +1 346 248 7799 US (Houston)\n• +1 360 209 5623 US\n• +1 386 347 5053 US\n• +1 507 473 4847 US\n• +1 564 217 2000 US\n• +1 669 444 9171 US\n• +1 669 900 6833 US (San Jose)\n• +1 689 278 1000 US\n• +1 719 359 4580 US\n• +1 253 205 0468 US\n• +1 253 215 8782 US (Tacoma) \nMeeting ID: 833 3571 5890\nPasscode: 554575 \nFind your local number: https://us06web.zoom.us/u/kbtIDhXjf
URL:https://sugarfreemomtribe.com/event/accountability-meeting-with-angie-2-2-2/2024-10-07/
LOCATION:Zoom
END:VEVENT
BEGIN:VEVENT
DTSTART;TZID=America/New_York:20241009T190000
DTEND;TZID=America/New_York:20241009T200000
DTSTAMP:20260420T142425
CREATED:20240404T165658Z
LAST-MODIFIED:20251206T133232Z
UID:10000319-1728500400-1728504000@sugarfreemomtribe.com
SUMMARY:Weekly Coaching with Brenda
DESCRIPTION:https://zoom.us/j/97447023403?pwd=T1dxQ0VJNGlBSVBUTUM1VFppNzFHUT09
URL:https://sugarfreemomtribe.com/event/weekly-coaching-with-brenda-2-2/2024-10-09/
LOCATION:Zoom
END:VEVENT
BEGIN:VEVENT
DTSTART;TZID=America/New_York:20241010T113000
DTEND;TZID=America/New_York:20241010T120000
DTSTAMP:20260420T142425
CREATED:20241002T080050Z
LAST-MODIFIED:20250425T071652Z
UID:10000579-1728559800-1728561600@sugarfreemomtribe.com
SUMMARY:Weekly Midday Check-in
DESCRIPTION:Join Zoom Meeting\nhttps://us06web.zoom.us/j/87450490256?pwd=F6S73gtFtF9nBtPDinqGjf5I3MhN5c.1 \nMeeting ID: 874 5049 0256\nPasscode: 901494 \n— \nOne tap mobile\n+16469313860\,\,87450490256#\,\,\,\,*901494# US\n+19292056099\,\,87450490256#\,\,\,\,*901494# US (New York) \n— \nDial by your location\n• +1 646 931 3860 US\n• +1 929 205 6099 US (New York)\n• +1 301 715 8592 US (Washington DC)\n• +1 305 224 1968 US\n• +1 309 205 3325 US\n• +1 312 626 6799 US (Chicago)\n• +1 360 209 5623 US\n• +1 386 347 5053 US\n• +1 507 473 4847 US\n• +1 564 217 2000 US\n• +1 669 444 9171 US\n• +1 669 900 6833 US (San Jose)\n• +1 689 278 1000 US\n• +1 719 359 4580 US\n• +1 253 205 0468 US\n• +1 253 215 8782 US (Tacoma)\n• +1 346 248 7799 US (Houston) \nMeeting ID: 874 5049 0256\nPasscode: 901494 \nFind your local number: https://us06web.zoom.us/u/kbSt94FJ1i
URL:https://sugarfreemomtribe.com/event/weekly-midday-check-in-2-2/2024-10-10/
LOCATION:Zoom
END:VEVENT
BEGIN:VEVENT
DTSTART;TZID=America/New_York:20241011T100000
DTEND;TZID=America/New_York:20241011T103000
DTSTAMP:20260420T142425
CREATED:20241002T080336Z
LAST-MODIFIED:20250611T060955Z
UID:10000838-1728640800-1728642600@sugarfreemomtribe.com
SUMMARY:Goal Setting with Angie
DESCRIPTION:Join Zoom Meeting\nhttps://us06web.zoom.us/j/89067200243?pwd=ZUdQUmxYVTVQc2VHREZNUmgvclJZdz09 \nMeeting ID: 890 6720 0243\nPasscode: 872061 \n— \nOne tap mobile\n+13052241968\,\,89067200243#\,\,\,\,*872061# US\n+13092053325\,\,89067200243#\,\,\,\,*872061# US \n— \nDial by your location\n• +1 305 224 1968 US\n• +1 309 205 3325 US\n• +1 312 626 6799 US (Chicago)\n• +1 646 931 3860 US\n• +1 929 205 6099 US (New York)\n• +1 301 715 8592 US (Washington DC)\n• +1 253 215 8782 US (Tacoma)\n• +1 346 248 7799 US (Houston)\n• +1 360 209 5623 US\n• +1 386 347 5053 US\n• +1 507 473 4847 US\n• +1 564 217 2000 US\n• +1 669 444 9171 US\n• +1 669 900 6833 US (San Jose)\n• +1 689 278 1000 US\n• +1 719 359 4580 US\n• +1 253 205 0468 US \nMeeting ID: 890 6720 0243\nPasscode: 872061 \nFind your local number: https://us06web.zoom.us/u/keIHP2n0OC
URL:https://sugarfreemomtribe.com/event/goal-setting-with-angie-2-2/2024-10-11/
LOCATION:Zoom
END:VEVENT
BEGIN:VEVENT
DTSTART;TZID=America/New_York:20241014T210000
DTEND;TZID=America/New_York:20241014T213000
DTSTAMP:20260420T142425
CREATED:20240930T201630Z
LAST-MODIFIED:20240930T202027Z
UID:10000060-1728939600-1728941400@sugarfreemomtribe.com
SUMMARY:Accountability Meeting with Angie
DESCRIPTION:Join Zoom Meeting\nhttps://us06web.zoom.us/j/83335715890?pwd=0vXdy517DUdrn6BHsn6Ebe1kJdaixM.1 \nMeeting ID: 833 3571 5890\nPasscode: 554575 \n— \nOne tap mobile\n+13092053325\,\,83335715890#\,\,\,\,*554575# US\n+13126266799\,\,83335715890#\,\,\,\,*554575# US (Chicago) \n— \nDial by your location\n• +1 309 205 3325 US\n• +1 312 626 6799 US (Chicago)\n• +1 646 931 3860 US\n• +1 929 205 6099 US (New York)\n• +1 301 715 8592 US (Washington DC)\n• +1 305 224 1968 US\n• +1 346 248 7799 US (Houston)\n• +1 360 209 5623 US\n• +1 386 347 5053 US\n• +1 507 473 4847 US\n• +1 564 217 2000 US\n• +1 669 444 9171 US\n• +1 669 900 6833 US (San Jose)\n• +1 689 278 1000 US\n• +1 719 359 4580 US\n• +1 253 205 0468 US\n• +1 253 215 8782 US (Tacoma) \nMeeting ID: 833 3571 5890\nPasscode: 554575 \nFind your local number: https://us06web.zoom.us/u/kbtIDhXjf
URL:https://sugarfreemomtribe.com/event/accountability-meeting-with-angie-2-2-2/2024-10-14/
LOCATION:Zoom
END:VEVENT
BEGIN:VEVENT
DTSTART;TZID=America/New_York:20241016T190000
DTEND;TZID=America/New_York:20241016T200000
DTSTAMP:20260420T142425
CREATED:20240404T165658Z
LAST-MODIFIED:20251206T133232Z
UID:10000320-1729105200-1729108800@sugarfreemomtribe.com
SUMMARY:Weekly Coaching with Brenda
DESCRIPTION:https://zoom.us/j/97447023403?pwd=T1dxQ0VJNGlBSVBUTUM1VFppNzFHUT09
URL:https://sugarfreemomtribe.com/event/weekly-coaching-with-brenda-2-2/2024-10-16/
LOCATION:Zoom
END:VEVENT
BEGIN:VEVENT
DTSTART;TZID=America/New_York:20241017T113000
DTEND;TZID=America/New_York:20241017T120000
DTSTAMP:20260420T142425
CREATED:20241002T080050Z
LAST-MODIFIED:20250425T071652Z
UID:10000580-1729164600-1729166400@sugarfreemomtribe.com
SUMMARY:Weekly Midday Check-in
DESCRIPTION:Join Zoom Meeting\nhttps://us06web.zoom.us/j/87450490256?pwd=F6S73gtFtF9nBtPDinqGjf5I3MhN5c.1 \nMeeting ID: 874 5049 0256\nPasscode: 901494 \n— \nOne tap mobile\n+16469313860\,\,87450490256#\,\,\,\,*901494# US\n+19292056099\,\,87450490256#\,\,\,\,*901494# US (New York) \n— \nDial by your location\n• +1 646 931 3860 US\n• +1 929 205 6099 US (New York)\n• +1 301 715 8592 US (Washington DC)\n• +1 305 224 1968 US\n• +1 309 205 3325 US\n• +1 312 626 6799 US (Chicago)\n• +1 360 209 5623 US\n• +1 386 347 5053 US\n• +1 507 473 4847 US\n• +1 564 217 2000 US\n• +1 669 444 9171 US\n• +1 669 900 6833 US (San Jose)\n• +1 689 278 1000 US\n• +1 719 359 4580 US\n• +1 253 205 0468 US\n• +1 253 215 8782 US (Tacoma)\n• +1 346 248 7799 US (Houston) \nMeeting ID: 874 5049 0256\nPasscode: 901494 \nFind your local number: https://us06web.zoom.us/u/kbSt94FJ1i
URL:https://sugarfreemomtribe.com/event/weekly-midday-check-in-2-2/2024-10-17/
LOCATION:Zoom
END:VEVENT
BEGIN:VEVENT
DTSTART;TZID=America/New_York:20241018T100000
DTEND;TZID=America/New_York:20241018T103000
DTSTAMP:20260420T142425
CREATED:20241002T080336Z
LAST-MODIFIED:20250611T060955Z
UID:10000839-1729245600-1729247400@sugarfreemomtribe.com
SUMMARY:Goal Setting with Angie
DESCRIPTION:Join Zoom Meeting\nhttps://us06web.zoom.us/j/89067200243?pwd=ZUdQUmxYVTVQc2VHREZNUmgvclJZdz09 \nMeeting ID: 890 6720 0243\nPasscode: 872061 \n— \nOne tap mobile\n+13052241968\,\,89067200243#\,\,\,\,*872061# US\n+13092053325\,\,89067200243#\,\,\,\,*872061# US \n— \nDial by your location\n• +1 305 224 1968 US\n• +1 309 205 3325 US\n• +1 312 626 6799 US (Chicago)\n• +1 646 931 3860 US\n• +1 929 205 6099 US (New York)\n• +1 301 715 8592 US (Washington DC)\n• +1 253 215 8782 US (Tacoma)\n• +1 346 248 7799 US (Houston)\n• +1 360 209 5623 US\n• +1 386 347 5053 US\n• +1 507 473 4847 US\n• +1 564 217 2000 US\n• +1 669 444 9171 US\n• +1 669 900 6833 US (San Jose)\n• +1 689 278 1000 US\n• +1 719 359 4580 US\n• +1 253 205 0468 US \nMeeting ID: 890 6720 0243\nPasscode: 872061 \nFind your local number: https://us06web.zoom.us/u/keIHP2n0OC
URL:https://sugarfreemomtribe.com/event/goal-setting-with-angie-2-2/2024-10-18/
LOCATION:Zoom
END:VEVENT
BEGIN:VEVENT
DTSTART;TZID=America/New_York:20241021T210000
DTEND;TZID=America/New_York:20241021T213000
DTSTAMP:20260420T142425
CREATED:20240930T201630Z
LAST-MODIFIED:20240930T202027Z
UID:10000061-1729544400-1729546200@sugarfreemomtribe.com
SUMMARY:Accountability Meeting with Angie
DESCRIPTION:Join Zoom Meeting\nhttps://us06web.zoom.us/j/83335715890?pwd=0vXdy517DUdrn6BHsn6Ebe1kJdaixM.1 \nMeeting ID: 833 3571 5890\nPasscode: 554575 \n— \nOne tap mobile\n+13092053325\,\,83335715890#\,\,\,\,*554575# US\n+13126266799\,\,83335715890#\,\,\,\,*554575# US (Chicago) \n— \nDial by your location\n• +1 309 205 3325 US\n• +1 312 626 6799 US (Chicago)\n• +1 646 931 3860 US\n• +1 929 205 6099 US (New York)\n• +1 301 715 8592 US (Washington DC)\n• +1 305 224 1968 US\n• +1 346 248 7799 US (Houston)\n• +1 360 209 5623 US\n• +1 386 347 5053 US\n• +1 507 473 4847 US\n• +1 564 217 2000 US\n• +1 669 444 9171 US\n• +1 669 900 6833 US (San Jose)\n• +1 689 278 1000 US\n• +1 719 359 4580 US\n• +1 253 205 0468 US\n• +1 253 215 8782 US (Tacoma) \nMeeting ID: 833 3571 5890\nPasscode: 554575 \nFind your local number: https://us06web.zoom.us/u/kbtIDhXjf
URL:https://sugarfreemomtribe.com/event/accountability-meeting-with-angie-2-2-2/2024-10-21/
LOCATION:Zoom
END:VEVENT
BEGIN:VEVENT
DTSTART;TZID=America/New_York:20241023T190000
DTEND;TZID=America/New_York:20241023T200000
DTSTAMP:20260420T142425
CREATED:20240404T165658Z
LAST-MODIFIED:20251206T133232Z
UID:10000321-1729710000-1729713600@sugarfreemomtribe.com
SUMMARY:Weekly Coaching with Brenda
DESCRIPTION:https://zoom.us/j/97447023403?pwd=T1dxQ0VJNGlBSVBUTUM1VFppNzFHUT09
URL:https://sugarfreemomtribe.com/event/weekly-coaching-with-brenda-2-2/2024-10-23/
LOCATION:Zoom
END:VEVENT
BEGIN:VEVENT
DTSTART;TZID=America/New_York:20241024T113000
DTEND;TZID=America/New_York:20241024T120000
DTSTAMP:20260420T142425
CREATED:20241002T080050Z
LAST-MODIFIED:20250425T071652Z
UID:10000581-1729769400-1729771200@sugarfreemomtribe.com
SUMMARY:Weekly Midday Check-in
DESCRIPTION:Join Zoom Meeting\nhttps://us06web.zoom.us/j/87450490256?pwd=F6S73gtFtF9nBtPDinqGjf5I3MhN5c.1 \nMeeting ID: 874 5049 0256\nPasscode: 901494 \n— \nOne tap mobile\n+16469313860\,\,87450490256#\,\,\,\,*901494# US\n+19292056099\,\,87450490256#\,\,\,\,*901494# US (New York) \n— \nDial by your location\n• +1 646 931 3860 US\n• +1 929 205 6099 US (New York)\n• +1 301 715 8592 US (Washington DC)\n• +1 305 224 1968 US\n• +1 309 205 3325 US\n• +1 312 626 6799 US (Chicago)\n• +1 360 209 5623 US\n• +1 386 347 5053 US\n• +1 507 473 4847 US\n• +1 564 217 2000 US\n• +1 669 444 9171 US\n• +1 669 900 6833 US (San Jose)\n• +1 689 278 1000 US\n• +1 719 359 4580 US\n• +1 253 205 0468 US\n• +1 253 215 8782 US (Tacoma)\n• +1 346 248 7799 US (Houston) \nMeeting ID: 874 5049 0256\nPasscode: 901494 \nFind your local number: https://us06web.zoom.us/u/kbSt94FJ1i
URL:https://sugarfreemomtribe.com/event/weekly-midday-check-in-2-2/2024-10-24/
LOCATION:Zoom
END:VEVENT
BEGIN:VEVENT
DTSTART;TZID=America/New_York:20241025T100000
DTEND;TZID=America/New_York:20241025T103000
DTSTAMP:20260420T142425
CREATED:20241002T080336Z
LAST-MODIFIED:20250611T060955Z
UID:10000840-1729850400-1729852200@sugarfreemomtribe.com
SUMMARY:Goal Setting with Angie
DESCRIPTION:Join Zoom Meeting\nhttps://us06web.zoom.us/j/89067200243?pwd=ZUdQUmxYVTVQc2VHREZNUmgvclJZdz09 \nMeeting ID: 890 6720 0243\nPasscode: 872061 \n— \nOne tap mobile\n+13052241968\,\,89067200243#\,\,\,\,*872061# US\n+13092053325\,\,89067200243#\,\,\,\,*872061# US \n— \nDial by your location\n• +1 305 224 1968 US\n• +1 309 205 3325 US\n• +1 312 626 6799 US (Chicago)\n• +1 646 931 3860 US\n• +1 929 205 6099 US (New York)\n• +1 301 715 8592 US (Washington DC)\n• +1 253 215 8782 US (Tacoma)\n• +1 346 248 7799 US (Houston)\n• +1 360 209 5623 US\n• +1 386 347 5053 US\n• +1 507 473 4847 US\n• +1 564 217 2000 US\n• +1 669 444 9171 US\n• +1 669 900 6833 US (San Jose)\n• +1 689 278 1000 US\n• +1 719 359 4580 US\n• +1 253 205 0468 US \nMeeting ID: 890 6720 0243\nPasscode: 872061 \nFind your local number: https://us06web.zoom.us/u/keIHP2n0OC
URL:https://sugarfreemomtribe.com/event/goal-setting-with-angie-2-2/2024-10-25/
LOCATION:Zoom
END:VEVENT
BEGIN:VEVENT
DTSTART;TZID=America/New_York:20241028T200000
DTEND;TZID=America/New_York:20241028T210000
DTSTAMP:20260420T142425
CREATED:20240912T080021Z
LAST-MODIFIED:20241002T080515Z
UID:10001126-1730145600-1730149200@sugarfreemomtribe.com
SUMMARY:New Member Meeting
DESCRIPTION:Join Zoom Meeting\nhttps://us06web.zoom.us/j/89829283596?pwd=TG0xV0UwR2pGTUMrWTMvMWxjanpwdz09 \nMeeting ID: 898 2928 3596\nPasscode: 543602 \n— \nOne tap mobile\n+13017158592\,\,89829283596#\,\,\,\,*543602# US (Washington DC)\n+13052241968\,\,89829283596#\,\,\,\,*543602# US \n— \nDial by your location\n• +1 301 715 8592 US (Washington DC)\n• +1 305 224 1968 US\n• +1 309 205 3325 US\n• +1 312 626 6799 US (Chicago)\n• +1 646 931 3860 US\n• +1 929 205 6099 US (New York)\n• +1 360 209 5623 US\n• +1 386 347 5053 US\n• +1 507 473 4847 US\n• +1 564 217 2000 US\n• +1 669 444 9171 US\n• +1 669 900 6833 US (San Jose)\n• +1 689 278 1000 US\n• +1 719 359 4580 US\n• +1 253 205 0468 US\n• +1 253 215 8782 US (Tacoma)\n• +1 346 248 7799 US (Houston) \nMeeting ID: 898 2928 3596\nPasscode: 543602 \nFind your local number: https://us06web.zoom.us/u/kcHBCaLFuj
URL:https://sugarfreemomtribe.com/event/new-member-meeting-oct-24/
LOCATION:Zoom
END:VEVENT
BEGIN:VEVENT
DTSTART;TZID=America/New_York:20241028T210000
DTEND;TZID=America/New_York:20241028T213000
DTSTAMP:20260420T142425
CREATED:20240930T201630Z
LAST-MODIFIED:20240930T202027Z
UID:10000062-1730149200-1730151000@sugarfreemomtribe.com
SUMMARY:Accountability Meeting with Angie
DESCRIPTION:Join Zoom Meeting\nhttps://us06web.zoom.us/j/83335715890?pwd=0vXdy517DUdrn6BHsn6Ebe1kJdaixM.1 \nMeeting ID: 833 3571 5890\nPasscode: 554575 \n— \nOne tap mobile\n+13092053325\,\,83335715890#\,\,\,\,*554575# US\n+13126266799\,\,83335715890#\,\,\,\,*554575# US (Chicago) \n— \nDial by your location\n• +1 309 205 3325 US\n• +1 312 626 6799 US (Chicago)\n• +1 646 931 3860 US\n• +1 929 205 6099 US (New York)\n• +1 301 715 8592 US (Washington DC)\n• +1 305 224 1968 US\n• +1 346 248 7799 US (Houston)\n• +1 360 209 5623 US\n• +1 386 347 5053 US\n• +1 507 473 4847 US\n• +1 564 217 2000 US\n• +1 669 444 9171 US\n• +1 669 900 6833 US (San Jose)\n• +1 689 278 1000 US\n• +1 719 359 4580 US\n• +1 253 205 0468 US\n• +1 253 215 8782 US (Tacoma) \nMeeting ID: 833 3571 5890\nPasscode: 554575 \nFind your local number: https://us06web.zoom.us/u/kbtIDhXjf
URL:https://sugarfreemomtribe.com/event/accountability-meeting-with-angie-2-2-2/2024-10-28/
LOCATION:Zoom
END:VEVENT
BEGIN:VEVENT
DTSTART;TZID=America/New_York:20241030T190000
DTEND;TZID=America/New_York:20241030T200000
DTSTAMP:20260420T142425
CREATED:20240404T165658Z
LAST-MODIFIED:20251206T133232Z
UID:10000322-1730314800-1730318400@sugarfreemomtribe.com
SUMMARY:Weekly Coaching with Brenda
DESCRIPTION:https://zoom.us/j/97447023403?pwd=T1dxQ0VJNGlBSVBUTUM1VFppNzFHUT09
URL:https://sugarfreemomtribe.com/event/weekly-coaching-with-brenda-2-2/2024-10-30/
LOCATION:Zoom
END:VEVENT
BEGIN:VEVENT
DTSTART;TZID=America/New_York:20241031T113000
DTEND;TZID=America/New_York:20241031T120000
DTSTAMP:20260420T142425
CREATED:20241002T080050Z
LAST-MODIFIED:20250425T071652Z
UID:10000582-1730374200-1730376000@sugarfreemomtribe.com
SUMMARY:Weekly Midday Check-in
DESCRIPTION:Join Zoom Meeting\nhttps://us06web.zoom.us/j/87450490256?pwd=F6S73gtFtF9nBtPDinqGjf5I3MhN5c.1 \nMeeting ID: 874 5049 0256\nPasscode: 901494 \n— \nOne tap mobile\n+16469313860\,\,87450490256#\,\,\,\,*901494# US\n+19292056099\,\,87450490256#\,\,\,\,*901494# US (New York) \n— \nDial by your location\n• +1 646 931 3860 US\n• +1 929 205 6099 US (New York)\n• +1 301 715 8592 US (Washington DC)\n• +1 305 224 1968 US\n• +1 309 205 3325 US\n• +1 312 626 6799 US (Chicago)\n• +1 360 209 5623 US\n• +1 386 347 5053 US\n• +1 507 473 4847 US\n• +1 564 217 2000 US\n• +1 669 444 9171 US\n• +1 669 900 6833 US (San Jose)\n• +1 689 278 1000 US\n• +1 719 359 4580 US\n• +1 253 205 0468 US\n• +1 253 215 8782 US (Tacoma)\n• +1 346 248 7799 US (Houston) \nMeeting ID: 874 5049 0256\nPasscode: 901494 \nFind your local number: https://us06web.zoom.us/u/kbSt94FJ1i
URL:https://sugarfreemomtribe.com/event/weekly-midday-check-in-2-2/2024-10-31/
LOCATION:Zoom
END:VEVENT
END:VCALENDAR