BEGIN:VCALENDAR
VERSION:2.0
PRODID:-//Sugar-Free Mom Courses - ECPv6.15.20//NONSGML v1.0//EN
CALSCALE:GREGORIAN
METHOD:PUBLISH
X-ORIGINAL-URL:https://sugarfreemomtribe.com
X-WR-CALDESC:Events for Sugar-Free Mom Courses
REFRESH-INTERVAL;VALUE=DURATION:PT1H
X-Robots-Tag:noindex
X-PUBLISHED-TTL:PT1H
BEGIN:VTIMEZONE
TZID:America/New_York
BEGIN:DAYLIGHT
TZOFFSETFROM:-0500
TZOFFSETTO:-0400
TZNAME:EDT
DTSTART:20240310T070000
END:DAYLIGHT
BEGIN:STANDARD
TZOFFSETFROM:-0400
TZOFFSETTO:-0500
TZNAME:EST
DTSTART:20241103T060000
END:STANDARD
BEGIN:DAYLIGHT
TZOFFSETFROM:-0500
TZOFFSETTO:-0400
TZNAME:EDT
DTSTART:20250309T070000
END:DAYLIGHT
BEGIN:STANDARD
TZOFFSETFROM:-0400
TZOFFSETTO:-0500
TZNAME:EST
DTSTART:20251102T060000
END:STANDARD
BEGIN:DAYLIGHT
TZOFFSETFROM:-0500
TZOFFSETTO:-0400
TZNAME:EDT
DTSTART:20260308T070000
END:DAYLIGHT
BEGIN:STANDARD
TZOFFSETFROM:-0400
TZOFFSETTO:-0500
TZNAME:EST
DTSTART:20261101T060000
END:STANDARD
END:VTIMEZONE
BEGIN:VEVENT
DTSTART;TZID=America/New_York:20251103T203000
DTEND;TZID=America/New_York:20251103T213000
DTSTAMP:20260419T150301
CREATED:20250218T153537Z
LAST-MODIFIED:20250425T072407Z
UID:10001546-1762201800-1762205400@sugarfreemomtribe.com
SUMMARY:Accountability Meeting with Angie
DESCRIPTION:Join Zoom Meeting\nhttps://us06web.zoom.us/j/83335715890?pwd=0vXdy517DUdrn6BHsn6Ebe1kJdaixM.1 \nMeeting ID: 833 3571 5890\nPasscode: 554575 \n— \nOne tap mobile\n+13092053325\,\,83335715890#\,\,\,\,*554575# US\n+13126266799\,\,83335715890#\,\,\,\,*554575# US (Chicago) \n— \nDial by your location\n• +1 309 205 3325 US\n• +1 312 626 6799 US (Chicago)\n• +1 646 931 3860 US\n• +1 929 205 6099 US (New York)\n• +1 301 715 8592 US (Washington DC)\n• +1 305 224 1968 US\n• +1 346 248 7799 US (Houston)\n• +1 360 209 5623 US\n• +1 386 347 5053 US\n• +1 507 473 4847 US\n• +1 564 217 2000 US\n• +1 669 444 9171 US\n• +1 669 900 6833 US (San Jose)\n• +1 689 278 1000 US\n• +1 719 359 4580 US\n• +1 253 205 0468 US\n• +1 253 215 8782 US (Tacoma) \nMeeting ID: 833 3571 5890\nPasscode: 554575 \nFind your local number: https://us06web.zoom.us/u/kbtIDhXjf
URL:https://sugarfreemomtribe.com/event/accountability-meeting-with-angie-2-2-2-3-2/2025-11-03/
LOCATION:Zoom
END:VEVENT
BEGIN:VEVENT
DTSTART;TZID=America/New_York:20251104T113000
DTEND;TZID=America/New_York:20251104T120000
DTSTAMP:20260419T150301
CREATED:20250714T142700Z
LAST-MODIFIED:20250714T142700Z
UID:10001899-1762255800-1762257600@sugarfreemomtribe.com
SUMMARY:Weekly Midday Check-in
DESCRIPTION:Join Zoom Meeting\nhttps://us06web.zoom.us/j/87450490256?pwd=F6S73gtFtF9nBtPDinqGjf5I3MhN5c.1 \nMeeting ID: 874 5049 0256\nPasscode: 901494 \n— \nOne tap mobile\n+16469313860\,\,87450490256#\,\,\,\,*901494# US\n+19292056099\,\,87450490256#\,\,\,\,*901494# US (New York) \n— \nDial by your location\n• +1 646 931 3860 US\n• +1 929 205 6099 US (New York)\n• +1 301 715 8592 US (Washington DC)\n• +1 305 224 1968 US\n• +1 309 205 3325 US\n• +1 312 626 6799 US (Chicago)\n• +1 360 209 5623 US\n• +1 386 347 5053 US\n• +1 507 473 4847 US\n• +1 564 217 2000 US\n• +1 669 444 9171 US\n• +1 669 900 6833 US (San Jose)\n• +1 689 278 1000 US\n• +1 719 359 4580 US\n• +1 253 205 0468 US\n• +1 253 215 8782 US (Tacoma)\n• +1 346 248 7799 US (Houston) \nMeeting ID: 874 5049 0256\nPasscode: 901494 \nFind your local number: https://us06web.zoom.us/u/kbSt94FJ1i
URL:https://sugarfreemomtribe.com/event/weekly-midday-check-in-2-2-2/2025-11-04/
LOCATION:Zoom
END:VEVENT
BEGIN:VEVENT
DTSTART;TZID=America/New_York:20251105T190000
DTEND;TZID=America/New_York:20251105T200000
DTSTAMP:20260419T150301
CREATED:20240404T165658Z
LAST-MODIFIED:20251206T133232Z
UID:10000375-1762369200-1762372800@sugarfreemomtribe.com
SUMMARY:Weekly Coaching with Brenda
DESCRIPTION:https://zoom.us/j/97447023403?pwd=T1dxQ0VJNGlBSVBUTUM1VFppNzFHUT09
URL:https://sugarfreemomtribe.com/event/weekly-coaching-with-brenda-2-2/2025-11-05/
LOCATION:Zoom
END:VEVENT
BEGIN:VEVENT
DTSTART;TZID=America/New_York:20251106T190000
DTEND;TZID=America/New_York:20251106T200000
DTSTAMP:20260419T150301
CREATED:20250929T104725Z
LAST-MODIFIED:20251030T162352Z
UID:10002155-1762455600-1762459200@sugarfreemomtribe.com
SUMMARY:Maintenance & Accountability Meeting
DESCRIPTION:https://us06web.zoom.us/j/83833319167?pwd=teWDbxvH1qAlws5WKfGYq4GgtFQdrh.1 \nFirst Thursday – Maintenance is the focus\, but all are welcome for accountability. Recorded.\nSubsequent Thursdays –  Accountability is the focus. Not recorded.\n 
URL:https://sugarfreemomtribe.com/event/maintenance-accountability-meeting/2025-11-06/
LOCATION:Zoom
END:VEVENT
BEGIN:VEVENT
DTSTART;TZID=America/New_York:20251110T203000
DTEND;TZID=America/New_York:20251110T213000
DTSTAMP:20260419T150301
CREATED:20250218T153537Z
LAST-MODIFIED:20250425T072407Z
UID:10001547-1762806600-1762810200@sugarfreemomtribe.com
SUMMARY:Accountability Meeting with Angie
DESCRIPTION:Join Zoom Meeting\nhttps://us06web.zoom.us/j/83335715890?pwd=0vXdy517DUdrn6BHsn6Ebe1kJdaixM.1 \nMeeting ID: 833 3571 5890\nPasscode: 554575 \n— \nOne tap mobile\n+13092053325\,\,83335715890#\,\,\,\,*554575# US\n+13126266799\,\,83335715890#\,\,\,\,*554575# US (Chicago) \n— \nDial by your location\n• +1 309 205 3325 US\n• +1 312 626 6799 US (Chicago)\n• +1 646 931 3860 US\n• +1 929 205 6099 US (New York)\n• +1 301 715 8592 US (Washington DC)\n• +1 305 224 1968 US\n• +1 346 248 7799 US (Houston)\n• +1 360 209 5623 US\n• +1 386 347 5053 US\n• +1 507 473 4847 US\n• +1 564 217 2000 US\n• +1 669 444 9171 US\n• +1 669 900 6833 US (San Jose)\n• +1 689 278 1000 US\n• +1 719 359 4580 US\n• +1 253 205 0468 US\n• +1 253 215 8782 US (Tacoma) \nMeeting ID: 833 3571 5890\nPasscode: 554575 \nFind your local number: https://us06web.zoom.us/u/kbtIDhXjf
URL:https://sugarfreemomtribe.com/event/accountability-meeting-with-angie-2-2-2-3-2/2025-11-10/
LOCATION:Zoom
END:VEVENT
BEGIN:VEVENT
DTSTART;TZID=America/New_York:20251111T113000
DTEND;TZID=America/New_York:20251111T120000
DTSTAMP:20260419T150301
CREATED:20250714T142700Z
LAST-MODIFIED:20250714T142700Z
UID:10001900-1762860600-1762862400@sugarfreemomtribe.com
SUMMARY:Weekly Midday Check-in
DESCRIPTION:Join Zoom Meeting\nhttps://us06web.zoom.us/j/87450490256?pwd=F6S73gtFtF9nBtPDinqGjf5I3MhN5c.1 \nMeeting ID: 874 5049 0256\nPasscode: 901494 \n— \nOne tap mobile\n+16469313860\,\,87450490256#\,\,\,\,*901494# US\n+19292056099\,\,87450490256#\,\,\,\,*901494# US (New York) \n— \nDial by your location\n• +1 646 931 3860 US\n• +1 929 205 6099 US (New York)\n• +1 301 715 8592 US (Washington DC)\n• +1 305 224 1968 US\n• +1 309 205 3325 US\n• +1 312 626 6799 US (Chicago)\n• +1 360 209 5623 US\n• +1 386 347 5053 US\n• +1 507 473 4847 US\n• +1 564 217 2000 US\n• +1 669 444 9171 US\n• +1 669 900 6833 US (San Jose)\n• +1 689 278 1000 US\n• +1 719 359 4580 US\n• +1 253 205 0468 US\n• +1 253 215 8782 US (Tacoma)\n• +1 346 248 7799 US (Houston) \nMeeting ID: 874 5049 0256\nPasscode: 901494 \nFind your local number: https://us06web.zoom.us/u/kbSt94FJ1i
URL:https://sugarfreemomtribe.com/event/weekly-midday-check-in-2-2-2/2025-11-11/
LOCATION:Zoom
END:VEVENT
BEGIN:VEVENT
DTSTART;TZID=America/New_York:20251112T190000
DTEND;TZID=America/New_York:20251112T200000
DTSTAMP:20260419T150301
CREATED:20240404T165658Z
LAST-MODIFIED:20251206T133232Z
UID:10000376-1762974000-1762977600@sugarfreemomtribe.com
SUMMARY:Weekly Coaching with Brenda
DESCRIPTION:https://zoom.us/j/97447023403?pwd=T1dxQ0VJNGlBSVBUTUM1VFppNzFHUT09
URL:https://sugarfreemomtribe.com/event/weekly-coaching-with-brenda-2-2/2025-11-12/
LOCATION:Zoom
END:VEVENT
BEGIN:VEVENT
DTSTART;TZID=America/New_York:20251113T190000
DTEND;TZID=America/New_York:20251113T200000
DTSTAMP:20260419T150301
CREATED:20250929T104725Z
LAST-MODIFIED:20251030T162352Z
UID:10002156-1763060400-1763064000@sugarfreemomtribe.com
SUMMARY:Maintenance & Accountability Meeting
DESCRIPTION:https://us06web.zoom.us/j/83833319167?pwd=teWDbxvH1qAlws5WKfGYq4GgtFQdrh.1 \nFirst Thursday – Maintenance is the focus\, but all are welcome for accountability. Recorded.\nSubsequent Thursdays –  Accountability is the focus. Not recorded.\n 
URL:https://sugarfreemomtribe.com/event/maintenance-accountability-meeting/2025-11-13/
LOCATION:Zoom
END:VEVENT
BEGIN:VEVENT
DTSTART;TZID=America/New_York:20251117T200000
DTEND;TZID=America/New_York:20251117T203000
DTSTAMP:20260419T150301
CREATED:20251009T083822Z
LAST-MODIFIED:20251009T083822Z
UID:10002412-1763409600-1763411400@sugarfreemomtribe.com
SUMMARY:New Member Meeting
DESCRIPTION:Join Zoom Meeting\nhttps://us06web.zoom.us/j/89829283596?pwd=TG0xV0UwR2pGTUMrWTMvMWxjanpwdz09 \nMeeting ID: 898 2928 3596\nPasscode: 543602 \n— \nOne tap mobile\n+13017158592\,\,89829283596#\,\,\,\,*543602# US (Washington DC)\n+13052241968\,\,89829283596#\,\,\,\,*543602# US \n— \nDial by your location\n• +1 301 715 8592 US (Washington DC)\n• +1 305 224 1968 US\n• +1 309 205 3325 US\n• +1 312 626 6799 US (Chicago)\n• +1 646 931 3860 US\n• +1 929 205 6099 US (New York)\n• +1 360 209 5623 US\n• +1 386 347 5053 US\n• +1 507 473 4847 US\n• +1 564 217 2000 US\n• +1 669 444 9171 US\n• +1 669 900 6833 US (San Jose)\n• +1 689 278 1000 US\n• +1 719 359 4580 US\n• +1 253 205 0468 US\n• +1 253 215 8782 US (Tacoma)\n• +1 346 248 7799 US (Houston) \nMeeting ID: 898 2928 3596\nPasscode: 543602 \nFind your local number: https://us06web.zoom.us/u/kcHBCaLFuj
URL:https://sugarfreemomtribe.com/event/new-member-meeting-november-2025/
LOCATION:Zoom
END:VEVENT
BEGIN:VEVENT
DTSTART;TZID=America/New_York:20251117T203000
DTEND;TZID=America/New_York:20251117T213000
DTSTAMP:20260419T150301
CREATED:20250218T153537Z
LAST-MODIFIED:20250425T072407Z
UID:10001548-1763411400-1763415000@sugarfreemomtribe.com
SUMMARY:Accountability Meeting with Angie
DESCRIPTION:Join Zoom Meeting\nhttps://us06web.zoom.us/j/83335715890?pwd=0vXdy517DUdrn6BHsn6Ebe1kJdaixM.1 \nMeeting ID: 833 3571 5890\nPasscode: 554575 \n— \nOne tap mobile\n+13092053325\,\,83335715890#\,\,\,\,*554575# US\n+13126266799\,\,83335715890#\,\,\,\,*554575# US (Chicago) \n— \nDial by your location\n• +1 309 205 3325 US\n• +1 312 626 6799 US (Chicago)\n• +1 646 931 3860 US\n• +1 929 205 6099 US (New York)\n• +1 301 715 8592 US (Washington DC)\n• +1 305 224 1968 US\n• +1 346 248 7799 US (Houston)\n• +1 360 209 5623 US\n• +1 386 347 5053 US\n• +1 507 473 4847 US\n• +1 564 217 2000 US\n• +1 669 444 9171 US\n• +1 669 900 6833 US (San Jose)\n• +1 689 278 1000 US\n• +1 719 359 4580 US\n• +1 253 205 0468 US\n• +1 253 215 8782 US (Tacoma) \nMeeting ID: 833 3571 5890\nPasscode: 554575 \nFind your local number: https://us06web.zoom.us/u/kbtIDhXjf
URL:https://sugarfreemomtribe.com/event/accountability-meeting-with-angie-2-2-2-3-2/2025-11-17/
LOCATION:Zoom
END:VEVENT
BEGIN:VEVENT
DTSTART;TZID=America/New_York:20251118T113000
DTEND;TZID=America/New_York:20251118T120000
DTSTAMP:20260419T150301
CREATED:20250714T142700Z
LAST-MODIFIED:20250714T142700Z
UID:10001901-1763465400-1763467200@sugarfreemomtribe.com
SUMMARY:Weekly Midday Check-in
DESCRIPTION:Join Zoom Meeting\nhttps://us06web.zoom.us/j/87450490256?pwd=F6S73gtFtF9nBtPDinqGjf5I3MhN5c.1 \nMeeting ID: 874 5049 0256\nPasscode: 901494 \n— \nOne tap mobile\n+16469313860\,\,87450490256#\,\,\,\,*901494# US\n+19292056099\,\,87450490256#\,\,\,\,*901494# US (New York) \n— \nDial by your location\n• +1 646 931 3860 US\n• +1 929 205 6099 US (New York)\n• +1 301 715 8592 US (Washington DC)\n• +1 305 224 1968 US\n• +1 309 205 3325 US\n• +1 312 626 6799 US (Chicago)\n• +1 360 209 5623 US\n• +1 386 347 5053 US\n• +1 507 473 4847 US\n• +1 564 217 2000 US\n• +1 669 444 9171 US\n• +1 669 900 6833 US (San Jose)\n• +1 689 278 1000 US\n• +1 719 359 4580 US\n• +1 253 205 0468 US\n• +1 253 215 8782 US (Tacoma)\n• +1 346 248 7799 US (Houston) \nMeeting ID: 874 5049 0256\nPasscode: 901494 \nFind your local number: https://us06web.zoom.us/u/kbSt94FJ1i
URL:https://sugarfreemomtribe.com/event/weekly-midday-check-in-2-2-2/2025-11-18/
LOCATION:Zoom
END:VEVENT
BEGIN:VEVENT
DTSTART;TZID=America/New_York:20251119T190000
DTEND;TZID=America/New_York:20251119T200000
DTSTAMP:20260419T150301
CREATED:20240404T165658Z
LAST-MODIFIED:20251206T133232Z
UID:10000377-1763578800-1763582400@sugarfreemomtribe.com
SUMMARY:Weekly Coaching with Brenda
DESCRIPTION:https://zoom.us/j/97447023403?pwd=T1dxQ0VJNGlBSVBUTUM1VFppNzFHUT09
URL:https://sugarfreemomtribe.com/event/weekly-coaching-with-brenda-2-2/2025-11-19/
LOCATION:Zoom
END:VEVENT
BEGIN:VEVENT
DTSTART;TZID=America/New_York:20251120T190000
DTEND;TZID=America/New_York:20251120T200000
DTSTAMP:20260419T150301
CREATED:20250929T104725Z
LAST-MODIFIED:20251030T162352Z
UID:10002157-1763665200-1763668800@sugarfreemomtribe.com
SUMMARY:Maintenance & Accountability Meeting
DESCRIPTION:https://us06web.zoom.us/j/83833319167?pwd=teWDbxvH1qAlws5WKfGYq4GgtFQdrh.1 \nFirst Thursday – Maintenance is the focus\, but all are welcome for accountability. Recorded.\nSubsequent Thursdays –  Accountability is the focus. Not recorded.\n 
URL:https://sugarfreemomtribe.com/event/maintenance-accountability-meeting/2025-11-20/
LOCATION:Zoom
END:VEVENT
BEGIN:VEVENT
DTSTART;TZID=America/New_York:20251124T203000
DTEND;TZID=America/New_York:20251124T213000
DTSTAMP:20260419T150301
CREATED:20250218T153537Z
LAST-MODIFIED:20250425T072407Z
UID:10001549-1764016200-1764019800@sugarfreemomtribe.com
SUMMARY:Accountability Meeting with Angie
DESCRIPTION:Join Zoom Meeting\nhttps://us06web.zoom.us/j/83335715890?pwd=0vXdy517DUdrn6BHsn6Ebe1kJdaixM.1 \nMeeting ID: 833 3571 5890\nPasscode: 554575 \n— \nOne tap mobile\n+13092053325\,\,83335715890#\,\,\,\,*554575# US\n+13126266799\,\,83335715890#\,\,\,\,*554575# US (Chicago) \n— \nDial by your location\n• +1 309 205 3325 US\n• +1 312 626 6799 US (Chicago)\n• +1 646 931 3860 US\n• +1 929 205 6099 US (New York)\n• +1 301 715 8592 US (Washington DC)\n• +1 305 224 1968 US\n• +1 346 248 7799 US (Houston)\n• +1 360 209 5623 US\n• +1 386 347 5053 US\n• +1 507 473 4847 US\n• +1 564 217 2000 US\n• +1 669 444 9171 US\n• +1 669 900 6833 US (San Jose)\n• +1 689 278 1000 US\n• +1 719 359 4580 US\n• +1 253 205 0468 US\n• +1 253 215 8782 US (Tacoma) \nMeeting ID: 833 3571 5890\nPasscode: 554575 \nFind your local number: https://us06web.zoom.us/u/kbtIDhXjf
URL:https://sugarfreemomtribe.com/event/accountability-meeting-with-angie-2-2-2-3-2/2025-11-24/
LOCATION:Zoom
END:VEVENT
BEGIN:VEVENT
DTSTART;TZID=America/New_York:20251125T113000
DTEND;TZID=America/New_York:20251125T120000
DTSTAMP:20260419T150301
CREATED:20250714T142700Z
LAST-MODIFIED:20250714T142700Z
UID:10001902-1764070200-1764072000@sugarfreemomtribe.com
SUMMARY:Weekly Midday Check-in
DESCRIPTION:Join Zoom Meeting\nhttps://us06web.zoom.us/j/87450490256?pwd=F6S73gtFtF9nBtPDinqGjf5I3MhN5c.1 \nMeeting ID: 874 5049 0256\nPasscode: 901494 \n— \nOne tap mobile\n+16469313860\,\,87450490256#\,\,\,\,*901494# US\n+19292056099\,\,87450490256#\,\,\,\,*901494# US (New York) \n— \nDial by your location\n• +1 646 931 3860 US\n• +1 929 205 6099 US (New York)\n• +1 301 715 8592 US (Washington DC)\n• +1 305 224 1968 US\n• +1 309 205 3325 US\n• +1 312 626 6799 US (Chicago)\n• +1 360 209 5623 US\n• +1 386 347 5053 US\n• +1 507 473 4847 US\n• +1 564 217 2000 US\n• +1 669 444 9171 US\n• +1 669 900 6833 US (San Jose)\n• +1 689 278 1000 US\n• +1 719 359 4580 US\n• +1 253 205 0468 US\n• +1 253 215 8782 US (Tacoma)\n• +1 346 248 7799 US (Houston) \nMeeting ID: 874 5049 0256\nPasscode: 901494 \nFind your local number: https://us06web.zoom.us/u/kbSt94FJ1i
URL:https://sugarfreemomtribe.com/event/weekly-midday-check-in-2-2-2/2025-11-25/
LOCATION:Zoom
END:VEVENT
END:VCALENDAR