BEGIN:VCALENDAR
VERSION:2.0
PRODID:-//Sugar-Free Mom Courses - ECPv6.15.20//NONSGML v1.0//EN
CALSCALE:GREGORIAN
METHOD:PUBLISH
X-WR-CALNAME:Sugar-Free Mom Courses
X-ORIGINAL-URL:https://sugarfreemomtribe.com
X-WR-CALDESC:Events for Sugar-Free Mom Courses
REFRESH-INTERVAL;VALUE=DURATION:PT1H
X-Robots-Tag:noindex
X-PUBLISHED-TTL:PT1H
BEGIN:VTIMEZONE
TZID:America/New_York
BEGIN:DAYLIGHT
TZOFFSETFROM:-0500
TZOFFSETTO:-0400
TZNAME:EDT
DTSTART:20250309T070000
END:DAYLIGHT
BEGIN:STANDARD
TZOFFSETFROM:-0400
TZOFFSETTO:-0500
TZNAME:EST
DTSTART:20251102T060000
END:STANDARD
BEGIN:DAYLIGHT
TZOFFSETFROM:-0500
TZOFFSETTO:-0400
TZNAME:EDT
DTSTART:20260308T070000
END:DAYLIGHT
BEGIN:STANDARD
TZOFFSETFROM:-0400
TZOFFSETTO:-0500
TZNAME:EST
DTSTART:20261101T060000
END:STANDARD
BEGIN:DAYLIGHT
TZOFFSETFROM:-0500
TZOFFSETTO:-0400
TZNAME:EDT
DTSTART:20270314T070000
END:DAYLIGHT
BEGIN:STANDARD
TZOFFSETFROM:-0400
TZOFFSETTO:-0500
TZNAME:EST
DTSTART:20271107T060000
END:STANDARD
END:VTIMEZONE
BEGIN:VEVENT
DTSTART;TZID=America/New_York:20261201T120000
DTEND;TZID=America/New_York:20261201T123000
DTSTAMP:20260419T193159
CREATED:20260410T155131Z
LAST-MODIFIED:20260410T155131Z
UID:10002792-1796126400-1796128200@sugarfreemomtribe.com
SUMMARY:Weekly Midday Check-in
DESCRIPTION:Join Zoom Meeting\nhttps://us06web.zoom.us/j/87450490256?pwd=F6S73gtFtF9nBtPDinqGjf5I3MhN5c.1 \nMeeting ID: 874 5049 0256\nPasscode: 901494 \n— \nOne tap mobile\n+16469313860\,\,87450490256#\,\,\,\,*901494# US\n+19292056099\,\,87450490256#\,\,\,\,*901494# US (New York) \n— \nDial by your location\n• +1 646 931 3860 US\n• +1 929 205 6099 US (New York)\n• +1 301 715 8592 US (Washington DC)\n• +1 305 224 1968 US\n• +1 309 205 3325 US\n• +1 312 626 6799 US (Chicago)\n• +1 360 209 5623 US\n• +1 386 347 5053 US\n• +1 507 473 4847 US\n• +1 564 217 2000 US\n• +1 669 444 9171 US\n• +1 669 900 6833 US (San Jose)\n• +1 689 278 1000 US\n• +1 719 359 4580 US\n• +1 253 205 0468 US\n• +1 253 215 8782 US (Tacoma)\n• +1 346 248 7799 US (Houston) \nMeeting ID: 874 5049 0256\nPasscode: 901494 \nFind your local number: https://us06web.zoom.us/u/kbSt94FJ1i
URL:https://sugarfreemomtribe.com/event/weekly-midday-check-in-2-2-2-2/2026-12-01/
LOCATION:Zoom
END:VEVENT
BEGIN:VEVENT
DTSTART;TZID=America/New_York:20261202T190000
DTEND;TZID=America/New_York:20261202T200000
DTSTAMP:20260419T193159
CREATED:20240404T165658Z
LAST-MODIFIED:20251206T133232Z
UID:10000431-1796238000-1796241600@sugarfreemomtribe.com
SUMMARY:Weekly Coaching with Brenda
DESCRIPTION:https://zoom.us/j/97447023403?pwd=T1dxQ0VJNGlBSVBUTUM1VFppNzFHUT09
URL:https://sugarfreemomtribe.com/event/weekly-coaching-with-brenda-2-2/2026-12-02/
LOCATION:Zoom
END:VEVENT
BEGIN:VEVENT
DTSTART;TZID=America/New_York:20261203T190000
DTEND;TZID=America/New_York:20261203T200000
DTSTAMP:20260419T193159
CREATED:20250929T104725Z
LAST-MODIFIED:20251030T162352Z
UID:10002211-1796324400-1796328000@sugarfreemomtribe.com
SUMMARY:Maintenance & Accountability Meeting
DESCRIPTION:https://us06web.zoom.us/j/83833319167?pwd=teWDbxvH1qAlws5WKfGYq4GgtFQdrh.1 \nFirst Thursday – Maintenance is the focus\, but all are welcome for accountability. Recorded.\nSubsequent Thursdays –  Accountability is the focus. Not recorded.\n 
URL:https://sugarfreemomtribe.com/event/maintenance-accountability-meeting/2026-12-03/
LOCATION:Zoom
END:VEVENT
BEGIN:VEVENT
DTSTART;TZID=America/New_York:20261207T200000
DTEND;TZID=America/New_York:20261207T210000
DTSTAMP:20260419T193159
CREATED:20260408T080959Z
LAST-MODIFIED:20260408T080959Z
UID:10002531-1796673600-1796677200@sugarfreemomtribe.com
SUMMARY:Accountability Meeting with Angie
DESCRIPTION:Join Zoom Meeting\nhttps://us06web.zoom.us/j/83335715890?pwd=0vXdy517DUdrn6BHsn6Ebe1kJdaixM.1 \nMeeting ID: 833 3571 5890\nPasscode: 554575 \n— \nOne tap mobile\n+13092053325\,\,83335715890#\,\,\,\,*554575# US\n+13126266799\,\,83335715890#\,\,\,\,*554575# US (Chicago) \n— \nDial by your location\n• +1 309 205 3325 US\n• +1 312 626 6799 US (Chicago)\n• +1 646 931 3860 US\n• +1 929 205 6099 US (New York)\n• +1 301 715 8592 US (Washington DC)\n• +1 305 224 1968 US\n• +1 346 248 7799 US (Houston)\n• +1 360 209 5623 US\n• +1 386 347 5053 US\n• +1 507 473 4847 US\n• +1 564 217 2000 US\n• +1 669 444 9171 US\n• +1 669 900 6833 US (San Jose)\n• +1 689 278 1000 US\n• +1 719 359 4580 US\n• +1 253 205 0468 US\n• +1 253 215 8782 US (Tacoma) \nMeeting ID: 833 3571 5890\nPasscode: 554575 \nFind your local number: https://us06web.zoom.us/u/kbtIDhXjf
URL:https://sugarfreemomtribe.com/event/accountability-meeting-with-angie-2-2-2-3-2-3/2026-12-07/
LOCATION:Zoom
END:VEVENT
BEGIN:VEVENT
DTSTART;TZID=America/New_York:20261208T120000
DTEND;TZID=America/New_York:20261208T123000
DTSTAMP:20260419T193159
CREATED:20260410T155131Z
LAST-MODIFIED:20260410T155131Z
UID:10002793-1796731200-1796733000@sugarfreemomtribe.com
SUMMARY:Weekly Midday Check-in
DESCRIPTION:Join Zoom Meeting\nhttps://us06web.zoom.us/j/87450490256?pwd=F6S73gtFtF9nBtPDinqGjf5I3MhN5c.1 \nMeeting ID: 874 5049 0256\nPasscode: 901494 \n— \nOne tap mobile\n+16469313860\,\,87450490256#\,\,\,\,*901494# US\n+19292056099\,\,87450490256#\,\,\,\,*901494# US (New York) \n— \nDial by your location\n• +1 646 931 3860 US\n• +1 929 205 6099 US (New York)\n• +1 301 715 8592 US (Washington DC)\n• +1 305 224 1968 US\n• +1 309 205 3325 US\n• +1 312 626 6799 US (Chicago)\n• +1 360 209 5623 US\n• +1 386 347 5053 US\n• +1 507 473 4847 US\n• +1 564 217 2000 US\n• +1 669 444 9171 US\n• +1 669 900 6833 US (San Jose)\n• +1 689 278 1000 US\n• +1 719 359 4580 US\n• +1 253 205 0468 US\n• +1 253 215 8782 US (Tacoma)\n• +1 346 248 7799 US (Houston) \nMeeting ID: 874 5049 0256\nPasscode: 901494 \nFind your local number: https://us06web.zoom.us/u/kbSt94FJ1i
URL:https://sugarfreemomtribe.com/event/weekly-midday-check-in-2-2-2-2/2026-12-08/
LOCATION:Zoom
END:VEVENT
BEGIN:VEVENT
DTSTART;TZID=America/New_York:20261209T190000
DTEND;TZID=America/New_York:20261209T200000
DTSTAMP:20260419T193159
CREATED:20240404T165658Z
LAST-MODIFIED:20251206T133232Z
UID:10000432-1796842800-1796846400@sugarfreemomtribe.com
SUMMARY:Weekly Coaching with Brenda
DESCRIPTION:https://zoom.us/j/97447023403?pwd=T1dxQ0VJNGlBSVBUTUM1VFppNzFHUT09
URL:https://sugarfreemomtribe.com/event/weekly-coaching-with-brenda-2-2/2026-12-09/
LOCATION:Zoom
END:VEVENT
BEGIN:VEVENT
DTSTART;TZID=America/New_York:20261210T190000
DTEND;TZID=America/New_York:20261210T200000
DTSTAMP:20260419T193159
CREATED:20250929T104725Z
LAST-MODIFIED:20251030T162352Z
UID:10002212-1796929200-1796932800@sugarfreemomtribe.com
SUMMARY:Maintenance & Accountability Meeting
DESCRIPTION:https://us06web.zoom.us/j/83833319167?pwd=teWDbxvH1qAlws5WKfGYq4GgtFQdrh.1 \nFirst Thursday – Maintenance is the focus\, but all are welcome for accountability. Recorded.\nSubsequent Thursdays –  Accountability is the focus. Not recorded.\n 
URL:https://sugarfreemomtribe.com/event/maintenance-accountability-meeting/2026-12-10/
LOCATION:Zoom
END:VEVENT
BEGIN:VEVENT
DTSTART;TZID=America/New_York:20261214T200000
DTEND;TZID=America/New_York:20261214T210000
DTSTAMP:20260419T193159
CREATED:20260408T080959Z
LAST-MODIFIED:20260408T080959Z
UID:10002532-1797278400-1797282000@sugarfreemomtribe.com
SUMMARY:Accountability Meeting with Angie
DESCRIPTION:Join Zoom Meeting\nhttps://us06web.zoom.us/j/83335715890?pwd=0vXdy517DUdrn6BHsn6Ebe1kJdaixM.1 \nMeeting ID: 833 3571 5890\nPasscode: 554575 \n— \nOne tap mobile\n+13092053325\,\,83335715890#\,\,\,\,*554575# US\n+13126266799\,\,83335715890#\,\,\,\,*554575# US (Chicago) \n— \nDial by your location\n• +1 309 205 3325 US\n• +1 312 626 6799 US (Chicago)\n• +1 646 931 3860 US\n• +1 929 205 6099 US (New York)\n• +1 301 715 8592 US (Washington DC)\n• +1 305 224 1968 US\n• +1 346 248 7799 US (Houston)\n• +1 360 209 5623 US\n• +1 386 347 5053 US\n• +1 507 473 4847 US\n• +1 564 217 2000 US\n• +1 669 444 9171 US\n• +1 669 900 6833 US (San Jose)\n• +1 689 278 1000 US\n• +1 719 359 4580 US\n• +1 253 205 0468 US\n• +1 253 215 8782 US (Tacoma) \nMeeting ID: 833 3571 5890\nPasscode: 554575 \nFind your local number: https://us06web.zoom.us/u/kbtIDhXjf
URL:https://sugarfreemomtribe.com/event/accountability-meeting-with-angie-2-2-2-3-2-3/2026-12-14/
LOCATION:Zoom
END:VEVENT
BEGIN:VEVENT
DTSTART;TZID=America/New_York:20261215T120000
DTEND;TZID=America/New_York:20261215T123000
DTSTAMP:20260419T193159
CREATED:20260410T155131Z
LAST-MODIFIED:20260410T155131Z
UID:10002794-1797336000-1797337800@sugarfreemomtribe.com
SUMMARY:Weekly Midday Check-in
DESCRIPTION:Join Zoom Meeting\nhttps://us06web.zoom.us/j/87450490256?pwd=F6S73gtFtF9nBtPDinqGjf5I3MhN5c.1 \nMeeting ID: 874 5049 0256\nPasscode: 901494 \n— \nOne tap mobile\n+16469313860\,\,87450490256#\,\,\,\,*901494# US\n+19292056099\,\,87450490256#\,\,\,\,*901494# US (New York) \n— \nDial by your location\n• +1 646 931 3860 US\n• +1 929 205 6099 US (New York)\n• +1 301 715 8592 US (Washington DC)\n• +1 305 224 1968 US\n• +1 309 205 3325 US\n• +1 312 626 6799 US (Chicago)\n• +1 360 209 5623 US\n• +1 386 347 5053 US\n• +1 507 473 4847 US\n• +1 564 217 2000 US\n• +1 669 444 9171 US\n• +1 669 900 6833 US (San Jose)\n• +1 689 278 1000 US\n• +1 719 359 4580 US\n• +1 253 205 0468 US\n• +1 253 215 8782 US (Tacoma)\n• +1 346 248 7799 US (Houston) \nMeeting ID: 874 5049 0256\nPasscode: 901494 \nFind your local number: https://us06web.zoom.us/u/kbSt94FJ1i
URL:https://sugarfreemomtribe.com/event/weekly-midday-check-in-2-2-2-2/2026-12-15/
LOCATION:Zoom
END:VEVENT
BEGIN:VEVENT
DTSTART;TZID=America/New_York:20261216T190000
DTEND;TZID=America/New_York:20261216T200000
DTSTAMP:20260419T193159
CREATED:20240404T165658Z
LAST-MODIFIED:20251206T133232Z
UID:10000433-1797447600-1797451200@sugarfreemomtribe.com
SUMMARY:Weekly Coaching with Brenda
DESCRIPTION:https://zoom.us/j/97447023403?pwd=T1dxQ0VJNGlBSVBUTUM1VFppNzFHUT09
URL:https://sugarfreemomtribe.com/event/weekly-coaching-with-brenda-2-2/2026-12-16/
LOCATION:Zoom
END:VEVENT
BEGIN:VEVENT
DTSTART;TZID=America/New_York:20261217T190000
DTEND;TZID=America/New_York:20261217T200000
DTSTAMP:20260419T193159
CREATED:20250929T104725Z
LAST-MODIFIED:20251030T162352Z
UID:10002213-1797534000-1797537600@sugarfreemomtribe.com
SUMMARY:Maintenance & Accountability Meeting
DESCRIPTION:https://us06web.zoom.us/j/83833319167?pwd=teWDbxvH1qAlws5WKfGYq4GgtFQdrh.1 \nFirst Thursday – Maintenance is the focus\, but all are welcome for accountability. Recorded.\nSubsequent Thursdays –  Accountability is the focus. Not recorded.\n 
URL:https://sugarfreemomtribe.com/event/maintenance-accountability-meeting/2026-12-17/
LOCATION:Zoom
END:VEVENT
BEGIN:VEVENT
DTSTART;TZID=America/New_York:20261221T200000
DTEND;TZID=America/New_York:20261221T210000
DTSTAMP:20260419T193159
CREATED:20260408T080959Z
LAST-MODIFIED:20260408T080959Z
UID:10002533-1797883200-1797886800@sugarfreemomtribe.com
SUMMARY:Accountability Meeting with Angie
DESCRIPTION:Join Zoom Meeting\nhttps://us06web.zoom.us/j/83335715890?pwd=0vXdy517DUdrn6BHsn6Ebe1kJdaixM.1 \nMeeting ID: 833 3571 5890\nPasscode: 554575 \n— \nOne tap mobile\n+13092053325\,\,83335715890#\,\,\,\,*554575# US\n+13126266799\,\,83335715890#\,\,\,\,*554575# US (Chicago) \n— \nDial by your location\n• +1 309 205 3325 US\n• +1 312 626 6799 US (Chicago)\n• +1 646 931 3860 US\n• +1 929 205 6099 US (New York)\n• +1 301 715 8592 US (Washington DC)\n• +1 305 224 1968 US\n• +1 346 248 7799 US (Houston)\n• +1 360 209 5623 US\n• +1 386 347 5053 US\n• +1 507 473 4847 US\n• +1 564 217 2000 US\n• +1 669 444 9171 US\n• +1 669 900 6833 US (San Jose)\n• +1 689 278 1000 US\n• +1 719 359 4580 US\n• +1 253 205 0468 US\n• +1 253 215 8782 US (Tacoma) \nMeeting ID: 833 3571 5890\nPasscode: 554575 \nFind your local number: https://us06web.zoom.us/u/kbtIDhXjf
URL:https://sugarfreemomtribe.com/event/accountability-meeting-with-angie-2-2-2-3-2-3/2026-12-21/
LOCATION:Zoom
END:VEVENT
BEGIN:VEVENT
DTSTART;TZID=America/New_York:20261222T120000
DTEND;TZID=America/New_York:20261222T123000
DTSTAMP:20260419T193159
CREATED:20260410T155131Z
LAST-MODIFIED:20260410T155131Z
UID:10002795-1797940800-1797942600@sugarfreemomtribe.com
SUMMARY:Weekly Midday Check-in
DESCRIPTION:Join Zoom Meeting\nhttps://us06web.zoom.us/j/87450490256?pwd=F6S73gtFtF9nBtPDinqGjf5I3MhN5c.1 \nMeeting ID: 874 5049 0256\nPasscode: 901494 \n— \nOne tap mobile\n+16469313860\,\,87450490256#\,\,\,\,*901494# US\n+19292056099\,\,87450490256#\,\,\,\,*901494# US (New York) \n— \nDial by your location\n• +1 646 931 3860 US\n• +1 929 205 6099 US (New York)\n• +1 301 715 8592 US (Washington DC)\n• +1 305 224 1968 US\n• +1 309 205 3325 US\n• +1 312 626 6799 US (Chicago)\n• +1 360 209 5623 US\n• +1 386 347 5053 US\n• +1 507 473 4847 US\n• +1 564 217 2000 US\n• +1 669 444 9171 US\n• +1 669 900 6833 US (San Jose)\n• +1 689 278 1000 US\n• +1 719 359 4580 US\n• +1 253 205 0468 US\n• +1 253 215 8782 US (Tacoma)\n• +1 346 248 7799 US (Houston) \nMeeting ID: 874 5049 0256\nPasscode: 901494 \nFind your local number: https://us06web.zoom.us/u/kbSt94FJ1i
URL:https://sugarfreemomtribe.com/event/weekly-midday-check-in-2-2-2-2/2026-12-22/
LOCATION:Zoom
END:VEVENT
BEGIN:VEVENT
DTSTART;TZID=America/New_York:20261223T190000
DTEND;TZID=America/New_York:20261223T200000
DTSTAMP:20260419T193159
CREATED:20240404T165658Z
LAST-MODIFIED:20251206T133232Z
UID:10000434-1798052400-1798056000@sugarfreemomtribe.com
SUMMARY:Weekly Coaching with Brenda
DESCRIPTION:https://zoom.us/j/97447023403?pwd=T1dxQ0VJNGlBSVBUTUM1VFppNzFHUT09
URL:https://sugarfreemomtribe.com/event/weekly-coaching-with-brenda-2-2/2026-12-23/
LOCATION:Zoom
END:VEVENT
BEGIN:VEVENT
DTSTART;TZID=America/New_York:20261224T190000
DTEND;TZID=America/New_York:20261224T200000
DTSTAMP:20260419T193159
CREATED:20250929T104725Z
LAST-MODIFIED:20251030T162352Z
UID:10002214-1798138800-1798142400@sugarfreemomtribe.com
SUMMARY:Maintenance & Accountability Meeting
DESCRIPTION:https://us06web.zoom.us/j/83833319167?pwd=teWDbxvH1qAlws5WKfGYq4GgtFQdrh.1 \nFirst Thursday – Maintenance is the focus\, but all are welcome for accountability. Recorded.\nSubsequent Thursdays –  Accountability is the focus. Not recorded.\n 
URL:https://sugarfreemomtribe.com/event/maintenance-accountability-meeting/2026-12-24/
LOCATION:Zoom
END:VEVENT
BEGIN:VEVENT
DTSTART;TZID=America/New_York:20261228T200000
DTEND;TZID=America/New_York:20261228T210000
DTSTAMP:20260419T193159
CREATED:20260408T080959Z
LAST-MODIFIED:20260408T080959Z
UID:10002534-1798488000-1798491600@sugarfreemomtribe.com
SUMMARY:Accountability Meeting with Angie
DESCRIPTION:Join Zoom Meeting\nhttps://us06web.zoom.us/j/83335715890?pwd=0vXdy517DUdrn6BHsn6Ebe1kJdaixM.1 \nMeeting ID: 833 3571 5890\nPasscode: 554575 \n— \nOne tap mobile\n+13092053325\,\,83335715890#\,\,\,\,*554575# US\n+13126266799\,\,83335715890#\,\,\,\,*554575# US (Chicago) \n— \nDial by your location\n• +1 309 205 3325 US\n• +1 312 626 6799 US (Chicago)\n• +1 646 931 3860 US\n• +1 929 205 6099 US (New York)\n• +1 301 715 8592 US (Washington DC)\n• +1 305 224 1968 US\n• +1 346 248 7799 US (Houston)\n• +1 360 209 5623 US\n• +1 386 347 5053 US\n• +1 507 473 4847 US\n• +1 564 217 2000 US\n• +1 669 444 9171 US\n• +1 669 900 6833 US (San Jose)\n• +1 689 278 1000 US\n• +1 719 359 4580 US\n• +1 253 205 0468 US\n• +1 253 215 8782 US (Tacoma) \nMeeting ID: 833 3571 5890\nPasscode: 554575 \nFind your local number: https://us06web.zoom.us/u/kbtIDhXjf
URL:https://sugarfreemomtribe.com/event/accountability-meeting-with-angie-2-2-2-3-2-3/2026-12-28/
LOCATION:Zoom
END:VEVENT
BEGIN:VEVENT
DTSTART;TZID=America/New_York:20261229T120000
DTEND;TZID=America/New_York:20261229T123000
DTSTAMP:20260419T193159
CREATED:20260410T155131Z
LAST-MODIFIED:20260410T155131Z
UID:10002796-1798545600-1798547400@sugarfreemomtribe.com
SUMMARY:Weekly Midday Check-in
DESCRIPTION:Join Zoom Meeting\nhttps://us06web.zoom.us/j/87450490256?pwd=F6S73gtFtF9nBtPDinqGjf5I3MhN5c.1 \nMeeting ID: 874 5049 0256\nPasscode: 901494 \n— \nOne tap mobile\n+16469313860\,\,87450490256#\,\,\,\,*901494# US\n+19292056099\,\,87450490256#\,\,\,\,*901494# US (New York) \n— \nDial by your location\n• +1 646 931 3860 US\n• +1 929 205 6099 US (New York)\n• +1 301 715 8592 US (Washington DC)\n• +1 305 224 1968 US\n• +1 309 205 3325 US\n• +1 312 626 6799 US (Chicago)\n• +1 360 209 5623 US\n• +1 386 347 5053 US\n• +1 507 473 4847 US\n• +1 564 217 2000 US\n• +1 669 444 9171 US\n• +1 669 900 6833 US (San Jose)\n• +1 689 278 1000 US\n• +1 719 359 4580 US\n• +1 253 205 0468 US\n• +1 253 215 8782 US (Tacoma)\n• +1 346 248 7799 US (Houston) \nMeeting ID: 874 5049 0256\nPasscode: 901494 \nFind your local number: https://us06web.zoom.us/u/kbSt94FJ1i
URL:https://sugarfreemomtribe.com/event/weekly-midday-check-in-2-2-2-2/2026-12-29/
LOCATION:Zoom
END:VEVENT
BEGIN:VEVENT
DTSTART;TZID=America/New_York:20261230T190000
DTEND;TZID=America/New_York:20261230T200000
DTSTAMP:20260419T193159
CREATED:20240404T165658Z
LAST-MODIFIED:20251206T133232Z
UID:10000435-1798657200-1798660800@sugarfreemomtribe.com
SUMMARY:Weekly Coaching with Brenda
DESCRIPTION:https://zoom.us/j/97447023403?pwd=T1dxQ0VJNGlBSVBUTUM1VFppNzFHUT09
URL:https://sugarfreemomtribe.com/event/weekly-coaching-with-brenda-2-2/2026-12-30/
LOCATION:Zoom
END:VEVENT
BEGIN:VEVENT
DTSTART;TZID=America/New_York:20261231T190000
DTEND;TZID=America/New_York:20261231T200000
DTSTAMP:20260419T193159
CREATED:20250929T104725Z
LAST-MODIFIED:20251030T162352Z
UID:10002215-1798743600-1798747200@sugarfreemomtribe.com
SUMMARY:Maintenance & Accountability Meeting
DESCRIPTION:https://us06web.zoom.us/j/83833319167?pwd=teWDbxvH1qAlws5WKfGYq4GgtFQdrh.1 \nFirst Thursday – Maintenance is the focus\, but all are welcome for accountability. Recorded.\nSubsequent Thursdays –  Accountability is the focus. Not recorded.\n 
URL:https://sugarfreemomtribe.com/event/maintenance-accountability-meeting/2026-12-31/
LOCATION:Zoom
END:VEVENT
END:VCALENDAR