BEGIN:VCALENDAR
VERSION:2.0
PRODID:-//Sugar-Free Mom Courses - ECPv6.15.20//NONSGML v1.0//EN
CALSCALE:GREGORIAN
METHOD:PUBLISH
X-WR-CALNAME:Sugar-Free Mom Courses
X-ORIGINAL-URL:https://sugarfreemomtribe.com
X-WR-CALDESC:Events for Sugar-Free Mom Courses
REFRESH-INTERVAL;VALUE=DURATION:PT1H
X-Robots-Tag:noindex
X-PUBLISHED-TTL:PT1H
BEGIN:VTIMEZONE
TZID:America/New_York
BEGIN:DAYLIGHT
TZOFFSETFROM:-0500
TZOFFSETTO:-0400
TZNAME:EDT
DTSTART:20260308T070000
END:DAYLIGHT
BEGIN:STANDARD
TZOFFSETFROM:-0400
TZOFFSETTO:-0500
TZNAME:EST
DTSTART:20261101T060000
END:STANDARD
BEGIN:DAYLIGHT
TZOFFSETFROM:-0500
TZOFFSETTO:-0400
TZNAME:EDT
DTSTART:20270314T070000
END:DAYLIGHT
BEGIN:STANDARD
TZOFFSETFROM:-0400
TZOFFSETTO:-0500
TZNAME:EST
DTSTART:20271107T060000
END:STANDARD
BEGIN:DAYLIGHT
TZOFFSETFROM:-0500
TZOFFSETTO:-0400
TZNAME:EDT
DTSTART:20280312T070000
END:DAYLIGHT
BEGIN:STANDARD
TZOFFSETFROM:-0400
TZOFFSETTO:-0500
TZNAME:EST
DTSTART:20281105T060000
END:STANDARD
END:VTIMEZONE
BEGIN:VEVENT
DTSTART;TZID=America/New_York:20270802T200000
DTEND;TZID=America/New_York:20270802T210000
DTSTAMP:20260420T090306
CREATED:20260408T080959Z
LAST-MODIFIED:20260408T080959Z
UID:10002565-1817236800-1817240400@sugarfreemomtribe.com
SUMMARY:Accountability Meeting with Angie
DESCRIPTION:Join Zoom Meeting\nhttps://us06web.zoom.us/j/83335715890?pwd=0vXdy517DUdrn6BHsn6Ebe1kJdaixM.1 \nMeeting ID: 833 3571 5890\nPasscode: 554575 \n— \nOne tap mobile\n+13092053325\,\,83335715890#\,\,\,\,*554575# US\n+13126266799\,\,83335715890#\,\,\,\,*554575# US (Chicago) \n— \nDial by your location\n• +1 309 205 3325 US\n• +1 312 626 6799 US (Chicago)\n• +1 646 931 3860 US\n• +1 929 205 6099 US (New York)\n• +1 301 715 8592 US (Washington DC)\n• +1 305 224 1968 US\n• +1 346 248 7799 US (Houston)\n• +1 360 209 5623 US\n• +1 386 347 5053 US\n• +1 507 473 4847 US\n• +1 564 217 2000 US\n• +1 669 444 9171 US\n• +1 669 900 6833 US (San Jose)\n• +1 689 278 1000 US\n• +1 719 359 4580 US\n• +1 253 205 0468 US\n• +1 253 215 8782 US (Tacoma) \nMeeting ID: 833 3571 5890\nPasscode: 554575 \nFind your local number: https://us06web.zoom.us/u/kbtIDhXjf
URL:https://sugarfreemomtribe.com/event/accountability-meeting-with-angie-2-2-2-3-2-3/2027-08-02/
LOCATION:Zoom
END:VEVENT
BEGIN:VEVENT
DTSTART;TZID=America/New_York:20270803T120000
DTEND;TZID=America/New_York:20270803T123000
DTSTAMP:20260420T090306
CREATED:20260410T155131Z
LAST-MODIFIED:20260410T155131Z
UID:10002827-1817294400-1817296200@sugarfreemomtribe.com
SUMMARY:Weekly Midday Check-in
DESCRIPTION:Join Zoom Meeting\nhttps://us06web.zoom.us/j/87450490256?pwd=F6S73gtFtF9nBtPDinqGjf5I3MhN5c.1 \nMeeting ID: 874 5049 0256\nPasscode: 901494 \n— \nOne tap mobile\n+16469313860\,\,87450490256#\,\,\,\,*901494# US\n+19292056099\,\,87450490256#\,\,\,\,*901494# US (New York) \n— \nDial by your location\n• +1 646 931 3860 US\n• +1 929 205 6099 US (New York)\n• +1 301 715 8592 US (Washington DC)\n• +1 305 224 1968 US\n• +1 309 205 3325 US\n• +1 312 626 6799 US (Chicago)\n• +1 360 209 5623 US\n• +1 386 347 5053 US\n• +1 507 473 4847 US\n• +1 564 217 2000 US\n• +1 669 444 9171 US\n• +1 669 900 6833 US (San Jose)\n• +1 689 278 1000 US\n• +1 719 359 4580 US\n• +1 253 205 0468 US\n• +1 253 215 8782 US (Tacoma)\n• +1 346 248 7799 US (Houston) \nMeeting ID: 874 5049 0256\nPasscode: 901494 \nFind your local number: https://us06web.zoom.us/u/kbSt94FJ1i
URL:https://sugarfreemomtribe.com/event/weekly-midday-check-in-2-2-2-2/2027-08-03/
LOCATION:Zoom
END:VEVENT
BEGIN:VEVENT
DTSTART;TZID=America/New_York:20270804T190000
DTEND;TZID=America/New_York:20270804T200000
DTSTAMP:20260420T090306
CREATED:20240404T165658Z
LAST-MODIFIED:20251206T133232Z
UID:10000466-1817406000-1817409600@sugarfreemomtribe.com
SUMMARY:Weekly Coaching with Brenda
DESCRIPTION:https://zoom.us/j/97447023403?pwd=T1dxQ0VJNGlBSVBUTUM1VFppNzFHUT09
URL:https://sugarfreemomtribe.com/event/weekly-coaching-with-brenda-2-2/2027-08-04/
LOCATION:Zoom
END:VEVENT
BEGIN:VEVENT
DTSTART;TZID=America/New_York:20270805T190000
DTEND;TZID=America/New_York:20270805T200000
DTSTAMP:20260420T090306
CREATED:20250929T104725Z
LAST-MODIFIED:20251030T162352Z
UID:10002246-1817492400-1817496000@sugarfreemomtribe.com
SUMMARY:Maintenance & Accountability Meeting
DESCRIPTION:https://us06web.zoom.us/j/83833319167?pwd=teWDbxvH1qAlws5WKfGYq4GgtFQdrh.1 \nFirst Thursday – Maintenance is the focus\, but all are welcome for accountability. Recorded.\nSubsequent Thursdays –  Accountability is the focus. Not recorded.\n 
URL:https://sugarfreemomtribe.com/event/maintenance-accountability-meeting/2027-08-05/
LOCATION:Zoom
END:VEVENT
BEGIN:VEVENT
DTSTART;TZID=America/New_York:20270809T200000
DTEND;TZID=America/New_York:20270809T210000
DTSTAMP:20260420T090306
CREATED:20260408T080959Z
LAST-MODIFIED:20260408T080959Z
UID:10002566-1817841600-1817845200@sugarfreemomtribe.com
SUMMARY:Accountability Meeting with Angie
DESCRIPTION:Join Zoom Meeting\nhttps://us06web.zoom.us/j/83335715890?pwd=0vXdy517DUdrn6BHsn6Ebe1kJdaixM.1 \nMeeting ID: 833 3571 5890\nPasscode: 554575 \n— \nOne tap mobile\n+13092053325\,\,83335715890#\,\,\,\,*554575# US\n+13126266799\,\,83335715890#\,\,\,\,*554575# US (Chicago) \n— \nDial by your location\n• +1 309 205 3325 US\n• +1 312 626 6799 US (Chicago)\n• +1 646 931 3860 US\n• +1 929 205 6099 US (New York)\n• +1 301 715 8592 US (Washington DC)\n• +1 305 224 1968 US\n• +1 346 248 7799 US (Houston)\n• +1 360 209 5623 US\n• +1 386 347 5053 US\n• +1 507 473 4847 US\n• +1 564 217 2000 US\n• +1 669 444 9171 US\n• +1 669 900 6833 US (San Jose)\n• +1 689 278 1000 US\n• +1 719 359 4580 US\n• +1 253 205 0468 US\n• +1 253 215 8782 US (Tacoma) \nMeeting ID: 833 3571 5890\nPasscode: 554575 \nFind your local number: https://us06web.zoom.us/u/kbtIDhXjf
URL:https://sugarfreemomtribe.com/event/accountability-meeting-with-angie-2-2-2-3-2-3/2027-08-09/
LOCATION:Zoom
END:VEVENT
BEGIN:VEVENT
DTSTART;TZID=America/New_York:20270810T120000
DTEND;TZID=America/New_York:20270810T123000
DTSTAMP:20260420T090306
CREATED:20260410T155131Z
LAST-MODIFIED:20260410T155131Z
UID:10002828-1817899200-1817901000@sugarfreemomtribe.com
SUMMARY:Weekly Midday Check-in
DESCRIPTION:Join Zoom Meeting\nhttps://us06web.zoom.us/j/87450490256?pwd=F6S73gtFtF9nBtPDinqGjf5I3MhN5c.1 \nMeeting ID: 874 5049 0256\nPasscode: 901494 \n— \nOne tap mobile\n+16469313860\,\,87450490256#\,\,\,\,*901494# US\n+19292056099\,\,87450490256#\,\,\,\,*901494# US (New York) \n— \nDial by your location\n• +1 646 931 3860 US\n• +1 929 205 6099 US (New York)\n• +1 301 715 8592 US (Washington DC)\n• +1 305 224 1968 US\n• +1 309 205 3325 US\n• +1 312 626 6799 US (Chicago)\n• +1 360 209 5623 US\n• +1 386 347 5053 US\n• +1 507 473 4847 US\n• +1 564 217 2000 US\n• +1 669 444 9171 US\n• +1 669 900 6833 US (San Jose)\n• +1 689 278 1000 US\n• +1 719 359 4580 US\n• +1 253 205 0468 US\n• +1 253 215 8782 US (Tacoma)\n• +1 346 248 7799 US (Houston) \nMeeting ID: 874 5049 0256\nPasscode: 901494 \nFind your local number: https://us06web.zoom.us/u/kbSt94FJ1i
URL:https://sugarfreemomtribe.com/event/weekly-midday-check-in-2-2-2-2/2027-08-10/
LOCATION:Zoom
END:VEVENT
BEGIN:VEVENT
DTSTART;TZID=America/New_York:20270811T190000
DTEND;TZID=America/New_York:20270811T200000
DTSTAMP:20260420T090306
CREATED:20240404T165658Z
LAST-MODIFIED:20251206T133232Z
UID:10000467-1818010800-1818014400@sugarfreemomtribe.com
SUMMARY:Weekly Coaching with Brenda
DESCRIPTION:https://zoom.us/j/97447023403?pwd=T1dxQ0VJNGlBSVBUTUM1VFppNzFHUT09
URL:https://sugarfreemomtribe.com/event/weekly-coaching-with-brenda-2-2/2027-08-11/
LOCATION:Zoom
END:VEVENT
BEGIN:VEVENT
DTSTART;TZID=America/New_York:20270812T190000
DTEND;TZID=America/New_York:20270812T200000
DTSTAMP:20260420T090306
CREATED:20250929T104725Z
LAST-MODIFIED:20251030T162352Z
UID:10002247-1818097200-1818100800@sugarfreemomtribe.com
SUMMARY:Maintenance & Accountability Meeting
DESCRIPTION:https://us06web.zoom.us/j/83833319167?pwd=teWDbxvH1qAlws5WKfGYq4GgtFQdrh.1 \nFirst Thursday – Maintenance is the focus\, but all are welcome for accountability. Recorded.\nSubsequent Thursdays –  Accountability is the focus. Not recorded.\n 
URL:https://sugarfreemomtribe.com/event/maintenance-accountability-meeting/2027-08-12/
LOCATION:Zoom
END:VEVENT
BEGIN:VEVENT
DTSTART;TZID=America/New_York:20270816T200000
DTEND;TZID=America/New_York:20270816T210000
DTSTAMP:20260420T090306
CREATED:20260408T080959Z
LAST-MODIFIED:20260408T080959Z
UID:10002567-1818446400-1818450000@sugarfreemomtribe.com
SUMMARY:Accountability Meeting with Angie
DESCRIPTION:Join Zoom Meeting\nhttps://us06web.zoom.us/j/83335715890?pwd=0vXdy517DUdrn6BHsn6Ebe1kJdaixM.1 \nMeeting ID: 833 3571 5890\nPasscode: 554575 \n— \nOne tap mobile\n+13092053325\,\,83335715890#\,\,\,\,*554575# US\n+13126266799\,\,83335715890#\,\,\,\,*554575# US (Chicago) \n— \nDial by your location\n• +1 309 205 3325 US\n• +1 312 626 6799 US (Chicago)\n• +1 646 931 3860 US\n• +1 929 205 6099 US (New York)\n• +1 301 715 8592 US (Washington DC)\n• +1 305 224 1968 US\n• +1 346 248 7799 US (Houston)\n• +1 360 209 5623 US\n• +1 386 347 5053 US\n• +1 507 473 4847 US\n• +1 564 217 2000 US\n• +1 669 444 9171 US\n• +1 669 900 6833 US (San Jose)\n• +1 689 278 1000 US\n• +1 719 359 4580 US\n• +1 253 205 0468 US\n• +1 253 215 8782 US (Tacoma) \nMeeting ID: 833 3571 5890\nPasscode: 554575 \nFind your local number: https://us06web.zoom.us/u/kbtIDhXjf
URL:https://sugarfreemomtribe.com/event/accountability-meeting-with-angie-2-2-2-3-2-3/2027-08-16/
LOCATION:Zoom
END:VEVENT
BEGIN:VEVENT
DTSTART;TZID=America/New_York:20270817T120000
DTEND;TZID=America/New_York:20270817T123000
DTSTAMP:20260420T090306
CREATED:20260410T155131Z
LAST-MODIFIED:20260410T155131Z
UID:10002829-1818504000-1818505800@sugarfreemomtribe.com
SUMMARY:Weekly Midday Check-in
DESCRIPTION:Join Zoom Meeting\nhttps://us06web.zoom.us/j/87450490256?pwd=F6S73gtFtF9nBtPDinqGjf5I3MhN5c.1 \nMeeting ID: 874 5049 0256\nPasscode: 901494 \n— \nOne tap mobile\n+16469313860\,\,87450490256#\,\,\,\,*901494# US\n+19292056099\,\,87450490256#\,\,\,\,*901494# US (New York) \n— \nDial by your location\n• +1 646 931 3860 US\n• +1 929 205 6099 US (New York)\n• +1 301 715 8592 US (Washington DC)\n• +1 305 224 1968 US\n• +1 309 205 3325 US\n• +1 312 626 6799 US (Chicago)\n• +1 360 209 5623 US\n• +1 386 347 5053 US\n• +1 507 473 4847 US\n• +1 564 217 2000 US\n• +1 669 444 9171 US\n• +1 669 900 6833 US (San Jose)\n• +1 689 278 1000 US\n• +1 719 359 4580 US\n• +1 253 205 0468 US\n• +1 253 215 8782 US (Tacoma)\n• +1 346 248 7799 US (Houston) \nMeeting ID: 874 5049 0256\nPasscode: 901494 \nFind your local number: https://us06web.zoom.us/u/kbSt94FJ1i
URL:https://sugarfreemomtribe.com/event/weekly-midday-check-in-2-2-2-2/2027-08-17/
LOCATION:Zoom
END:VEVENT
BEGIN:VEVENT
DTSTART;TZID=America/New_York:20270818T190000
DTEND;TZID=America/New_York:20270818T200000
DTSTAMP:20260420T090306
CREATED:20240404T165658Z
LAST-MODIFIED:20251206T133232Z
UID:10000468-1818615600-1818619200@sugarfreemomtribe.com
SUMMARY:Weekly Coaching with Brenda
DESCRIPTION:https://zoom.us/j/97447023403?pwd=T1dxQ0VJNGlBSVBUTUM1VFppNzFHUT09
URL:https://sugarfreemomtribe.com/event/weekly-coaching-with-brenda-2-2/2027-08-18/
LOCATION:Zoom
END:VEVENT
BEGIN:VEVENT
DTSTART;TZID=America/New_York:20270819T190000
DTEND;TZID=America/New_York:20270819T200000
DTSTAMP:20260420T090306
CREATED:20250929T104725Z
LAST-MODIFIED:20251030T162352Z
UID:10002248-1818702000-1818705600@sugarfreemomtribe.com
SUMMARY:Maintenance & Accountability Meeting
DESCRIPTION:https://us06web.zoom.us/j/83833319167?pwd=teWDbxvH1qAlws5WKfGYq4GgtFQdrh.1 \nFirst Thursday – Maintenance is the focus\, but all are welcome for accountability. Recorded.\nSubsequent Thursdays –  Accountability is the focus. Not recorded.\n 
URL:https://sugarfreemomtribe.com/event/maintenance-accountability-meeting/2027-08-19/
LOCATION:Zoom
END:VEVENT
BEGIN:VEVENT
DTSTART;TZID=America/New_York:20270823T200000
DTEND;TZID=America/New_York:20270823T210000
DTSTAMP:20260420T090306
CREATED:20260408T080959Z
LAST-MODIFIED:20260408T080959Z
UID:10002568-1819051200-1819054800@sugarfreemomtribe.com
SUMMARY:Accountability Meeting with Angie
DESCRIPTION:Join Zoom Meeting\nhttps://us06web.zoom.us/j/83335715890?pwd=0vXdy517DUdrn6BHsn6Ebe1kJdaixM.1 \nMeeting ID: 833 3571 5890\nPasscode: 554575 \n— \nOne tap mobile\n+13092053325\,\,83335715890#\,\,\,\,*554575# US\n+13126266799\,\,83335715890#\,\,\,\,*554575# US (Chicago) \n— \nDial by your location\n• +1 309 205 3325 US\n• +1 312 626 6799 US (Chicago)\n• +1 646 931 3860 US\n• +1 929 205 6099 US (New York)\n• +1 301 715 8592 US (Washington DC)\n• +1 305 224 1968 US\n• +1 346 248 7799 US (Houston)\n• +1 360 209 5623 US\n• +1 386 347 5053 US\n• +1 507 473 4847 US\n• +1 564 217 2000 US\n• +1 669 444 9171 US\n• +1 669 900 6833 US (San Jose)\n• +1 689 278 1000 US\n• +1 719 359 4580 US\n• +1 253 205 0468 US\n• +1 253 215 8782 US (Tacoma) \nMeeting ID: 833 3571 5890\nPasscode: 554575 \nFind your local number: https://us06web.zoom.us/u/kbtIDhXjf
URL:https://sugarfreemomtribe.com/event/accountability-meeting-with-angie-2-2-2-3-2-3/2027-08-23/
LOCATION:Zoom
END:VEVENT
BEGIN:VEVENT
DTSTART;TZID=America/New_York:20270824T120000
DTEND;TZID=America/New_York:20270824T123000
DTSTAMP:20260420T090306
CREATED:20260410T155131Z
LAST-MODIFIED:20260410T155131Z
UID:10002830-1819108800-1819110600@sugarfreemomtribe.com
SUMMARY:Weekly Midday Check-in
DESCRIPTION:Join Zoom Meeting\nhttps://us06web.zoom.us/j/87450490256?pwd=F6S73gtFtF9nBtPDinqGjf5I3MhN5c.1 \nMeeting ID: 874 5049 0256\nPasscode: 901494 \n— \nOne tap mobile\n+16469313860\,\,87450490256#\,\,\,\,*901494# US\n+19292056099\,\,87450490256#\,\,\,\,*901494# US (New York) \n— \nDial by your location\n• +1 646 931 3860 US\n• +1 929 205 6099 US (New York)\n• +1 301 715 8592 US (Washington DC)\n• +1 305 224 1968 US\n• +1 309 205 3325 US\n• +1 312 626 6799 US (Chicago)\n• +1 360 209 5623 US\n• +1 386 347 5053 US\n• +1 507 473 4847 US\n• +1 564 217 2000 US\n• +1 669 444 9171 US\n• +1 669 900 6833 US (San Jose)\n• +1 689 278 1000 US\n• +1 719 359 4580 US\n• +1 253 205 0468 US\n• +1 253 215 8782 US (Tacoma)\n• +1 346 248 7799 US (Houston) \nMeeting ID: 874 5049 0256\nPasscode: 901494 \nFind your local number: https://us06web.zoom.us/u/kbSt94FJ1i
URL:https://sugarfreemomtribe.com/event/weekly-midday-check-in-2-2-2-2/2027-08-24/
LOCATION:Zoom
END:VEVENT
BEGIN:VEVENT
DTSTART;TZID=America/New_York:20270825T190000
DTEND;TZID=America/New_York:20270825T200000
DTSTAMP:20260420T090306
CREATED:20240404T165658Z
LAST-MODIFIED:20251206T133232Z
UID:10000469-1819220400-1819224000@sugarfreemomtribe.com
SUMMARY:Weekly Coaching with Brenda
DESCRIPTION:https://zoom.us/j/97447023403?pwd=T1dxQ0VJNGlBSVBUTUM1VFppNzFHUT09
URL:https://sugarfreemomtribe.com/event/weekly-coaching-with-brenda-2-2/2027-08-25/
LOCATION:Zoom
END:VEVENT
BEGIN:VEVENT
DTSTART;TZID=America/New_York:20270826T190000
DTEND;TZID=America/New_York:20270826T200000
DTSTAMP:20260420T090306
CREATED:20250929T104725Z
LAST-MODIFIED:20251030T162352Z
UID:10002249-1819306800-1819310400@sugarfreemomtribe.com
SUMMARY:Maintenance & Accountability Meeting
DESCRIPTION:https://us06web.zoom.us/j/83833319167?pwd=teWDbxvH1qAlws5WKfGYq4GgtFQdrh.1 \nFirst Thursday – Maintenance is the focus\, but all are welcome for accountability. Recorded.\nSubsequent Thursdays –  Accountability is the focus. Not recorded.\n 
URL:https://sugarfreemomtribe.com/event/maintenance-accountability-meeting/2027-08-26/
LOCATION:Zoom
END:VEVENT
BEGIN:VEVENT
DTSTART;TZID=America/New_York:20270830T200000
DTEND;TZID=America/New_York:20270830T210000
DTSTAMP:20260420T090306
CREATED:20260408T080959Z
LAST-MODIFIED:20260408T080959Z
UID:10002569-1819656000-1819659600@sugarfreemomtribe.com
SUMMARY:Accountability Meeting with Angie
DESCRIPTION:Join Zoom Meeting\nhttps://us06web.zoom.us/j/83335715890?pwd=0vXdy517DUdrn6BHsn6Ebe1kJdaixM.1 \nMeeting ID: 833 3571 5890\nPasscode: 554575 \n— \nOne tap mobile\n+13092053325\,\,83335715890#\,\,\,\,*554575# US\n+13126266799\,\,83335715890#\,\,\,\,*554575# US (Chicago) \n— \nDial by your location\n• +1 309 205 3325 US\n• +1 312 626 6799 US (Chicago)\n• +1 646 931 3860 US\n• +1 929 205 6099 US (New York)\n• +1 301 715 8592 US (Washington DC)\n• +1 305 224 1968 US\n• +1 346 248 7799 US (Houston)\n• +1 360 209 5623 US\n• +1 386 347 5053 US\n• +1 507 473 4847 US\n• +1 564 217 2000 US\n• +1 669 444 9171 US\n• +1 669 900 6833 US (San Jose)\n• +1 689 278 1000 US\n• +1 719 359 4580 US\n• +1 253 205 0468 US\n• +1 253 215 8782 US (Tacoma) \nMeeting ID: 833 3571 5890\nPasscode: 554575 \nFind your local number: https://us06web.zoom.us/u/kbtIDhXjf
URL:https://sugarfreemomtribe.com/event/accountability-meeting-with-angie-2-2-2-3-2-3/2027-08-30/
LOCATION:Zoom
END:VEVENT
BEGIN:VEVENT
DTSTART;TZID=America/New_York:20270831T120000
DTEND;TZID=America/New_York:20270831T123000
DTSTAMP:20260420T090306
CREATED:20260410T155131Z
LAST-MODIFIED:20260410T155131Z
UID:10002831-1819713600-1819715400@sugarfreemomtribe.com
SUMMARY:Weekly Midday Check-in
DESCRIPTION:Join Zoom Meeting\nhttps://us06web.zoom.us/j/87450490256?pwd=F6S73gtFtF9nBtPDinqGjf5I3MhN5c.1 \nMeeting ID: 874 5049 0256\nPasscode: 901494 \n— \nOne tap mobile\n+16469313860\,\,87450490256#\,\,\,\,*901494# US\n+19292056099\,\,87450490256#\,\,\,\,*901494# US (New York) \n— \nDial by your location\n• +1 646 931 3860 US\n• +1 929 205 6099 US (New York)\n• +1 301 715 8592 US (Washington DC)\n• +1 305 224 1968 US\n• +1 309 205 3325 US\n• +1 312 626 6799 US (Chicago)\n• +1 360 209 5623 US\n• +1 386 347 5053 US\n• +1 507 473 4847 US\n• +1 564 217 2000 US\n• +1 669 444 9171 US\n• +1 669 900 6833 US (San Jose)\n• +1 689 278 1000 US\n• +1 719 359 4580 US\n• +1 253 205 0468 US\n• +1 253 215 8782 US (Tacoma)\n• +1 346 248 7799 US (Houston) \nMeeting ID: 874 5049 0256\nPasscode: 901494 \nFind your local number: https://us06web.zoom.us/u/kbSt94FJ1i
URL:https://sugarfreemomtribe.com/event/weekly-midday-check-in-2-2-2-2/2027-08-31/
LOCATION:Zoom
END:VEVENT
END:VCALENDAR