BEGIN:VCALENDAR
VERSION:2.0
PRODID:-//Sugar-Free Mom Courses - ECPv6.15.20//NONSGML v1.0//EN
CALSCALE:GREGORIAN
METHOD:PUBLISH
X-WR-CALNAME:Sugar-Free Mom Courses
X-ORIGINAL-URL:https://sugarfreemomtribe.com
X-WR-CALDESC:Events for Sugar-Free Mom Courses
REFRESH-INTERVAL;VALUE=DURATION:PT1H
X-Robots-Tag:noindex
X-PUBLISHED-TTL:PT1H
BEGIN:VTIMEZONE
TZID:America/New_York
BEGIN:DAYLIGHT
TZOFFSETFROM:-0500
TZOFFSETTO:-0400
TZNAME:EDT
DTSTART:20270314T070000
END:DAYLIGHT
BEGIN:STANDARD
TZOFFSETFROM:-0400
TZOFFSETTO:-0500
TZNAME:EST
DTSTART:20271107T060000
END:STANDARD
BEGIN:DAYLIGHT
TZOFFSETFROM:-0500
TZOFFSETTO:-0400
TZNAME:EDT
DTSTART:20280312T070000
END:DAYLIGHT
BEGIN:STANDARD
TZOFFSETFROM:-0400
TZOFFSETTO:-0500
TZNAME:EST
DTSTART:20281105T060000
END:STANDARD
BEGIN:DAYLIGHT
TZOFFSETFROM:-0500
TZOFFSETTO:-0400
TZNAME:EDT
DTSTART:20290311T070000
END:DAYLIGHT
BEGIN:STANDARD
TZOFFSETFROM:-0400
TZOFFSETTO:-0500
TZNAME:EST
DTSTART:20291104T060000
END:STANDARD
END:VTIMEZONE
BEGIN:VEVENT
DTSTART;TZID=America/New_York:20280103T200000
DTEND;TZID=America/New_York:20280103T210000
DTSTAMP:20260420T164946
CREATED:20260408T080959Z
LAST-MODIFIED:20260408T080959Z
UID:10002587-1830542400-1830546000@sugarfreemomtribe.com
SUMMARY:Accountability Meeting with Angie
DESCRIPTION:Join Zoom Meeting\nhttps://us06web.zoom.us/j/83335715890?pwd=0vXdy517DUdrn6BHsn6Ebe1kJdaixM.1 \nMeeting ID: 833 3571 5890\nPasscode: 554575 \n— \nOne tap mobile\n+13092053325\,\,83335715890#\,\,\,\,*554575# US\n+13126266799\,\,83335715890#\,\,\,\,*554575# US (Chicago) \n— \nDial by your location\n• +1 309 205 3325 US\n• +1 312 626 6799 US (Chicago)\n• +1 646 931 3860 US\n• +1 929 205 6099 US (New York)\n• +1 301 715 8592 US (Washington DC)\n• +1 305 224 1968 US\n• +1 346 248 7799 US (Houston)\n• +1 360 209 5623 US\n• +1 386 347 5053 US\n• +1 507 473 4847 US\n• +1 564 217 2000 US\n• +1 669 444 9171 US\n• +1 669 900 6833 US (San Jose)\n• +1 689 278 1000 US\n• +1 719 359 4580 US\n• +1 253 205 0468 US\n• +1 253 215 8782 US (Tacoma) \nMeeting ID: 833 3571 5890\nPasscode: 554575 \nFind your local number: https://us06web.zoom.us/u/kbtIDhXjf
URL:https://sugarfreemomtribe.com/event/accountability-meeting-with-angie-2-2-2-3-2-3/2028-01-03/
LOCATION:Zoom
END:VEVENT
BEGIN:VEVENT
DTSTART;TZID=America/New_York:20280104T120000
DTEND;TZID=America/New_York:20280104T123000
DTSTAMP:20260420T164946
CREATED:20260410T155131Z
LAST-MODIFIED:20260410T155131Z
UID:10002849-1830600000-1830601800@sugarfreemomtribe.com
SUMMARY:Weekly Midday Check-in
DESCRIPTION:Join Zoom Meeting\nhttps://us06web.zoom.us/j/87450490256?pwd=F6S73gtFtF9nBtPDinqGjf5I3MhN5c.1 \nMeeting ID: 874 5049 0256\nPasscode: 901494 \n— \nOne tap mobile\n+16469313860\,\,87450490256#\,\,\,\,*901494# US\n+19292056099\,\,87450490256#\,\,\,\,*901494# US (New York) \n— \nDial by your location\n• +1 646 931 3860 US\n• +1 929 205 6099 US (New York)\n• +1 301 715 8592 US (Washington DC)\n• +1 305 224 1968 US\n• +1 309 205 3325 US\n• +1 312 626 6799 US (Chicago)\n• +1 360 209 5623 US\n• +1 386 347 5053 US\n• +1 507 473 4847 US\n• +1 564 217 2000 US\n• +1 669 444 9171 US\n• +1 669 900 6833 US (San Jose)\n• +1 689 278 1000 US\n• +1 719 359 4580 US\n• +1 253 205 0468 US\n• +1 253 215 8782 US (Tacoma)\n• +1 346 248 7799 US (Houston) \nMeeting ID: 874 5049 0256\nPasscode: 901494 \nFind your local number: https://us06web.zoom.us/u/kbSt94FJ1i
URL:https://sugarfreemomtribe.com/event/weekly-midday-check-in-2-2-2-2/2028-01-04/
LOCATION:Zoom
END:VEVENT
BEGIN:VEVENT
DTSTART;TZID=America/New_York:20280105T190000
DTEND;TZID=America/New_York:20280105T200000
DTSTAMP:20260420T164946
CREATED:20240404T165658Z
LAST-MODIFIED:20251206T133232Z
UID:10000488-1830711600-1830715200@sugarfreemomtribe.com
SUMMARY:Weekly Coaching with Brenda
DESCRIPTION:https://zoom.us/j/97447023403?pwd=T1dxQ0VJNGlBSVBUTUM1VFppNzFHUT09
URL:https://sugarfreemomtribe.com/event/weekly-coaching-with-brenda-2-2/2028-01-05/
LOCATION:Zoom
END:VEVENT
BEGIN:VEVENT
DTSTART;TZID=America/New_York:20280106T190000
DTEND;TZID=America/New_York:20280106T200000
DTSTAMP:20260420T164946
CREATED:20250929T104725Z
LAST-MODIFIED:20251030T162352Z
UID:10002268-1830798000-1830801600@sugarfreemomtribe.com
SUMMARY:Maintenance & Accountability Meeting
DESCRIPTION:https://us06web.zoom.us/j/83833319167?pwd=teWDbxvH1qAlws5WKfGYq4GgtFQdrh.1 \nFirst Thursday – Maintenance is the focus\, but all are welcome for accountability. Recorded.\nSubsequent Thursdays –  Accountability is the focus. Not recorded.\n 
URL:https://sugarfreemomtribe.com/event/maintenance-accountability-meeting/2028-01-06/
LOCATION:Zoom
END:VEVENT
BEGIN:VEVENT
DTSTART;TZID=America/New_York:20280110T200000
DTEND;TZID=America/New_York:20280110T210000
DTSTAMP:20260420T164946
CREATED:20260408T080959Z
LAST-MODIFIED:20260408T080959Z
UID:10002588-1831147200-1831150800@sugarfreemomtribe.com
SUMMARY:Accountability Meeting with Angie
DESCRIPTION:Join Zoom Meeting\nhttps://us06web.zoom.us/j/83335715890?pwd=0vXdy517DUdrn6BHsn6Ebe1kJdaixM.1 \nMeeting ID: 833 3571 5890\nPasscode: 554575 \n— \nOne tap mobile\n+13092053325\,\,83335715890#\,\,\,\,*554575# US\n+13126266799\,\,83335715890#\,\,\,\,*554575# US (Chicago) \n— \nDial by your location\n• +1 309 205 3325 US\n• +1 312 626 6799 US (Chicago)\n• +1 646 931 3860 US\n• +1 929 205 6099 US (New York)\n• +1 301 715 8592 US (Washington DC)\n• +1 305 224 1968 US\n• +1 346 248 7799 US (Houston)\n• +1 360 209 5623 US\n• +1 386 347 5053 US\n• +1 507 473 4847 US\n• +1 564 217 2000 US\n• +1 669 444 9171 US\n• +1 669 900 6833 US (San Jose)\n• +1 689 278 1000 US\n• +1 719 359 4580 US\n• +1 253 205 0468 US\n• +1 253 215 8782 US (Tacoma) \nMeeting ID: 833 3571 5890\nPasscode: 554575 \nFind your local number: https://us06web.zoom.us/u/kbtIDhXjf
URL:https://sugarfreemomtribe.com/event/accountability-meeting-with-angie-2-2-2-3-2-3/2028-01-10/
LOCATION:Zoom
END:VEVENT
BEGIN:VEVENT
DTSTART;TZID=America/New_York:20280111T120000
DTEND;TZID=America/New_York:20280111T123000
DTSTAMP:20260420T164946
CREATED:20260410T155131Z
LAST-MODIFIED:20260410T155131Z
UID:10002850-1831204800-1831206600@sugarfreemomtribe.com
SUMMARY:Weekly Midday Check-in
DESCRIPTION:Join Zoom Meeting\nhttps://us06web.zoom.us/j/87450490256?pwd=F6S73gtFtF9nBtPDinqGjf5I3MhN5c.1 \nMeeting ID: 874 5049 0256\nPasscode: 901494 \n— \nOne tap mobile\n+16469313860\,\,87450490256#\,\,\,\,*901494# US\n+19292056099\,\,87450490256#\,\,\,\,*901494# US (New York) \n— \nDial by your location\n• +1 646 931 3860 US\n• +1 929 205 6099 US (New York)\n• +1 301 715 8592 US (Washington DC)\n• +1 305 224 1968 US\n• +1 309 205 3325 US\n• +1 312 626 6799 US (Chicago)\n• +1 360 209 5623 US\n• +1 386 347 5053 US\n• +1 507 473 4847 US\n• +1 564 217 2000 US\n• +1 669 444 9171 US\n• +1 669 900 6833 US (San Jose)\n• +1 689 278 1000 US\n• +1 719 359 4580 US\n• +1 253 205 0468 US\n• +1 253 215 8782 US (Tacoma)\n• +1 346 248 7799 US (Houston) \nMeeting ID: 874 5049 0256\nPasscode: 901494 \nFind your local number: https://us06web.zoom.us/u/kbSt94FJ1i
URL:https://sugarfreemomtribe.com/event/weekly-midday-check-in-2-2-2-2/2028-01-11/
LOCATION:Zoom
END:VEVENT
BEGIN:VEVENT
DTSTART;TZID=America/New_York:20280112T190000
DTEND;TZID=America/New_York:20280112T200000
DTSTAMP:20260420T164946
CREATED:20240404T165658Z
LAST-MODIFIED:20251206T133232Z
UID:10000489-1831316400-1831320000@sugarfreemomtribe.com
SUMMARY:Weekly Coaching with Brenda
DESCRIPTION:https://zoom.us/j/97447023403?pwd=T1dxQ0VJNGlBSVBUTUM1VFppNzFHUT09
URL:https://sugarfreemomtribe.com/event/weekly-coaching-with-brenda-2-2/2028-01-12/
LOCATION:Zoom
END:VEVENT
BEGIN:VEVENT
DTSTART;TZID=America/New_York:20280113T190000
DTEND;TZID=America/New_York:20280113T200000
DTSTAMP:20260420T164946
CREATED:20250929T104725Z
LAST-MODIFIED:20251030T162352Z
UID:10002269-1831402800-1831406400@sugarfreemomtribe.com
SUMMARY:Maintenance & Accountability Meeting
DESCRIPTION:https://us06web.zoom.us/j/83833319167?pwd=teWDbxvH1qAlws5WKfGYq4GgtFQdrh.1 \nFirst Thursday – Maintenance is the focus\, but all are welcome for accountability. Recorded.\nSubsequent Thursdays –  Accountability is the focus. Not recorded.\n 
URL:https://sugarfreemomtribe.com/event/maintenance-accountability-meeting/2028-01-13/
LOCATION:Zoom
END:VEVENT
BEGIN:VEVENT
DTSTART;TZID=America/New_York:20280117T200000
DTEND;TZID=America/New_York:20280117T210000
DTSTAMP:20260420T164946
CREATED:20260408T080959Z
LAST-MODIFIED:20260408T080959Z
UID:10002589-1831752000-1831755600@sugarfreemomtribe.com
SUMMARY:Accountability Meeting with Angie
DESCRIPTION:Join Zoom Meeting\nhttps://us06web.zoom.us/j/83335715890?pwd=0vXdy517DUdrn6BHsn6Ebe1kJdaixM.1 \nMeeting ID: 833 3571 5890\nPasscode: 554575 \n— \nOne tap mobile\n+13092053325\,\,83335715890#\,\,\,\,*554575# US\n+13126266799\,\,83335715890#\,\,\,\,*554575# US (Chicago) \n— \nDial by your location\n• +1 309 205 3325 US\n• +1 312 626 6799 US (Chicago)\n• +1 646 931 3860 US\n• +1 929 205 6099 US (New York)\n• +1 301 715 8592 US (Washington DC)\n• +1 305 224 1968 US\n• +1 346 248 7799 US (Houston)\n• +1 360 209 5623 US\n• +1 386 347 5053 US\n• +1 507 473 4847 US\n• +1 564 217 2000 US\n• +1 669 444 9171 US\n• +1 669 900 6833 US (San Jose)\n• +1 689 278 1000 US\n• +1 719 359 4580 US\n• +1 253 205 0468 US\n• +1 253 215 8782 US (Tacoma) \nMeeting ID: 833 3571 5890\nPasscode: 554575 \nFind your local number: https://us06web.zoom.us/u/kbtIDhXjf
URL:https://sugarfreemomtribe.com/event/accountability-meeting-with-angie-2-2-2-3-2-3/2028-01-17/
LOCATION:Zoom
END:VEVENT
BEGIN:VEVENT
DTSTART;TZID=America/New_York:20280118T120000
DTEND;TZID=America/New_York:20280118T123000
DTSTAMP:20260420T164946
CREATED:20260410T155131Z
LAST-MODIFIED:20260410T155131Z
UID:10002851-1831809600-1831811400@sugarfreemomtribe.com
SUMMARY:Weekly Midday Check-in
DESCRIPTION:Join Zoom Meeting\nhttps://us06web.zoom.us/j/87450490256?pwd=F6S73gtFtF9nBtPDinqGjf5I3MhN5c.1 \nMeeting ID: 874 5049 0256\nPasscode: 901494 \n— \nOne tap mobile\n+16469313860\,\,87450490256#\,\,\,\,*901494# US\n+19292056099\,\,87450490256#\,\,\,\,*901494# US (New York) \n— \nDial by your location\n• +1 646 931 3860 US\n• +1 929 205 6099 US (New York)\n• +1 301 715 8592 US (Washington DC)\n• +1 305 224 1968 US\n• +1 309 205 3325 US\n• +1 312 626 6799 US (Chicago)\n• +1 360 209 5623 US\n• +1 386 347 5053 US\n• +1 507 473 4847 US\n• +1 564 217 2000 US\n• +1 669 444 9171 US\n• +1 669 900 6833 US (San Jose)\n• +1 689 278 1000 US\n• +1 719 359 4580 US\n• +1 253 205 0468 US\n• +1 253 215 8782 US (Tacoma)\n• +1 346 248 7799 US (Houston) \nMeeting ID: 874 5049 0256\nPasscode: 901494 \nFind your local number: https://us06web.zoom.us/u/kbSt94FJ1i
URL:https://sugarfreemomtribe.com/event/weekly-midday-check-in-2-2-2-2/2028-01-18/
LOCATION:Zoom
END:VEVENT
BEGIN:VEVENT
DTSTART;TZID=America/New_York:20280119T190000
DTEND;TZID=America/New_York:20280119T200000
DTSTAMP:20260420T164946
CREATED:20240404T165658Z
LAST-MODIFIED:20251206T133232Z
UID:10000490-1831921200-1831924800@sugarfreemomtribe.com
SUMMARY:Weekly Coaching with Brenda
DESCRIPTION:https://zoom.us/j/97447023403?pwd=T1dxQ0VJNGlBSVBUTUM1VFppNzFHUT09
URL:https://sugarfreemomtribe.com/event/weekly-coaching-with-brenda-2-2/2028-01-19/
LOCATION:Zoom
END:VEVENT
BEGIN:VEVENT
DTSTART;TZID=America/New_York:20280120T190000
DTEND;TZID=America/New_York:20280120T200000
DTSTAMP:20260420T164946
CREATED:20250929T104725Z
LAST-MODIFIED:20251030T162352Z
UID:10002270-1832007600-1832011200@sugarfreemomtribe.com
SUMMARY:Maintenance & Accountability Meeting
DESCRIPTION:https://us06web.zoom.us/j/83833319167?pwd=teWDbxvH1qAlws5WKfGYq4GgtFQdrh.1 \nFirst Thursday – Maintenance is the focus\, but all are welcome for accountability. Recorded.\nSubsequent Thursdays –  Accountability is the focus. Not recorded.\n 
URL:https://sugarfreemomtribe.com/event/maintenance-accountability-meeting/2028-01-20/
LOCATION:Zoom
END:VEVENT
BEGIN:VEVENT
DTSTART;TZID=America/New_York:20280124T200000
DTEND;TZID=America/New_York:20280124T210000
DTSTAMP:20260420T164946
CREATED:20260408T080959Z
LAST-MODIFIED:20260408T080959Z
UID:10002590-1832356800-1832360400@sugarfreemomtribe.com
SUMMARY:Accountability Meeting with Angie
DESCRIPTION:Join Zoom Meeting\nhttps://us06web.zoom.us/j/83335715890?pwd=0vXdy517DUdrn6BHsn6Ebe1kJdaixM.1 \nMeeting ID: 833 3571 5890\nPasscode: 554575 \n— \nOne tap mobile\n+13092053325\,\,83335715890#\,\,\,\,*554575# US\n+13126266799\,\,83335715890#\,\,\,\,*554575# US (Chicago) \n— \nDial by your location\n• +1 309 205 3325 US\n• +1 312 626 6799 US (Chicago)\n• +1 646 931 3860 US\n• +1 929 205 6099 US (New York)\n• +1 301 715 8592 US (Washington DC)\n• +1 305 224 1968 US\n• +1 346 248 7799 US (Houston)\n• +1 360 209 5623 US\n• +1 386 347 5053 US\n• +1 507 473 4847 US\n• +1 564 217 2000 US\n• +1 669 444 9171 US\n• +1 669 900 6833 US (San Jose)\n• +1 689 278 1000 US\n• +1 719 359 4580 US\n• +1 253 205 0468 US\n• +1 253 215 8782 US (Tacoma) \nMeeting ID: 833 3571 5890\nPasscode: 554575 \nFind your local number: https://us06web.zoom.us/u/kbtIDhXjf
URL:https://sugarfreemomtribe.com/event/accountability-meeting-with-angie-2-2-2-3-2-3/2028-01-24/
LOCATION:Zoom
END:VEVENT
BEGIN:VEVENT
DTSTART;TZID=America/New_York:20280125T120000
DTEND;TZID=America/New_York:20280125T123000
DTSTAMP:20260420T164946
CREATED:20260410T155131Z
LAST-MODIFIED:20260410T155131Z
UID:10002852-1832414400-1832416200@sugarfreemomtribe.com
SUMMARY:Weekly Midday Check-in
DESCRIPTION:Join Zoom Meeting\nhttps://us06web.zoom.us/j/87450490256?pwd=F6S73gtFtF9nBtPDinqGjf5I3MhN5c.1 \nMeeting ID: 874 5049 0256\nPasscode: 901494 \n— \nOne tap mobile\n+16469313860\,\,87450490256#\,\,\,\,*901494# US\n+19292056099\,\,87450490256#\,\,\,\,*901494# US (New York) \n— \nDial by your location\n• +1 646 931 3860 US\n• +1 929 205 6099 US (New York)\n• +1 301 715 8592 US (Washington DC)\n• +1 305 224 1968 US\n• +1 309 205 3325 US\n• +1 312 626 6799 US (Chicago)\n• +1 360 209 5623 US\n• +1 386 347 5053 US\n• +1 507 473 4847 US\n• +1 564 217 2000 US\n• +1 669 444 9171 US\n• +1 669 900 6833 US (San Jose)\n• +1 689 278 1000 US\n• +1 719 359 4580 US\n• +1 253 205 0468 US\n• +1 253 215 8782 US (Tacoma)\n• +1 346 248 7799 US (Houston) \nMeeting ID: 874 5049 0256\nPasscode: 901494 \nFind your local number: https://us06web.zoom.us/u/kbSt94FJ1i
URL:https://sugarfreemomtribe.com/event/weekly-midday-check-in-2-2-2-2/2028-01-25/
LOCATION:Zoom
END:VEVENT
BEGIN:VEVENT
DTSTART;TZID=America/New_York:20280126T190000
DTEND;TZID=America/New_York:20280126T200000
DTSTAMP:20260420T164946
CREATED:20240404T165658Z
LAST-MODIFIED:20251206T133232Z
UID:10000491-1832526000-1832529600@sugarfreemomtribe.com
SUMMARY:Weekly Coaching with Brenda
DESCRIPTION:https://zoom.us/j/97447023403?pwd=T1dxQ0VJNGlBSVBUTUM1VFppNzFHUT09
URL:https://sugarfreemomtribe.com/event/weekly-coaching-with-brenda-2-2/2028-01-26/
LOCATION:Zoom
END:VEVENT
BEGIN:VEVENT
DTSTART;TZID=America/New_York:20280127T190000
DTEND;TZID=America/New_York:20280127T200000
DTSTAMP:20260420T164946
CREATED:20250929T104725Z
LAST-MODIFIED:20251030T162352Z
UID:10002271-1832612400-1832616000@sugarfreemomtribe.com
SUMMARY:Maintenance & Accountability Meeting
DESCRIPTION:https://us06web.zoom.us/j/83833319167?pwd=teWDbxvH1qAlws5WKfGYq4GgtFQdrh.1 \nFirst Thursday – Maintenance is the focus\, but all are welcome for accountability. Recorded.\nSubsequent Thursdays –  Accountability is the focus. Not recorded.\n 
URL:https://sugarfreemomtribe.com/event/maintenance-accountability-meeting/2028-01-27/
LOCATION:Zoom
END:VEVENT
BEGIN:VEVENT
DTSTART;TZID=America/New_York:20280131T200000
DTEND;TZID=America/New_York:20280131T210000
DTSTAMP:20260420T164946
CREATED:20260408T080959Z
LAST-MODIFIED:20260408T080959Z
UID:10002591-1832961600-1832965200@sugarfreemomtribe.com
SUMMARY:Accountability Meeting with Angie
DESCRIPTION:Join Zoom Meeting\nhttps://us06web.zoom.us/j/83335715890?pwd=0vXdy517DUdrn6BHsn6Ebe1kJdaixM.1 \nMeeting ID: 833 3571 5890\nPasscode: 554575 \n— \nOne tap mobile\n+13092053325\,\,83335715890#\,\,\,\,*554575# US\n+13126266799\,\,83335715890#\,\,\,\,*554575# US (Chicago) \n— \nDial by your location\n• +1 309 205 3325 US\n• +1 312 626 6799 US (Chicago)\n• +1 646 931 3860 US\n• +1 929 205 6099 US (New York)\n• +1 301 715 8592 US (Washington DC)\n• +1 305 224 1968 US\n• +1 346 248 7799 US (Houston)\n• +1 360 209 5623 US\n• +1 386 347 5053 US\n• +1 507 473 4847 US\n• +1 564 217 2000 US\n• +1 669 444 9171 US\n• +1 669 900 6833 US (San Jose)\n• +1 689 278 1000 US\n• +1 719 359 4580 US\n• +1 253 205 0468 US\n• +1 253 215 8782 US (Tacoma) \nMeeting ID: 833 3571 5890\nPasscode: 554575 \nFind your local number: https://us06web.zoom.us/u/kbtIDhXjf
URL:https://sugarfreemomtribe.com/event/accountability-meeting-with-angie-2-2-2-3-2-3/2028-01-31/
LOCATION:Zoom
END:VEVENT
END:VCALENDAR